BEGIN:VCALENDAR
VERSION:2.0
PRODID:-//EZFacility.com, Inc.//EZL 2.5.5.28621
BEGIN:VEVENT
UID:14993859@ezleagues.ezfacility.com
DTSTAMP:20260424T044311Z
CREATED:20260424T044311Z
DTSTART:20230326T183000Z
DTEND:20230326T193000Z
LOCATION:Creekside Middle School F-3
CONTACT:
SUMMARY:Barca  VS. Madrid
DESCRIPTION:League Name: Gold Youth League\nGame Type: Regular\nGame Status
 : Complete\nHome Team: Barca \nAway Team: Madrid\nHome Score: 4\nAway Scor
 e: 6
END:VEVENT
BEGIN:VEVENT
UID:14998322@ezleagues.ezfacility.com
DTSTAMP:20260424T044311Z
CREATED:20260424T044311Z
DTSTART:20230331T010000Z
DTEND:20230331T020000Z
LOCATION:Creekside Middle School F-3
CONTACT:
SUMMARY:Madrid VS. All Stars
DESCRIPTION:League Name: Gold Youth League\nGame Type: Regular\nGame Status
 : Complete\nHome Team: Madrid\nAway Team: All Stars\nHome Score: 5\nAway S
 core: 10
END:VEVENT
BEGIN:VEVENT
UID:14998320@ezleagues.ezfacility.com
DTSTAMP:20260424T044311Z
CREATED:20260424T044311Z
DTSTART:20230402T183000Z
DTEND:20230402T192500Z
LOCATION:Creekside Middle School F-3
CONTACT:
SUMMARY:Galaxy VS. Madrid
DESCRIPTION:League Name: Gold Youth League\nGame Type: Regular\nGame Status
 : Complete\nHome Team: Galaxy\nAway Team: Madrid\nHome Score: 2\nAway Scor
 e: 6
END:VEVENT
BEGIN:VEVENT
UID:14998324@ezleagues.ezfacility.com
DTSTAMP:20260424T044311Z
CREATED:20260424T044311Z
DTSTART:20230408T000000Z
DTEND:20230408T005500Z
LOCATION:Creekside Middle School F-3
CONTACT:
SUMMARY:Madrid VS. Barca 
DESCRIPTION:League Name: Gold Youth League\nGame Type: Regular\nGame Status
 : Complete\nHome Team: Madrid\nAway Team: Barca \nHome Score: 7\nAway Scor
 e: 4
END:VEVENT
BEGIN:VEVENT
UID:14998325@ezleagues.ezfacility.com
DTSTAMP:20260424T044311Z
CREATED:20260424T044311Z
DTSTART:20230414T005500Z
DTEND:20230414T015000Z
LOCATION:Patterson Indoor Soccer
CONTACT:
SUMMARY:All Stars VS. Madrid
DESCRIPTION:League Name: Gold Youth League\nGame Type: Regular\nGame Status
 : Complete\nHome Team: All Stars\nAway Team: Madrid\nHome Score: 11\nAway 
 Score: 2
END:VEVENT
BEGIN:VEVENT
UID:14998328@ezleagues.ezfacility.com
DTSTAMP:20260424T044311Z
CREATED:20260424T044311Z
DTSTART:20230416T183000Z
DTEND:20230416T193000Z
LOCATION:Creekside Middle School F-3
CONTACT:
SUMMARY:Madrid VS. Galaxy
DESCRIPTION:League Name: Gold Youth League\nGame Type: Regular\nGame Status
 : Complete\nHome Team: Madrid\nAway Team: Galaxy\nHome Score: 6\nAway Scor
 e: 3
END:VEVENT
BEGIN:VEVENT
UID:14998329@ezleagues.ezfacility.com
DTSTAMP:20260424T044311Z
CREATED:20260424T044311Z
DTSTART:20230421T000000Z
DTEND:20230421T010000Z
LOCATION:Patterson Indoor Soccer
CONTACT:
SUMMARY:Barca  VS. Madrid
DESCRIPTION:League Name: Gold Youth League\nGame Type: Regular\nGame Status
 : Complete\nHome Team: Barca \nAway Team: Madrid\nHome Score: 9\nAway Scor
 e: 7
END:VEVENT
BEGIN:VEVENT
UID:14998333@ezleagues.ezfacility.com
DTSTAMP:20260424T044311Z
CREATED:20260424T044311Z
DTSTART:20230423T183000Z
DTEND:20230423T193000Z
LOCATION:Creekside Middle School F-3
CONTACT:
SUMMARY:Madrid VS. All Stars
DESCRIPTION:League Name: Gold Youth League\nGame Type: Regular\nGame Status
 : Complete\nHome Team: Madrid\nAway Team: All Stars\nHome Score: 7\nAway S
 core: 9
END:VEVENT
BEGIN:VEVENT
UID:15040217@ezleagues.ezfacility.com
DTSTAMP:20260424T044311Z
CREATED:20260424T044311Z
DTSTART:20230430T180000Z
DTEND:20230430T190000Z
LOCATION:Creekside Middle School F-3
CONTACT:
SUMMARY:Madrid VS. Barca 
DESCRIPTION:League Name: Gold Youth League\nGame Type: Regular\nGame Status
 : Pending\nHome Team: Madrid\nAway Team: Barca \n
END:VEVENT
END:VCALENDAR
