BEGIN:VCALENDAR
VERSION:2.0
PRODID:-//EZFacility.com, Inc.//EZL 2.5.5.28621
BEGIN:VEVENT
UID:15003410@ezleagues.ezfacility.com
DTSTAMP:20260421T031143Z
CREATED:20260421T031143Z
DTSTART:20230425T031500Z
DTEND:20230425T041500Z
LOCATION:Field 3
CONTACT:
SUMMARY:Los MexiCANS VS. Luana's Coffee and Beer
DESCRIPTION:League Name: S2 Mon Rec Coed Lite- Apr 3, 2023\nGame Type: Regu
 lar\nGame Status: Complete\nHome Team: Los MexiCANS\nAway Team: Luana's Co
 ffee and Beer\nHome Score: 12\nAway Score: 7
END:VEVENT
BEGIN:VEVENT
UID:15003411@ezleagues.ezfacility.com
DTSTAMP:20260421T031143Z
CREATED:20260421T031143Z
DTSTART:20230425T041500Z
DTEND:20230425T051500Z
LOCATION:Field 3
CONTACT:
SUMMARY:Luana's Coffee and Beer VS. Los MexiCANS
DESCRIPTION:League Name: S2 Mon Rec Coed Lite- Apr 3, 2023\nGame Type: Regu
 lar\nGame Status: Complete\nHome Team: Luana's Coffee and Beer\nAway Team:
  Los MexiCANS\nHome Score: 16\nAway Score: 14
END:VEVENT
BEGIN:VEVENT
UID:15003422@ezleagues.ezfacility.com
DTSTAMP:20260421T031143Z
CREATED:20260421T031143Z
DTSTART:20230502T031500Z
DTEND:20230502T041500Z
LOCATION:Field 1
CONTACT:
SUMMARY:FireBalls VS. Luana's Coffee and Beer
DESCRIPTION:League Name: S2 Mon Rec Coed Lite- Apr 3, 2023\nGame Type: Regu
 lar\nGame Status: Complete\nHome Team: FireBalls\nAway Team: Luana's Coffe
 e and Beer\nHome Score: 5\nAway Score: 28
END:VEVENT
BEGIN:VEVENT
UID:15003423@ezleagues.ezfacility.com
DTSTAMP:20260421T031143Z
CREATED:20260421T031143Z
DTSTART:20230502T041500Z
DTEND:20230502T051500Z
LOCATION:Field 1
CONTACT:
SUMMARY:Luana's Coffee and Beer VS. FireBalls
DESCRIPTION:League Name: S2 Mon Rec Coed Lite- Apr 3, 2023\nGame Type: Regu
 lar\nGame Status: Complete\nHome Team: Luana's Coffee and Beer\nAway Team:
  FireBalls\nHome Score: 17\nAway Score: 7
END:VEVENT
BEGIN:VEVENT
UID:15003434@ezleagues.ezfacility.com
DTSTAMP:20260421T031143Z
CREATED:20260421T031143Z
DTSTART:20230509T031500Z
DTEND:20230509T041500Z
LOCATION:Field 2
CONTACT:
SUMMARY:Local 918 VS. Luana's Coffee and Beer
DESCRIPTION:League Name: S2 Mon Rec Coed Lite- Apr 3, 2023\nGame Type: Regu
 lar\nGame Status: Complete\nHome Team: Local 918\nAway Team: Luana's Coffe
 e and Beer\nHome Score: 11\nAway Score: 19
END:VEVENT
BEGIN:VEVENT
UID:15003435@ezleagues.ezfacility.com
DTSTAMP:20260421T031143Z
CREATED:20260421T031143Z
DTSTART:20230509T041500Z
DTEND:20230509T051500Z
LOCATION:Field 2
CONTACT:
SUMMARY:Luana's Coffee and Beer VS. Local 918
DESCRIPTION:League Name: S2 Mon Rec Coed Lite- Apr 3, 2023\nGame Type: Regu
 lar\nGame Status: Complete\nHome Team: Luana's Coffee and Beer\nAway Team:
  Local 918\nHome Score: 19\nAway Score: 7
END:VEVENT
BEGIN:VEVENT
UID:15003446@ezleagues.ezfacility.com
DTSTAMP:20260421T031143Z
CREATED:20260421T031143Z
DTSTART:20230516T011500Z
DTEND:20230516T021500Z
LOCATION:Field 3
CONTACT:
SUMMARY:Los MexiCANS VS. Luana's Coffee and Beer
DESCRIPTION:League Name: S2 Mon Rec Coed Lite- Apr 3, 2023\nGame Type: Regu
 lar\nGame Status: Complete\nHome Team: Los MexiCANS\nAway Team: Luana's Co
 ffee and Beer\nHome Score: 13\nAway Score: 9
END:VEVENT
BEGIN:VEVENT
UID:15003447@ezleagues.ezfacility.com
DTSTAMP:20260421T031143Z
CREATED:20260421T031143Z
DTSTART:20230516T021500Z
DTEND:20230516T031500Z
LOCATION:Field 3
CONTACT:
SUMMARY:Luana's Coffee and Beer VS. Los MexiCANS
DESCRIPTION:League Name: S2 Mon Rec Coed Lite- Apr 3, 2023\nGame Type: Regu
 lar\nGame Status: Complete\nHome Team: Luana's Coffee and Beer\nAway Team:
  Los MexiCANS\nHome Score: 8\nAway Score: 17
END:VEVENT
BEGIN:VEVENT
UID:15073484@ezleagues.ezfacility.com
DTSTAMP:20260421T031143Z
CREATED:20260421T031143Z
DTSTART:20230523T011500Z
DTEND:20230523T021500Z
LOCATION:Field 2
CONTACT:
SUMMARY:Local 918 VS. Luana's Coffee and Beer
DESCRIPTION:League Name: S2 Mon Rec Coed Lite- Apr 3, 2023\nGame Type: Post
 season\nGame Status: Complete\nHome Team: Local 918\nAway Team: Luana's Co
 ffee and Beer\nHome Score: 6\nAway Score: 20
END:VEVENT
END:VCALENDAR
