BEGIN:VCALENDAR
VERSION:2.0
PRODID:-//EZFacility.com, Inc.//EZL 2.5.5.28621
BEGIN:VEVENT
UID:15009368@ezleagues.ezfacility.com
DTSTAMP:20260424T043924Z
CREATED:20260424T043924Z
DTSTART:20230413T030000Z
DTEND:20230413T040000Z
LOCATION:Arena
CONTACT:
SUMMARY:Athletic Club VS. Bloke's F.C
DESCRIPTION:League Name: Men's B Arena Soccer - Spring 2023\nGame Type: Reg
 ular\nGame Status: Complete\nHome Team: Athletic Club\nAway Team: Bloke's 
 F.C\nHome Score: 5\nAway Score: 2
END:VEVENT
BEGIN:VEVENT
UID:15009374@ezleagues.ezfacility.com
DTSTAMP:20260424T043924Z
CREATED:20260424T043924Z
DTSTART:20230420T020000Z
DTEND:20230420T030000Z
LOCATION:Arena
CONTACT:
SUMMARY:Athletic Club VS. Deportivo Ingles
DESCRIPTION:League Name: Men's B Arena Soccer - Spring 2023\nGame Type: Reg
 ular\nGame Status: Complete\nHome Team: Athletic Club\nAway Team: Deportiv
 o Ingles\nHome Score: 4\nAway Score: 6
END:VEVENT
BEGIN:VEVENT
UID:15009385@ezleagues.ezfacility.com
DTSTAMP:20260424T043924Z
CREATED:20260424T043924Z
DTSTART:20230429T020000Z
DTEND:20230429T030000Z
LOCATION:Arena
CONTACT:
SUMMARY:Athletic Club VS. Fallbrook Boyz
DESCRIPTION:League Name: Men's B Arena Soccer - Spring 2023\nGame Type: Reg
 ular\nGame Status: Complete\nHome Team: Athletic Club\nAway Team: Fallbroo
 k Boyz\nHome Score: 7\nAway Score: 2
END:VEVENT
BEGIN:VEVENT
UID:15009393@ezleagues.ezfacility.com
DTSTAMP:20260424T043924Z
CREATED:20260424T043924Z
DTSTART:20230506T010000Z
DTEND:20230506T020000Z
LOCATION:Arena
CONTACT:
SUMMARY:Athletic Club VS. La Maquina
DESCRIPTION:League Name: Men's B Arena Soccer - Spring 2023\nGame Type: Reg
 ular\nGame Status: Complete\nHome Team: Athletic Club\nAway Team: La Maqui
 na\nHome Score: 3\nAway Score: 6
END:VEVENT
BEGIN:VEVENT
UID:15009416@ezleagues.ezfacility.com
DTSTAMP:20260424T043924Z
CREATED:20260424T043924Z
DTSTART:20230525T010000Z
DTEND:20230525T020000Z
LOCATION:Arena
CONTACT:
SUMMARY:Roofix VS. Athletic Club
DESCRIPTION:League Name: Men's B Arena Soccer - Spring 2023\nGame Type: Reg
 ular\nGame Status: Complete\nHome Team: Roofix\nAway Team: Athletic Club\n
 Home Score: 5\nAway Score: 5
END:VEVENT
BEGIN:VEVENT
UID:15009424@ezleagues.ezfacility.com
DTSTAMP:20260424T043924Z
CREATED:20260424T043924Z
DTSTART:20230601T030000Z
DTEND:20230601T040000Z
LOCATION:Arena
CONTACT:
SUMMARY:Trabajadores VS. Athletic Club
DESCRIPTION:League Name: Men's B Arena Soccer - Spring 2023\nGame Type: Reg
 ular\nGame Status: Complete\nHome Team: Trabajadores\nAway Team: Athletic 
 Club\nHome Score: 1\nAway Score: 12
END:VEVENT
BEGIN:VEVENT
UID:15009433@ezleagues.ezfacility.com
DTSTAMP:20260424T043924Z
CREATED:20260424T043924Z
DTSTART:20230610T020000Z
DTEND:20230610T030000Z
LOCATION:Arena
CONTACT:
SUMMARY:Queretero VS. Athletic Club
DESCRIPTION:League Name: Men's B Arena Soccer - Spring 2023\nGame Type: Reg
 ular\nGame Status: Complete\nHome Team: Queretero\nAway Team: Athletic Clu
 b\nHome Score: 11\nAway Score: 1
END:VEVENT
BEGIN:VEVENT
UID:15009442@ezleagues.ezfacility.com
DTSTAMP:20260424T043924Z
CREATED:20260424T043924Z
DTSTART:20230615T010000Z
DTEND:20230615T020000Z
LOCATION:Arena
CONTACT:
SUMMARY:Athletic Club VS. Los Plebes
DESCRIPTION:League Name: Men's B Arena Soccer - Spring 2023\nGame Type: Reg
 ular\nGame Status: Complete\nHome Team: Athletic Club\nAway Team: Los Pleb
 es\nHome Score: 3\nAway Score: 1
END:VEVENT
BEGIN:VEVENT
UID:15009441@ezleagues.ezfacility.com
DTSTAMP:20260424T043924Z
CREATED:20260424T043924Z
DTSTART:20230617T010000Z
DTEND:20230617T020000Z
LOCATION:Arena
CONTACT:
SUMMARY:Mean Machines VS. Athletic Club
DESCRIPTION:League Name: Men's B Arena Soccer - Spring 2023\nGame Type: Reg
 ular\nGame Status: Complete\nHome Team: Mean Machines\nAway Team: Athletic
  Club\nHome Score: 3\nAway Score: 4
END:VEVENT
BEGIN:VEVENT
UID:15009399@ezleagues.ezfacility.com
DTSTAMP:20260424T043924Z
CREATED:20260424T043924Z
DTSTART:20230622T020000Z
DTEND:20230622T030000Z
LOCATION:Arena
CONTACT:
SUMMARY:Athletic Club VS. Los Tigres de Fallbrook
DESCRIPTION:League Name: Men's B Arena Soccer - Spring 2023\nGame Type: Reg
 ular\nGame Status: Complete\nHome Team: Athletic Club\nAway Team: Los Tigr
 es de Fallbrook\nHome Score: 14\nAway Score: 3
END:VEVENT
BEGIN:VEVENT
UID:15120992@ezleagues.ezfacility.com
DTSTAMP:20260424T043924Z
CREATED:20260424T043924Z
DTSTART:20230624T040000Z
DTEND:20230624T050000Z
LOCATION:Arena
CONTACT:
SUMMARY:Roofix VS. Athletic Club
DESCRIPTION:League Name: Men's B Arena Soccer - Spring 2023\nGame Type: Pos
 tseason\nGame Status: Complete\nHome Team: Roofix\nAway Team: Athletic Clu
 b\nHome Score: 0\nAway Score: 3
END:VEVENT
BEGIN:VEVENT
UID:15121010@ezleagues.ezfacility.com
DTSTAMP:20260424T043924Z
CREATED:20260424T043924Z
DTSTART:20230701T020000Z
DTEND:20230701T030000Z
LOCATION:Arena
CONTACT:
SUMMARY:La Maquina VS. Athletic Club
DESCRIPTION:League Name: Men's B Arena Soccer - Spring 2023\nGame Type: Pos
 tseason\nGame Status: Complete\nHome Team: La Maquina\nAway Team: Athletic
  Club\nHome Score: 5\nAway Score: 2
END:VEVENT
END:VCALENDAR
