BEGIN:VCALENDAR
VERSION:2.0
PRODID:-//EZFacility.com, Inc.//EZL 2.5.5.28621
BEGIN:VEVENT
UID:15009365@ezleagues.ezfacility.com
DTSTAMP:20260419T220502Z
CREATED:20260419T220502Z
DTSTART:20230415T030000Z
DTEND:20230415T040000Z
LOCATION:Arena
CONTACT:
SUMMARY:Inter VS. Los Tigres de Fallbrook
DESCRIPTION:League Name: Men's B Arena Soccer - Spring 2023\nGame Type: Reg
 ular\nGame Status: Complete\nHome Team: Inter\nAway Team: Los Tigres de Fa
 llbrook\nHome Score: 6\nAway Score: 1
END:VEVENT
BEGIN:VEVENT
UID:15009373@ezleagues.ezfacility.com
DTSTAMP:20260419T220502Z
CREATED:20260419T220502Z
DTSTART:20230422T030000Z
DTEND:20230422T040000Z
LOCATION:Arena
CONTACT:
SUMMARY:Inter VS. Roofix
DESCRIPTION:League Name: Men's B Arena Soccer - Spring 2023\nGame Type: Reg
 ular\nGame Status: Complete\nHome Team: Inter\nAway Team: Roofix\nHome Sco
 re: 9\nAway Score: 6
END:VEVENT
BEGIN:VEVENT
UID:15009381@ezleagues.ezfacility.com
DTSTAMP:20260419T220502Z
CREATED:20260419T220502Z
DTSTART:20230429T030000Z
DTEND:20230429T040000Z
LOCATION:Arena
CONTACT:
SUMMARY:Inter VS. Queretero
DESCRIPTION:League Name: Men's B Arena Soccer - Spring 2023\nGame Type: Reg
 ular\nGame Status: Complete\nHome Team: Inter\nAway Team: Queretero\nHome 
 Score: 3\nAway Score: 1
END:VEVENT
BEGIN:VEVENT
UID:15009389@ezleagues.ezfacility.com
DTSTAMP:20260419T220502Z
CREATED:20260419T220502Z
DTSTART:20230506T030000Z
DTEND:20230506T040000Z
LOCATION:Arena
CONTACT:
SUMMARY:Inter VS. Los Plebes
DESCRIPTION:League Name: Men's B Arena Soccer - Spring 2023\nGame Type: Reg
 ular\nGame Status: Complete\nHome Team: Inter\nAway Team: Los Plebes\nHome
  Score: 3\nAway Score: 6
END:VEVENT
BEGIN:VEVENT
UID:15009405@ezleagues.ezfacility.com
DTSTAMP:20260419T220502Z
CREATED:20260419T220502Z
DTSTART:20230520T030000Z
DTEND:20230520T040000Z
LOCATION:Arena
CONTACT:
SUMMARY:Inter VS. B-B-C F.C.
DESCRIPTION:League Name: Men's B Arena Soccer - Spring 2023\nGame Type: Reg
 ular\nGame Status: Complete\nHome Team: Inter\nAway Team: B-B-C F.C.\nHome
  Score: 2\nAway Score: 9
END:VEVENT
BEGIN:VEVENT
UID:15009413@ezleagues.ezfacility.com
DTSTAMP:20260419T220502Z
CREATED:20260419T220502Z
DTSTART:20230527T030000Z
DTEND:20230527T040000Z
LOCATION:Arena
CONTACT:
SUMMARY:Deportivo Ingles VS. Inter
DESCRIPTION:League Name: Men's B Arena Soccer - Spring 2023\nGame Type: Reg
 ular\nGame Status: Complete\nHome Team: Deportivo Ingles\nAway Team: Inter
 \nHome Score: 10\nAway Score: 4
END:VEVENT
BEGIN:VEVENT
UID:15009421@ezleagues.ezfacility.com
DTSTAMP:20260419T220502Z
CREATED:20260419T220502Z
DTSTART:20230603T030000Z
DTEND:20230603T040000Z
LOCATION:Arena
CONTACT:
SUMMARY:La Maquina VS. Inter
DESCRIPTION:League Name: Men's B Arena Soccer - Spring 2023\nGame Type: Reg
 ular\nGame Status: Complete\nHome Team: La Maquina\nAway Team: Inter\nHome
  Score: 8\nAway Score: 1
END:VEVENT
BEGIN:VEVENT
UID:15009429@ezleagues.ezfacility.com
DTSTAMP:20260419T220502Z
CREATED:20260419T220502Z
DTSTART:20230610T030000Z
DTEND:20230610T040000Z
LOCATION:Arena
CONTACT:
SUMMARY:Mean Machines VS. Inter
DESCRIPTION:League Name: Men's B Arena Soccer - Spring 2023\nGame Type: Reg
 ular\nGame Status: Complete\nHome Team: Mean Machines\nAway Team: Inter\nH
 ome Score: 6\nAway Score: 1
END:VEVENT
BEGIN:VEVENT
UID:15009437@ezleagues.ezfacility.com
DTSTAMP:20260419T220502Z
CREATED:20260419T220502Z
DTSTART:20230617T030000Z
DTEND:20230617T040000Z
LOCATION:Arena
CONTACT:
SUMMARY:Trabajadores VS. Inter
DESCRIPTION:League Name: Men's B Arena Soccer - Spring 2023\nGame Type: Reg
 ular\nGame Status: Complete\nHome Team: Trabajadores\nAway Team: Inter\nHo
 me Score: 7\nAway Score: 9
END:VEVENT
BEGIN:VEVENT
UID:15009397@ezleagues.ezfacility.com
DTSTAMP:20260419T220502Z
CREATED:20260419T220502Z
DTSTART:20230622T030000Z
DTEND:20230622T040000Z
LOCATION:Arena
CONTACT:
SUMMARY:Deportivo La Capellania VS. Inter
DESCRIPTION:League Name: Men's B Arena Soccer - Spring 2023\nGame Type: Reg
 ular\nGame Status: Complete\nHome Team: Deportivo La Capellania\nAway Team
 : Inter\nHome Score: 2\nAway Score: 7
END:VEVENT
BEGIN:VEVENT
UID:15120989@ezleagues.ezfacility.com
DTSTAMP:20260419T220502Z
CREATED:20260419T220502Z
DTSTART:20230624T030000Z
DTEND:20230624T040000Z
LOCATION:Arena
CONTACT:
SUMMARY:Deportivo Ingles VS. Inter
DESCRIPTION:League Name: Men's B Arena Soccer - Spring 2023\nGame Type: Pos
 tseason\nGame Status: Complete\nHome Team: Deportivo Ingles\nAway Team: In
 ter\nHome Score: 6\nAway Score: 4
END:VEVENT
END:VCALENDAR
