BEGIN:VCALENDAR
VERSION:2.0
PRODID:-//EZFacility.com, Inc.//EZL 2.5.5.28621
BEGIN:VEVENT
UID:15024277@ezleagues.ezfacility.com
DTSTAMP:20260426T033847Z
CREATED:20260426T033847Z
DTSTART:20230414T011500Z
DTEND:20230414T021500Z
LOCATION:West Rink
CONTACT:
SUMMARY:BLACK VS. GREEN
DESCRIPTION:League Name: OVER 45 League\nGame Type: Regular\nGame Status: C
 omplete\nHome Team: BLACK\nAway Team: GREEN\nHome Score: 1\nAway Score: 0
END:VEVENT
BEGIN:VEVENT
UID:15024282@ezleagues.ezfacility.com
DTSTAMP:20260426T033847Z
CREATED:20260426T033847Z
DTSTART:20230421T000000Z
DTEND:20230421T010000Z
LOCATION:West Rink
CONTACT:
SUMMARY:BLACK VS. WHITE
DESCRIPTION:League Name: OVER 45 League\nGame Type: Regular\nGame Status: C
 omplete\nHome Team: BLACK\nAway Team: WHITE\nHome Score: 5\nAway Score: 2
END:VEVENT
BEGIN:VEVENT
UID:15024286@ezleagues.ezfacility.com
DTSTAMP:20260426T033847Z
CREATED:20260426T033847Z
DTSTART:20230428T023000Z
DTEND:20230428T033000Z
LOCATION:West Rink
CONTACT:
SUMMARY:YELLOW VS. BLACK
DESCRIPTION:League Name: OVER 45 League\nGame Type: Regular\nGame Status: C
 omplete\nHome Team: YELLOW\nAway Team: BLACK\nHome Score: 5\nAway Score: 3
END:VEVENT
BEGIN:VEVENT
UID:15024289@ezleagues.ezfacility.com
DTSTAMP:20260426T033847Z
CREATED:20260426T033847Z
DTSTART:20230505T011500Z
DTEND:20230505T021500Z
LOCATION:West Rink
CONTACT:
SUMMARY:ORANGE VS. BLACK
DESCRIPTION:League Name: OVER 45 League\nGame Type: Regular\nGame Status: C
 omplete\nHome Team: ORANGE\nAway Team: BLACK\nHome Score: 3\nAway Score: 4
END:VEVENT
BEGIN:VEVENT
UID:15024292@ezleagues.ezfacility.com
DTSTAMP:20260426T033847Z
CREATED:20260426T033847Z
DTSTART:20230512T011500Z
DTEND:20230512T021500Z
LOCATION:West Rink
CONTACT:
SUMMARY:RED VS. BLACK
DESCRIPTION:League Name: OVER 45 League\nGame Type: Regular\nGame Status: C
 omplete\nHome Team: RED\nAway Team: BLACK\nHome Score: 8\nAway Score: 1
END:VEVENT
BEGIN:VEVENT
UID:15024295@ezleagues.ezfacility.com
DTSTAMP:20260426T033847Z
CREATED:20260426T033847Z
DTSTART:20230519T023000Z
DTEND:20230519T033000Z
LOCATION:East Rink
CONTACT:
SUMMARY:BLUE VS. BLACK
DESCRIPTION:League Name: OVER 45 League\nGame Type: Regular\nGame Status: C
 omplete\nHome Team: BLUE\nAway Team: BLACK\nHome Score: 3\nAway Score: 5
END:VEVENT
BEGIN:VEVENT
UID:15024300@ezleagues.ezfacility.com
DTSTAMP:20260426T033847Z
CREATED:20260426T033847Z
DTSTART:20230526T011500Z
DTEND:20230526T021500Z
LOCATION:East Rink
CONTACT:
SUMMARY:BLACK VS. GRAY
DESCRIPTION:League Name: OVER 45 League\nGame Type: Regular\nGame Status: C
 omplete\nHome Team: BLACK\nAway Team: GRAY\nHome Score: 5\nAway Score: 3
END:VEVENT
BEGIN:VEVENT
UID:15056763@ezleagues.ezfacility.com
DTSTAMP:20260426T033847Z
CREATED:20260426T033847Z
DTSTART:20230602T023000Z
DTEND:20230602T033000Z
LOCATION:East Rink
CONTACT:
SUMMARY:BLACK VS. GREEN
DESCRIPTION:League Name: OVER 45 League\nGame Type: Regular\nGame Status: C
 omplete\nHome Team: BLACK\nAway Team: GREEN\nHome Score: 2\nAway Score: 7
END:VEVENT
BEGIN:VEVENT
UID:15097909@ezleagues.ezfacility.com
DTSTAMP:20260426T033847Z
CREATED:20260426T033847Z
DTSTART:20230609T011500Z
DTEND:20230609T021500Z
LOCATION:West Rink
CONTACT:
SUMMARY:BLACK VS. WHITE
DESCRIPTION:League Name: OVER 45 League\nGame Type: Regular\nGame Status: C
 omplete\nHome Team: BLACK\nAway Team: WHITE\nHome Score: 3\nAway Score: 8
END:VEVENT
BEGIN:VEVENT
UID:15107877@ezleagues.ezfacility.com
DTSTAMP:20260426T033847Z
CREATED:20260426T033847Z
DTSTART:20230616T020000Z
DTEND:20230616T030000Z
LOCATION:West Rink
CONTACT:
SUMMARY:YELLOW VS. BLACK
DESCRIPTION:League Name: OVER 45 League\nGame Type: Regular\nGame Status: C
 omplete\nHome Team: YELLOW\nAway Team: BLACK\nHome Score: 6\nAway Score: 1
END:VEVENT
BEGIN:VEVENT
UID:15116918@ezleagues.ezfacility.com
DTSTAMP:20260426T033847Z
CREATED:20260426T033847Z
DTSTART:20230623T023000Z
DTEND:20230623T033000Z
LOCATION:West Rink
CONTACT:
SUMMARY:BLACK VS. ORANGE
DESCRIPTION:League Name: OVER 45 League\nGame Type: Regular\nGame Status: C
 omplete\nHome Team: BLACK\nAway Team: ORANGE\nHome Score: 1\nAway Score: 3
END:VEVENT
BEGIN:VEVENT
UID:15116925@ezleagues.ezfacility.com
DTSTAMP:20260426T033847Z
CREATED:20260426T033847Z
DTSTART:20230630T011500Z
DTEND:20230630T021500Z
LOCATION:West Rink
CONTACT:
SUMMARY:RED VS. BLACK
DESCRIPTION:League Name: OVER 45 League\nGame Type: Regular\nGame Status: C
 omplete\nHome Team: RED\nAway Team: BLACK\nHome Score: 10\nAway Score: 1
END:VEVENT
BEGIN:VEVENT
UID:15145477@ezleagues.ezfacility.com
DTSTAMP:20260426T033847Z
CREATED:20260426T033847Z
DTSTART:20230714T011500Z
DTEND:20230714T021500Z
LOCATION:West Rink
CONTACT:
SUMMARY:BLACK VS. BLUE
DESCRIPTION:League Name: OVER 45 League\nGame Type: Regular\nGame Status: C
 omplete\nHome Team: BLACK\nAway Team: BLUE\nHome Score: 1\nAway Score: 6
END:VEVENT
BEGIN:VEVENT
UID:15145511@ezleagues.ezfacility.com
DTSTAMP:20260426T033847Z
CREATED:20260426T033847Z
DTSTART:20230721T000000Z
DTEND:20230721T010000Z
LOCATION:East Rink
CONTACT:
SUMMARY:BLACK VS. GRAY
DESCRIPTION:League Name: OVER 45 League\nGame Type: Regular\nGame Status: C
 omplete\nHome Team: BLACK\nAway Team: GRAY\nHome Score: 1\nAway Score: 5
END:VEVENT
BEGIN:VEVENT
UID:15145512@ezleagues.ezfacility.com
DTSTAMP:20260426T033847Z
CREATED:20260426T033847Z
DTSTART:20230728T011500Z
DTEND:20230728T021500Z
LOCATION:East Rink
CONTACT:
SUMMARY:BLACK VS. GREEN
DESCRIPTION:League Name: OVER 45 League\nGame Type: Regular\nGame Status: C
 omplete\nHome Team: BLACK\nAway Team: GREEN\nHome Score: 3\nAway Score: 4
END:VEVENT
BEGIN:VEVENT
UID:15170695@ezleagues.ezfacility.com
DTSTAMP:20260426T033847Z
CREATED:20260426T033847Z
DTSTART:20230804T000000Z
DTEND:20230804T010000Z
LOCATION:East Rink
CONTACT:
SUMMARY:GREEN VS. BLACK
DESCRIPTION:League Name: OVER 45 League\nGame Type: Regular\nGame Status: C
 omplete\nHome Team: GREEN\nAway Team: BLACK\nHome Score: 3\nAway Score: 1
END:VEVENT
BEGIN:VEVENT
UID:15172130@ezleagues.ezfacility.com
DTSTAMP:20260426T033847Z
CREATED:20260426T033847Z
DTSTART:20230811T000000Z
DTEND:20230811T010000Z
LOCATION:East Rink
CONTACT:
SUMMARY:WHITE VS. BLACK
DESCRIPTION:League Name: OVER 45 League\nGame Type: Regular\nGame Status: C
 omplete\nHome Team: WHITE\nAway Team: BLACK\nHome Score: 7\nAway Score: 6
END:VEVENT
END:VCALENDAR
