BEGIN:VCALENDAR
VERSION:2.0
PRODID:-//EZFacility.com, Inc.//EZL 2.5.5.28621
BEGIN:VEVENT
UID:15024278@ezleagues.ezfacility.com
DTSTAMP:20260426T033817Z
CREATED:20260426T033817Z
DTSTART:20230414T023000Z
DTEND:20230414T033000Z
LOCATION:East Rink
CONTACT:
SUMMARY:WHITE VS. RED
DESCRIPTION:League Name: OVER 45 League\nGame Type: Regular\nGame Status: C
 omplete\nHome Team: WHITE\nAway Team: RED\nHome Score: 5\nAway Score: 3
END:VEVENT
BEGIN:VEVENT
UID:15024282@ezleagues.ezfacility.com
DTSTAMP:20260426T033817Z
CREATED:20260426T033817Z
DTSTART:20230421T000000Z
DTEND:20230421T010000Z
LOCATION:West Rink
CONTACT:
SUMMARY:BLACK VS. WHITE
DESCRIPTION:League Name: OVER 45 League\nGame Type: Regular\nGame Status: C
 omplete\nHome Team: BLACK\nAway Team: WHITE\nHome Score: 5\nAway Score: 2
END:VEVENT
BEGIN:VEVENT
UID:15024285@ezleagues.ezfacility.com
DTSTAMP:20260426T033817Z
CREATED:20260426T033817Z
DTSTART:20230428T023000Z
DTEND:20230428T033000Z
LOCATION:East Rink
CONTACT:
SUMMARY:GRAY VS. WHITE
DESCRIPTION:League Name: OVER 45 League\nGame Type: Regular\nGame Status: C
 omplete\nHome Team: GRAY\nAway Team: WHITE\nHome Score: 7\nAway Score: 2
END:VEVENT
BEGIN:VEVENT
UID:15024288@ezleagues.ezfacility.com
DTSTAMP:20260426T033817Z
CREATED:20260426T033817Z
DTSTART:20230505T023000Z
DTEND:20230505T033000Z
LOCATION:West Rink
CONTACT:
SUMMARY:GREEN VS. WHITE
DESCRIPTION:League Name: OVER 45 League\nGame Type: Regular\nGame Status: C
 omplete\nHome Team: GREEN\nAway Team: WHITE\nHome Score: 5\nAway Score: 7
END:VEVENT
BEGIN:VEVENT
UID:15024291@ezleagues.ezfacility.com
DTSTAMP:20260426T033817Z
CREATED:20260426T033817Z
DTSTART:20230512T011500Z
DTEND:20230512T021500Z
LOCATION:East Rink
CONTACT:
SUMMARY:WHITE VS. BLUE
DESCRIPTION:League Name: OVER 45 League\nGame Type: Regular\nGame Status: C
 omplete\nHome Team: WHITE\nAway Team: BLUE\nHome Score: 5\nAway Score: 7
END:VEVENT
BEGIN:VEVENT
UID:15024296@ezleagues.ezfacility.com
DTSTAMP:20260426T033817Z
CREATED:20260426T033817Z
DTSTART:20230519T011500Z
DTEND:20230519T021500Z
LOCATION:West Rink
CONTACT:
SUMMARY:WHITE VS. YELLOW
DESCRIPTION:League Name: OVER 45 League\nGame Type: Regular\nGame Status: C
 omplete\nHome Team: WHITE\nAway Team: YELLOW\nHome Score: 5\nAway Score: 4
END:VEVENT
BEGIN:VEVENT
UID:15024301@ezleagues.ezfacility.com
DTSTAMP:20260426T033817Z
CREATED:20260426T033817Z
DTSTART:20230526T000000Z
DTEND:20230526T010000Z
LOCATION:East Rink
CONTACT:
SUMMARY:WHITE VS. ORANGE
DESCRIPTION:League Name: OVER 45 League\nGame Type: Regular\nGame Status: C
 omplete\nHome Team: WHITE\nAway Team: ORANGE\nHome Score: 10\nAway Score: 
 2
END:VEVENT
BEGIN:VEVENT
UID:15056768@ezleagues.ezfacility.com
DTSTAMP:20260426T033817Z
CREATED:20260426T033817Z
DTSTART:20230602T000000Z
DTEND:20230602T010000Z
LOCATION:East Rink
CONTACT:
SUMMARY:WHITE VS. RED
DESCRIPTION:League Name: OVER 45 League\nGame Type: Regular\nGame Status: C
 omplete\nHome Team: WHITE\nAway Team: RED\nHome Score: 2\nAway Score: 5
END:VEVENT
BEGIN:VEVENT
UID:15097909@ezleagues.ezfacility.com
DTSTAMP:20260426T033817Z
CREATED:20260426T033817Z
DTSTART:20230609T011500Z
DTEND:20230609T021500Z
LOCATION:West Rink
CONTACT:
SUMMARY:BLACK VS. WHITE
DESCRIPTION:League Name: OVER 45 League\nGame Type: Regular\nGame Status: C
 omplete\nHome Team: BLACK\nAway Team: WHITE\nHome Score: 3\nAway Score: 8
END:VEVENT
BEGIN:VEVENT
UID:15107844@ezleagues.ezfacility.com
DTSTAMP:20260426T033817Z
CREATED:20260426T033817Z
DTSTART:20230616T000000Z
DTEND:20230616T010000Z
LOCATION:East Rink
CONTACT:
SUMMARY:GRAY VS. WHITE
DESCRIPTION:League Name: OVER 45 League\nGame Type: Regular\nGame Status: C
 omplete\nHome Team: GRAY\nAway Team: WHITE\nHome Score: 5\nAway Score: 3
END:VEVENT
BEGIN:VEVENT
UID:15116916@ezleagues.ezfacility.com
DTSTAMP:20260426T033817Z
CREATED:20260426T033817Z
DTSTART:20230623T011500Z
DTEND:20230623T021500Z
LOCATION:West Rink
CONTACT:
SUMMARY:GREEN VS. WHITE
DESCRIPTION:League Name: OVER 45 League\nGame Type: Regular\nGame Status: C
 omplete\nHome Team: GREEN\nAway Team: WHITE\nHome Score: 5\nAway Score: 3
END:VEVENT
BEGIN:VEVENT
UID:15116924@ezleagues.ezfacility.com
DTSTAMP:20260426T033817Z
CREATED:20260426T033817Z
DTSTART:20230630T000000Z
DTEND:20230630T010000Z
LOCATION:East Rink
CONTACT:
SUMMARY:WHITE VS. BLUE
DESCRIPTION:League Name: OVER 45 League\nGame Type: Regular\nGame Status: C
 omplete\nHome Team: WHITE\nAway Team: BLUE\nHome Score: 1\nAway Score: 3
END:VEVENT
BEGIN:VEVENT
UID:15145475@ezleagues.ezfacility.com
DTSTAMP:20260426T033817Z
CREATED:20260426T033817Z
DTSTART:20230714T024500Z
DTEND:20230714T034500Z
LOCATION:Air Force
CONTACT:
SUMMARY:YELLOW VS. WHITE
DESCRIPTION:League Name: OVER 45 League\nGame Type: Regular\nGame Status: C
 omplete\nHome Team: YELLOW\nAway Team: WHITE\nHome Score: 2\nAway Score: 4
END:VEVENT
BEGIN:VEVENT
UID:15145508@ezleagues.ezfacility.com
DTSTAMP:20260426T033817Z
CREATED:20260426T033817Z
DTSTART:20230721T011500Z
DTEND:20230721T021500Z
LOCATION:West Rink
CONTACT:
SUMMARY:WHITE VS. ORANGE
DESCRIPTION:League Name: OVER 45 League\nGame Type: Regular\nGame Status: C
 omplete\nHome Team: WHITE\nAway Team: ORANGE\nHome Score: 1\nAway Score: 3
END:VEVENT
BEGIN:VEVENT
UID:15145515@ezleagues.ezfacility.com
DTSTAMP:20260426T033817Z
CREATED:20260426T033817Z
DTSTART:20230728T000000Z
DTEND:20230728T010000Z
LOCATION:East Rink
CONTACT:
SUMMARY:RED VS. WHITE
DESCRIPTION:League Name: OVER 45 League\nGame Type: Regular\nGame Status: C
 omplete\nHome Team: RED\nAway Team: WHITE\nHome Score: 3\nAway Score: 1
END:VEVENT
BEGIN:VEVENT
UID:15170696@ezleagues.ezfacility.com
DTSTAMP:20260426T033817Z
CREATED:20260426T033817Z
DTSTART:20230804T011500Z
DTEND:20230804T021500Z
LOCATION:West Rink
CONTACT:
SUMMARY:ORANGE VS. WHITE
DESCRIPTION:League Name: OVER 45 League\nGame Type: Regular\nGame Status: C
 omplete\nHome Team: ORANGE\nAway Team: WHITE\nHome Score: 6\nAway Score: 4
END:VEVENT
BEGIN:VEVENT
UID:15172130@ezleagues.ezfacility.com
DTSTAMP:20260426T033817Z
CREATED:20260426T033817Z
DTSTART:20230811T000000Z
DTEND:20230811T010000Z
LOCATION:East Rink
CONTACT:
SUMMARY:WHITE VS. BLACK
DESCRIPTION:League Name: OVER 45 League\nGame Type: Regular\nGame Status: C
 omplete\nHome Team: WHITE\nAway Team: BLACK\nHome Score: 7\nAway Score: 6
END:VEVENT
END:VCALENDAR
