BEGIN:VCALENDAR
VERSION:2.0
PRODID:-//EZFacility.com, Inc.//EZL 2.5.5.28621
BEGIN:VEVENT
UID:15032970@ezleagues.ezfacility.com
DTSTAMP:20260423T115401Z
CREATED:20260423T115401Z
DTSTART:20230420T025000Z
DTEND:20230420T034000Z
LOCATION:Field 3
CONTACT:
SUMMARY:Street Soccer USA - Blue VS. TQL Chicago West
DESCRIPTION:League Name: Adult Soccer Session 6-Wednesday Rec. League-C Lea
 gue\nGame Type: Regular\nGame Status: Complete\nHome Team: Street Soccer U
 SA - Blue\nAway Team: TQL Chicago West\nHome Score: 3\nAway Score: 2
END:VEVENT
BEGIN:VEVENT
UID:15032975@ezleagues.ezfacility.com
DTSTAMP:20260423T115401Z
CREATED:20260423T115401Z
DTSTART:20230427T025000Z
DTEND:20230427T034000Z
LOCATION:Field 1
CONTACT:
SUMMARY:Raiders VS. Street Soccer USA - Blue
DESCRIPTION:League Name: Adult Soccer Session 6-Wednesday Rec. League-C Lea
 gue\nGame Type: Regular\nGame Status: Complete\nHome Team: Raiders\nAway T
 eam: Street Soccer USA - Blue\nHome Score: 9\nAway Score: 7
END:VEVENT
BEGIN:VEVENT
UID:15032979@ezleagues.ezfacility.com
DTSTAMP:20260423T115401Z
CREATED:20260423T115401Z
DTSTART:20230504T020000Z
DTEND:20230504T025000Z
LOCATION:Field 3
CONTACT:
SUMMARY:Integrity VS. Street Soccer USA - Blue
DESCRIPTION:League Name: Adult Soccer Session 6-Wednesday Rec. League-C Lea
 gue\nGame Type: Regular\nGame Status: Complete\nHome Team: Integrity\nAway
  Team: Street Soccer USA - Blue\nHome Score: 9\nAway Score: 2
END:VEVENT
BEGIN:VEVENT
UID:15032981@ezleagues.ezfacility.com
DTSTAMP:20260423T115401Z
CREATED:20260423T115401Z
DTSTART:20230511T020000Z
DTEND:20230511T025000Z
LOCATION:Field 1
CONTACT:
SUMMARY:Pali's Wolf Pack VS. Street Soccer USA - Blue
DESCRIPTION:League Name: Adult Soccer Session 6-Wednesday Rec. League-C Lea
 gue\nGame Type: Regular\nGame Status: Complete\nHome Team: Pali's Wolf Pac
 k\nAway Team: Street Soccer USA - Blue\nHome Score: 5\nAway Score: 2
END:VEVENT
BEGIN:VEVENT
UID:15032989@ezleagues.ezfacility.com
DTSTAMP:20260423T115401Z
CREATED:20260423T115401Z
DTSTART:20230518T020000Z
DTEND:20230518T025000Z
LOCATION:Field 1
CONTACT:
SUMMARY:Street Soccer USA - Red VS. Street Soccer USA - Blue
DESCRIPTION:League Name: Adult Soccer Session 6-Wednesday Rec. League-C Lea
 gue\nGame Type: Regular\nGame Status: Complete\nHome Team: Street Soccer U
 SA - Red\nAway Team: Street Soccer USA - Blue\nHome Score: 8\nAway Score: 
 8
END:VEVENT
BEGIN:VEVENT
UID:15032992@ezleagues.ezfacility.com
DTSTAMP:20260423T115401Z
CREATED:20260423T115401Z
DTSTART:20230525T025000Z
DTEND:20230525T034000Z
LOCATION:Field 3
CONTACT:
SUMMARY:Street Soccer USA - Blue VS. Dino Thunder
DESCRIPTION:League Name: Adult Soccer Session 6-Wednesday Rec. League-C Lea
 gue\nGame Type: Regular\nGame Status: Complete\nHome Team: Street Soccer U
 SA - Blue\nAway Team: Dino Thunder\nHome Score: 7\nAway Score: 8
END:VEVENT
BEGIN:VEVENT
UID:15032999@ezleagues.ezfacility.com
DTSTAMP:20260423T115401Z
CREATED:20260423T115401Z
DTSTART:20230601T034000Z
DTEND:20230601T043000Z
LOCATION:Field 1
CONTACT:
SUMMARY:Street Soccer USA - Blue VS. No Manches FC
DESCRIPTION:League Name: Adult Soccer Session 6-Wednesday Rec. League-C Lea
 gue\nGame Type: Regular\nGame Status: Complete\nHome Team: Street Soccer U
 SA - Blue\nAway Team: No Manches FC\nHome Score: 7\nAway Score: 2
END:VEVENT
BEGIN:VEVENT
UID:15092105@ezleagues.ezfacility.com
DTSTAMP:20260423T115401Z
CREATED:20260423T115401Z
DTSTART:20230608T015000Z
DTEND:20230608T024000Z
LOCATION:Field 3
CONTACT:
SUMMARY:Street Soccer USA - Blue VS. TQL Chicago West
DESCRIPTION:League Name: Adult Soccer Session 6-Wednesday Rec. League-C Lea
 gue\nGame Type: Friendly\nGame Status: Pending\nHome Team: Street Soccer U
 SA - Blue\nAway Team: TQL Chicago West\n
END:VEVENT
END:VCALENDAR
