BEGIN:VCALENDAR
VERSION:2.0
PRODID:-//EZFacility.com, Inc.//EZL 2.5.5.28621
BEGIN:VEVENT
UID:15036278@ezleagues.ezfacility.com
DTSTAMP:20260424T044003Z
CREATED:20260424T044003Z
DTSTART:20230424T230000Z
DTEND:20230425T000000Z
LOCATION:Harmans Premier Field #5
CONTACT:
SUMMARY:DC VS. Argentina
DESCRIPTION:League Name: Mon Mens Open 2nd div\nGame Type: Regular\nGame St
 atus: Complete\nHome Team: DC\nAway Team: Argentina\nHome Score: 1\nAway S
 core: 2
END:VEVENT
BEGIN:VEVENT
UID:15036287@ezleagues.ezfacility.com
DTSTAMP:20260424T044003Z
CREATED:20260424T044003Z
DTSTART:20230501T230000Z
DTEND:20230502T000000Z
LOCATION:Harmans Premier Field #4
CONTACT:
SUMMARY:Leon VS. DC
DESCRIPTION:League Name: Mon Mens Open 2nd div\nGame Type: Regular\nGame St
 atus: Complete\nHome Team: Leon\nAway Team: DC\nHome Score: 5\nAway Score:
  6
END:VEVENT
BEGIN:VEVENT
UID:15036298@ezleagues.ezfacility.com
DTSTAMP:20260424T044003Z
CREATED:20260424T044003Z
DTSTART:20230508T230000Z
DTEND:20230509T000000Z
LOCATION:Harmans Premier Field #5
CONTACT:
SUMMARY:DC VS. Charm City Kickers
DESCRIPTION:League Name: Mon Mens Open 2nd div\nGame Type: Regular\nGame St
 atus: Complete\nHome Team: DC\nAway Team: Charm City Kickers\nHome Score: 
 5\nAway Score: 5
END:VEVENT
BEGIN:VEVENT
UID:15036309@ezleagues.ezfacility.com
DTSTAMP:20260424T044003Z
CREATED:20260424T044003Z
DTSTART:20230515T230000Z
DTEND:20230516T000000Z
LOCATION:Harmans Premier Field #5
CONTACT:
SUMMARY:DC VS. FC Maryland
DESCRIPTION:League Name: Mon Mens Open 2nd div\nGame Type: Regular\nGame St
 atus: Complete\nHome Team: DC\nAway Team: FC Maryland\nHome Score: 5\nAway
  Score: 10
END:VEVENT
BEGIN:VEVENT
UID:15036319@ezleagues.ezfacility.com
DTSTAMP:20260424T044003Z
CREATED:20260424T044003Z
DTSTART:20230522T230000Z
DTEND:20230523T000000Z
LOCATION:Harmans Premier Field #4
CONTACT:
SUMMARY:FC Aguila VS. DC
DESCRIPTION:League Name: Mon Mens Open 2nd div\nGame Type: Regular\nGame St
 atus: Complete\nHome Team: FC Aguila\nAway Team: DC\nHome Score: 6\nAway S
 core: 6
END:VEVENT
BEGIN:VEVENT
UID:15036337@ezleagues.ezfacility.com
DTSTAMP:20260424T044003Z
CREATED:20260424T044003Z
DTSTART:20230605T230000Z
DTEND:20230606T000000Z
LOCATION:Harmans Premier Field #5
CONTACT:
SUMMARY:DC VS. Leon
DESCRIPTION:League Name: Mon Mens Open 2nd div\nGame Type: Regular\nGame St
 atus: Complete\nHome Team: DC\nAway Team: Leon\nHome Score: 7\nAway Score:
  4
END:VEVENT
BEGIN:VEVENT
UID:15036328@ezleagues.ezfacility.com
DTSTAMP:20260424T044003Z
CREATED:20260424T044003Z
DTSTART:20230612T230000Z
DTEND:20230613T000000Z
LOCATION:Harmans Premier Field #4
CONTACT:
SUMMARY:Argentina VS. DC
DESCRIPTION:League Name: Mon Mens Open 2nd div\nGame Type: Regular\nGame St
 atus: Complete\nHome Team: Argentina\nAway Team: DC\nHome Score: 6\nAway S
 core: 5
END:VEVENT
BEGIN:VEVENT
UID:15109616@ezleagues.ezfacility.com
DTSTAMP:20260424T044003Z
CREATED:20260424T044003Z
DTSTART:20230620T000000Z
DTEND:20230620T010000Z
LOCATION:Harmans Premier Field #4
CONTACT:
SUMMARY:Argentina VS. DC
DESCRIPTION:League Name: Mon Mens Open 2nd div\nGame Type: Regular\nGame St
 atus: Complete\nHome Team: Argentina\nAway Team: DC\nHome Score: 5\nAway S
 core: 1
END:VEVENT
BEGIN:VEVENT
UID:15119502@ezleagues.ezfacility.com
DTSTAMP:20260424T044003Z
CREATED:20260424T044003Z
DTSTART:20230626T230000Z
DTEND:20230627T000000Z
LOCATION:Harmans Premier Field #4
CONTACT:
SUMMARY:DC VS. Leon
DESCRIPTION:League Name: Mon Mens Open 2nd div\nGame Type: Regular\nGame St
 atus: Complete\nHome Team: DC\nAway Team: Leon\nHome Score: 2\nAway Score:
  6
END:VEVENT
END:VCALENDAR
