BEGIN:VCALENDAR
VERSION:2.0
PRODID:-//EZFacility.com, Inc.//EZL 2.5.5.28621
BEGIN:VEVENT
UID:15042925@ezleagues.ezfacility.com
DTSTAMP:20260426T010726Z
CREATED:20260426T010726Z
DTSTART:20230502T184500Z
DTEND:20230502T193000Z
LOCATION:1 John Charles
CONTACT:
SUMMARY:Gangsters Allardyce VS. Cardiff Bubbles
DESCRIPTION:League Name: Cardiff Tuesday Division 1\nGame Type: Regular\nGa
 me Status: Complete\nHome Team: Gangsters Allardyce\nAway Team: Cardiff Bu
 bbles\nHome Score: 6\nAway Score: 1
END:VEVENT
BEGIN:VEVENT
UID:15042929@ezleagues.ezfacility.com
DTSTAMP:20260426T010726Z
CREATED:20260426T010726Z
DTSTART:20230509T193000Z
DTEND:20230509T201500Z
LOCATION:1 John Charles
CONTACT:
SUMMARY:Rubber Dub Grubb VS. Cardiff Bubbles
DESCRIPTION:League Name: Cardiff Tuesday Division 1\nGame Type: Regular\nGa
 me Status: Complete\nHome Team: Rubber Dub Grubb\nAway Team: Cardiff Bubbl
 es\nHome Score: 7\nAway Score: 3
END:VEVENT
BEGIN:VEVENT
UID:15042933@ezleagues.ezfacility.com
DTSTAMP:20260426T010726Z
CREATED:20260426T010726Z
DTSTART:20230516T201500Z
DTEND:20230516T210000Z
LOCATION:1 John Charles
CONTACT:
SUMMARY:Misfits FC VS. Cardiff Bubbles
DESCRIPTION:League Name: Cardiff Tuesday Division 1\nGame Type: Regular\nGa
 me Status: Complete\nHome Team: Misfits FC\nAway Team: Cardiff Bubbles\nHo
 me Score: 3\nAway Score: 5
END:VEVENT
BEGIN:VEVENT
UID:15042936@ezleagues.ezfacility.com
DTSTAMP:20260426T010726Z
CREATED:20260426T010726Z
DTSTART:20230523T201500Z
DTEND:20230523T210000Z
LOCATION:1 John Charles
CONTACT:
SUMMARY:Cardiff Bubbles VS. Richardson FC
DESCRIPTION:League Name: Cardiff Tuesday Division 1\nGame Type: Regular\nGa
 me Status: Complete\nHome Team: Cardiff Bubbles\nAway Team: Richardson FC\
 nHome Score: 5\nAway Score: 4
END:VEVENT
BEGIN:VEVENT
UID:15042938@ezleagues.ezfacility.com
DTSTAMP:20260426T010726Z
CREATED:20260426T010726Z
DTSTART:20230530T184500Z
DTEND:20230530T193000Z
LOCATION:1 John Charles
CONTACT:
SUMMARY:Cardiff Bubbles VS. Smith FC
DESCRIPTION:League Name: Cardiff Tuesday Division 1\nGame Type: Regular\nGa
 me Status: Complete\nHome Team: Cardiff Bubbles\nAway Team: Smith FC\nHome
  Score: 2\nAway Score: 4
END:VEVENT
BEGIN:VEVENT
UID:15042944@ezleagues.ezfacility.com
DTSTAMP:20260426T010726Z
CREATED:20260426T010726Z
DTSTART:20230613T193000Z
DTEND:20230613T201500Z
LOCATION:1 John Charles
CONTACT:
SUMMARY:Cardiff Bubbles VS. Rubber Dub Grubb
DESCRIPTION:League Name: Cardiff Tuesday Division 1\nGame Type: Regular\nGa
 me Status: Complete\nHome Team: Cardiff Bubbles\nAway Team: Rubber Dub Gru
 bb\nHome Score: 6\nAway Score: 7
END:VEVENT
BEGIN:VEVENT
UID:15042948@ezleagues.ezfacility.com
DTSTAMP:20260426T010726Z
CREATED:20260426T010726Z
DTSTART:20230620T193000Z
DTEND:20230620T201500Z
LOCATION:1 John Charles
CONTACT:
SUMMARY:Cardiff Bubbles VS. Misfits FC
DESCRIPTION:League Name: Cardiff Tuesday Division 1\nGame Type: Regular\nGa
 me Status: Complete\nHome Team: Cardiff Bubbles\nAway Team: Misfits FC\nHo
 me Score: 3\nAway Score: 4
END:VEVENT
BEGIN:VEVENT
UID:15042951@ezleagues.ezfacility.com
DTSTAMP:20260426T010726Z
CREATED:20260426T010726Z
DTSTART:20230627T201500Z
DTEND:20230627T210000Z
LOCATION:3 Ian Rush
CONTACT:
SUMMARY:Richardson FC VS. Cardiff Bubbles
DESCRIPTION:League Name: Cardiff Tuesday Division 1\nGame Type: Regular\nGa
 me Status: Complete\nHome Team: Richardson FC\nAway Team: Cardiff Bubbles\
 nHome Score: 3\nAway Score: 4
END:VEVENT
BEGIN:VEVENT
UID:15042953@ezleagues.ezfacility.com
DTSTAMP:20260426T010726Z
CREATED:20260426T010726Z
DTSTART:20230704T184500Z
DTEND:20230704T193000Z
LOCATION:1 John Charles
CONTACT:
SUMMARY:Smith FC VS. Cardiff Bubbles
DESCRIPTION:League Name: Cardiff Tuesday Division 1\nGame Type: Regular\nGa
 me Status: Complete\nHome Team: Smith FC\nAway Team: Cardiff Bubbles\nHome
  Score: 5\nAway Score: 1
END:VEVENT
BEGIN:VEVENT
UID:15042955@ezleagues.ezfacility.com
DTSTAMP:20260426T010726Z
CREATED:20260426T010726Z
DTSTART:20230711T184500Z
DTEND:20230711T193000Z
LOCATION:1 John Charles
CONTACT:
SUMMARY:Cardiff Bubbles VS. Gangsters Allardyce
DESCRIPTION:League Name: Cardiff Tuesday Division 1\nGame Type: Regular\nGa
 me Status: Complete\nHome Team: Cardiff Bubbles\nAway Team: Gangsters Alla
 rdyce\nHome Score: 8\nAway Score: 3
END:VEVENT
BEGIN:VEVENT
UID:15042959@ezleagues.ezfacility.com
DTSTAMP:20260426T010726Z
CREATED:20260426T010726Z
DTSTART:20230718T193000Z
DTEND:20230718T201500Z
LOCATION:1 John Charles
CONTACT:
SUMMARY:Cardiff Bubbles VS. Rubber Dub Grubb
DESCRIPTION:League Name: Cardiff Tuesday Division 1\nGame Type: Regular\nGa
 me Status: Complete\nHome Team: Cardiff Bubbles\nAway Team: Rubber Dub Gru
 bb\nHome Score: 4\nAway Score: 5
END:VEVENT
BEGIN:VEVENT
UID:15042963@ezleagues.ezfacility.com
DTSTAMP:20260426T010726Z
CREATED:20260426T010726Z
DTSTART:20230725T211500Z
DTEND:20230725T220000Z
LOCATION:1 John Charles
CONTACT:
SUMMARY:Cardiff Bubbles VS. Misfits FC
DESCRIPTION:League Name: Cardiff Tuesday Division 1\nGame Type: Regular\nGa
 me Status: Complete\nHome Team: Cardiff Bubbles\nAway Team: Misfits FC\nHo
 me Score: 0\nAway Score: 10
END:VEVENT
BEGIN:VEVENT
UID:15042966@ezleagues.ezfacility.com
DTSTAMP:20260426T010726Z
CREATED:20260426T010726Z
DTSTART:20230801T201500Z
DTEND:20230801T210000Z
LOCATION:1 John Charles
CONTACT:
SUMMARY:Richardson FC VS. Cardiff Bubbles
DESCRIPTION:League Name: Cardiff Tuesday Division 1\nGame Type: Regular\nGa
 me Status: Complete\nHome Team: Richardson FC\nAway Team: Cardiff Bubbles\
 nHome Score: 10\nAway Score: 0
END:VEVENT
BEGIN:VEVENT
UID:15042968@ezleagues.ezfacility.com
DTSTAMP:20260426T010726Z
CREATED:20260426T010726Z
DTSTART:20230808T184500Z
DTEND:20230808T193000Z
LOCATION:5 Neville Southall
CONTACT:
SUMMARY:Smith FC VS. Cardiff Bubbles
DESCRIPTION:League Name: Cardiff Tuesday Division 1\nGame Type: Regular\nGa
 me Status: Complete\nHome Team: Smith FC\nAway Team: Cardiff Bubbles\nHome
  Score: 10\nAway Score: 3
END:VEVENT
BEGIN:VEVENT
UID:15042940@ezleagues.ezfacility.com
DTSTAMP:20260426T010726Z
CREATED:20260426T010726Z
DTSTART:20230808T193000Z
DTEND:20230808T201500Z
LOCATION:5 Neville Southall
CONTACT:
SUMMARY:Gangsters Allardyce VS. Cardiff Bubbles
DESCRIPTION:League Name: Cardiff Tuesday Division 1\nGame Type: Regular\nGa
 me Status: Complete\nHome Team: Gangsters Allardyce\nAway Team: Cardiff Bu
 bbles\nHome Score: 8\nAway Score: 5
END:VEVENT
END:VCALENDAR
