BEGIN:VCALENDAR
VERSION:2.0
PRODID:-//EZFacility.com, Inc.//EZL 2.5.5.28621
BEGIN:VEVENT
UID:15054883@ezleagues.ezfacility.com
DTSTAMP:20260424T044309Z
CREATED:20260424T044309Z
DTSTART:20230507T180000Z
DTEND:20230507T190000Z
LOCATION:Creekside Middle School F-3
CONTACT:
SUMMARY:Madrid  VS. All Stars 
DESCRIPTION:League Name: Gold Youth League Session 2\nGame Type: Regular\nG
 ame Status: Complete\nHome Team: Madrid \nAway Team: All Stars \nHome Scor
 e: 5\nAway Score: 0
END:VEVENT
BEGIN:VEVENT
UID:15058539@ezleagues.ezfacility.com
DTSTAMP:20260424T044309Z
CREATED:20260424T044309Z
DTSTART:20230512T005500Z
DTEND:20230512T015000Z
LOCATION:Patterson Indoor Soccer
CONTACT:
SUMMARY:All Stars  VS. Newman
DESCRIPTION:League Name: Gold Youth League Session 2\nGame Type: Regular\nG
 ame Status: Complete\nHome Team: All Stars \nAway Team: Newman\nHome Score
 : 0\nAway Score: 5
END:VEVENT
END:VCALENDAR
