BEGIN:VCALENDAR
VERSION:2.0
PRODID:-//EZFacility.com, Inc.//EZL 2.5.5.28621
BEGIN:VEVENT
UID:1348031@ezleagues.ezfacility.com
DTSTAMP:20260426T033426Z
CREATED:20260426T033426Z
DTSTART:20080215T194000Z
DTEND:20080215T203000Z
LOCATION:SANDHILLS (Bi-Lo #1)
CONTACT:
SUMMARY:La Coruña VS. Los Humildes
DESCRIPTION:League Name: Winter II Latino League Verde\nGame Type: Regular\
 nGame Status: Complete\nHome Team: La Coruña\nAway Team: Los Humildes\nHo
 me Score: 6\nAway Score: 0
END:VEVENT
BEGIN:VEVENT
UID:1272045@ezleagues.ezfacility.com
DTSTAMP:20260426T033426Z
CREATED:20260426T033426Z
DTSTART:20080223T171000Z
DTEND:20080223T180000Z
LOCATION:SANDHILLS (Field #2) 
CONTACT:
SUMMARY:Dep. Huatulco VS. La Coruña
DESCRIPTION:League Name: Winter II Latino League Verde\nGame Type: Regular\
 nGame Status: Complete\nHome Team: Dep. Huatulco\nAway Team: La Coruña\nH
 ome Score: 4\nAway Score: 3
END:VEVENT
BEGIN:VEVENT
UID:1283203@ezleagues.ezfacility.com
DTSTAMP:20260426T033426Z
CREATED:20260426T033426Z
DTSTART:20080301T230000Z
DTEND:20080301T235000Z
LOCATION:SANDHILLS (Bi-Lo #1)
CONTACT:
SUMMARY:La Coruña VS. Toluca
DESCRIPTION:League Name: Winter II Latino League Verde\nGame Type: Regular\
 nGame Status: Complete\nHome Team: La Coruña\nAway Team: Toluca\nHome Sco
 re: 9\nAway Score: 2
END:VEVENT
BEGIN:VEVENT
UID:1299112@ezleagues.ezfacility.com
DTSTAMP:20260426T033426Z
CREATED:20260426T033426Z
DTSTART:20080308T221000Z
DTEND:20080308T230000Z
LOCATION:SANDHILLS (Field #2) 
CONTACT:Mower
SUMMARY:Atl. San Pancho VS. La Coruña
DESCRIPTION:League Name: Winter II Latino League Verde\nGame Type: Regular\
 nGame Status: Complete\nHome Team: Atl. San Pancho\nAway Team: La Coruña\
 nHome Score: 1\nAway Score: 2
END:VEVENT
BEGIN:VEVENT
UID:1311547@ezleagues.ezfacility.com
DTSTAMP:20260426T033426Z
CREATED:20260426T033426Z
DTSTART:20080315T162000Z
DTEND:20080315T171000Z
LOCATION:SANDHILLS (Bi-Lo #1)
CONTACT:
SUMMARY:Combinado VS. La Coruña
DESCRIPTION:League Name: Winter II Latino League Verde\nGame Type: Regular\
 nGame Status: Complete\nHome Team: Combinado\nAway Team: La Coruña\nHome 
 Score: 3\nAway Score: 7
END:VEVENT
BEGIN:VEVENT
UID:1311544@ezleagues.ezfacility.com
DTSTAMP:20260426T033426Z
CREATED:20260426T033426Z
DTSTART:20080315T185000Z
DTEND:20080315T194000Z
LOCATION:SANDHILLS (Bi-Lo #1)
CONTACT:
SUMMARY:La Coruña VS. Las Aguilas
DESCRIPTION:League Name: Winter II Latino League Verde\nGame Type: Regular\
 nGame Status: Complete\nHome Team: La Coruña\nAway Team: Las Aguilas\nHom
 e Score: 7\nAway Score: 4
END:VEVENT
BEGIN:VEVENT
UID:1325392@ezleagues.ezfacility.com
DTSTAMP:20260426T033426Z
CREATED:20260426T033426Z
DTSTART:20080322T162000Z
DTEND:20080322T171000Z
LOCATION:SANDHILLS (Field #2) 
CONTACT:
SUMMARY:La Coruña VS. Colo Colo
DESCRIPTION:League Name: Winter II Latino League Verde\nGame Type: Regular\
 nGame Status: Complete\nHome Team: La Coruña\nAway Team: Colo Colo\nHome 
 Score: 6\nAway Score: 0
END:VEVENT
BEGIN:VEVENT
UID:1334306@ezleagues.ezfacility.com
DTSTAMP:20260426T033426Z
CREATED:20260426T033426Z
DTSTART:20080328T212000Z
DTEND:20080328T221000Z
LOCATION:SANDHILLS (Bi-Lo #1)
CONTACT:Mower
SUMMARY:Dep. Hidalgo VS. La Coruña
DESCRIPTION:League Name: Winter II Latino League Verde\nGame Type: Regular\
 nGame Status: Complete\nHome Team: Dep. Hidalgo\nAway Team: La Coruña\nHo
 me Score: 3\nAway Score: 7
END:VEVENT
BEGIN:VEVENT
UID:1343255@ezleagues.ezfacility.com
DTSTAMP:20260426T033426Z
CREATED:20260426T033426Z
DTSTART:20080405T185000Z
DTEND:20080405T194000Z
LOCATION:SANDHILLS (Bi-Lo #1)
CONTACT:Mower
SUMMARY:Dep. Zimapan VS. La Coruña
DESCRIPTION:League Name: Winter II Latino League Verde\nGame Type: Regular\
 nGame Status: Complete\nHome Team: Dep. Zimapan\nAway Team: La Coruña\nHo
 me Score: 4\nAway Score: 5
END:VEVENT
END:VCALENDAR
