BEGIN:VCALENDAR
VERSION:2.0
PRODID:-//EZFacility.com, Inc.//EZL 2.5.5.28621
BEGIN:VEVENT
UID:15059216@ezleagues.ezfacility.com
DTSTAMP:20260423T102935Z
CREATED:20260423T102935Z
DTSTART:20230517T011500Z
DTEND:20230517T021500Z
LOCATION:Sand Court 3
CONTACT:
SUMMARY:Washed Up VS. Notorious DIG
DESCRIPTION:League Name: Tuesday Women's BB\nGame Type: Regular\nGame Statu
 s: Complete\nHome Team: Washed Up\nAway Team: Notorious DIG\nHome Score: 2
 \nAway Score: 1
END:VEVENT
BEGIN:VEVENT
UID:15059220@ezleagues.ezfacility.com
DTSTAMP:20260423T102935Z
CREATED:20260423T102935Z
DTSTART:20230524T001500Z
DTEND:20230524T011500Z
LOCATION:Sand Court 2
CONTACT:
SUMMARY:Washed Up VS. Ball Busters
DESCRIPTION:League Name: Tuesday Women's BB\nGame Type: Regular\nGame Statu
 s: Complete\nHome Team: Washed Up\nAway Team: Ball Busters\nHome Score: 2\
 nAway Score: 1
END:VEVENT
BEGIN:VEVENT
UID:15059224@ezleagues.ezfacility.com
DTSTAMP:20260423T102935Z
CREATED:20260423T102935Z
DTSTART:20230530T221500Z
DTEND:20230530T231500Z
LOCATION:Sand Court 3
CONTACT:
SUMMARY:Washed Up VS. Ace is the Place
DESCRIPTION:League Name: Tuesday Women's BB\nGame Type: Regular\nGame Statu
 s: Complete\nHome Team: Washed Up\nAway Team: Ace is the Place\nHome Score
 : 2\nAway Score: 1
END:VEVENT
BEGIN:VEVENT
UID:15059228@ezleagues.ezfacility.com
DTSTAMP:20260423T102935Z
CREATED:20260423T102935Z
DTSTART:20230606T221500Z
DTEND:20230606T231500Z
LOCATION:Sand Court 2
CONTACT:
SUMMARY:Washed Up VS. No fourth
DESCRIPTION:League Name: Tuesday Women's BB\nGame Type: Regular\nGame Statu
 s: Complete\nHome Team: Washed Up\nAway Team: No fourth\nHome Score: 1\nAw
 ay Score: 2
END:VEVENT
BEGIN:VEVENT
UID:15059232@ezleagues.ezfacility.com
DTSTAMP:20260423T102935Z
CREATED:20260423T102935Z
DTSTART:20230613T231500Z
DTEND:20230614T001500Z
LOCATION:Sand Court 2
CONTACT:
SUMMARY:My sock VS. Washed Up
DESCRIPTION:League Name: Tuesday Women's BB\nGame Type: Regular\nGame Statu
 s: Complete\nHome Team: My sock\nAway Team: Washed Up\nHome Score: 2\nAway
  Score: 1
END:VEVENT
BEGIN:VEVENT
UID:15059238@ezleagues.ezfacility.com
DTSTAMP:20260423T102935Z
CREATED:20260423T102935Z
DTSTART:20230621T011500Z
DTEND:20230621T021500Z
LOCATION:Sand Court 3
CONTACT:
SUMMARY:Big Dig Energy VS. Washed Up
DESCRIPTION:League Name: Tuesday Women's BB\nGame Type: Regular\nGame Statu
 s: Complete\nHome Team: Big Dig Energy\nAway Team: Washed Up\nHome Score: 
 0\nAway Score: 3
END:VEVENT
BEGIN:VEVENT
UID:15059244@ezleagues.ezfacility.com
DTSTAMP:20260423T102935Z
CREATED:20260423T102935Z
DTSTART:20230627T231500Z
DTEND:20230628T001500Z
LOCATION:Sand Court 2
CONTACT:
SUMMARY:Ace Holes VS. Washed Up
DESCRIPTION:League Name: Tuesday Women's BB\nGame Type: Regular\nGame Statu
 s: Complete\nHome Team: Ace Holes\nAway Team: Washed Up\nHome Score: 2\nAw
 ay Score: 1
END:VEVENT
BEGIN:VEVENT
UID:15059256@ezleagues.ezfacility.com
DTSTAMP:20260423T102935Z
CREATED:20260423T102935Z
DTSTART:20230712T011500Z
DTEND:20230712T021500Z
LOCATION:Sand Court 2
CONTACT:
SUMMARY:Washed Up VS. Please\, Jeremy - no late games!
DESCRIPTION:League Name: Tuesday Women's BB\nGame Type: Regular\nGame Statu
 s: Complete\nHome Team: Washed Up\nAway Team: Please, Jeremy - no late gam
 es!\nHome Score: 0\nAway Score: 3
END:VEVENT
BEGIN:VEVENT
UID:15059261@ezleagues.ezfacility.com
DTSTAMP:20260423T102935Z
CREATED:20260423T102935Z
DTSTART:20230719T011500Z
DTEND:20230719T021500Z
LOCATION:Sand Court 2
CONTACT:
SUMMARY:Notorious DIG VS. Washed Up
DESCRIPTION:League Name: Tuesday Women's BB\nGame Type: Regular\nGame Statu
 s: Complete\nHome Team: Notorious DIG\nAway Team: Washed Up\nHome Score: 0
 \nAway Score: 3
END:VEVENT
BEGIN:VEVENT
UID:15059265@ezleagues.ezfacility.com
DTSTAMP:20260423T102935Z
CREATED:20260423T102935Z
DTSTART:20230725T221500Z
DTEND:20230725T231500Z
LOCATION:Sand Court 2
CONTACT:
SUMMARY:Ball Busters VS. Washed Up
DESCRIPTION:League Name: Tuesday Women's BB\nGame Type: Regular\nGame Statu
 s: Complete\nHome Team: Ball Busters\nAway Team: Washed Up\nHome Score: 1\
 nAway Score: 2
END:VEVENT
BEGIN:VEVENT
UID:15059269@ezleagues.ezfacility.com
DTSTAMP:20260423T102935Z
CREATED:20260423T102935Z
DTSTART:20230802T001500Z
DTEND:20230802T011500Z
LOCATION:Sand Court 2
CONTACT:
SUMMARY:Ace is the Place VS. Washed Up
DESCRIPTION:League Name: Tuesday Women's BB\nGame Type: Regular\nGame Statu
 s: Complete\nHome Team: Ace is the Place\nAway Team: Washed Up\nHome Score
 : 0\nAway Score: 3
END:VEVENT
BEGIN:VEVENT
UID:15059273@ezleagues.ezfacility.com
DTSTAMP:20260423T102935Z
CREATED:20260423T102935Z
DTSTART:20230808T231500Z
DTEND:20230809T001500Z
LOCATION:Sand Court 2
CONTACT:
SUMMARY:No fourth VS. Washed Up
DESCRIPTION:League Name: Tuesday Women's BB\nGame Type: Regular\nGame Statu
 s: Pending\nHome Team: No fourth\nAway Team: Washed Up\n
END:VEVENT
BEGIN:VEVENT
UID:15059277@ezleagues.ezfacility.com
DTSTAMP:20260423T102935Z
CREATED:20260423T102935Z
DTSTART:20230816T011500Z
DTEND:20230816T021500Z
LOCATION:Sand Court 3
CONTACT:
SUMMARY:Washed Up VS. My sock
DESCRIPTION:League Name: Tuesday Women's BB\nGame Type: Regular\nGame Statu
 s: Complete\nHome Team: Washed Up\nAway Team: My sock\nHome Score: 1\nAway
  Score: 2
END:VEVENT
BEGIN:VEVENT
UID:15059283@ezleagues.ezfacility.com
DTSTAMP:20260423T102935Z
CREATED:20260423T102935Z
DTSTART:20230822T231500Z
DTEND:20230823T001500Z
LOCATION:Sand Court 2
CONTACT:
SUMMARY:Washed Up VS. Big Dig Energy
DESCRIPTION:League Name: Tuesday Women's BB\nGame Type: Regular\nGame Statu
 s: Complete\nHome Team: Washed Up\nAway Team: Big Dig Energy\nHome Score: 
 0\nAway Score: 3
END:VEVENT
BEGIN:VEVENT
UID:15059250@ezleagues.ezfacility.com
DTSTAMP:20260423T102935Z
CREATED:20260423T102935Z
DTSTART:20230829T221500Z
DTEND:20230829T231500Z
LOCATION:Sand Court 3
CONTACT:
SUMMARY:Washed Up VS. Balls up
DESCRIPTION:League Name: Tuesday Women's BB\nGame Type: Regular\nGame Statu
 s: Pending\nHome Team: Washed Up\nAway Team: Balls up\n
END:VEVENT
BEGIN:VEVENT
UID:15204570@ezleagues.ezfacility.com
DTSTAMP:20260423T102935Z
CREATED:20260423T102935Z
DTSTART:20230905T231500Z
DTEND:20230906T001500Z
LOCATION:Sand Court 2
CONTACT:
SUMMARY:Washed Up VS. Ball Busters
DESCRIPTION:League Name: Tuesday Women's BB\nGame Type: Postseason\nGame St
 atus: Complete\nHome Team: Washed Up\nAway Team: Ball Busters\nHome Score:
  0\nAway Score: 3
END:VEVENT
END:VCALENDAR
