BEGIN:VCALENDAR
VERSION:2.0
PRODID:-//EZFacility.com, Inc.//EZL 2.5.5.28621
BEGIN:VEVENT
UID:15060061@ezleagues.ezfacility.com
DTSTAMP:20260424T151906Z
CREATED:20260424T151906Z
DTSTART:20230517T221500Z
DTEND:20230517T231500Z
LOCATION:Sand Court 5
CONTACT:
SUMMARY:Attack on Spikin’ VS. Bad News Beavs
DESCRIPTION:League Name: Wednesday Coed 4s UB\nGame Type: Regular\nGame Sta
 tus: Complete\nHome Team: Attack on Spikin’\nAway Team: Bad News Beavs\n
 Home Score: 0\nAway Score: 3
END:VEVENT
BEGIN:VEVENT
UID:15060068@ezleagues.ezfacility.com
DTSTAMP:20260424T151906Z
CREATED:20260424T151906Z
DTSTART:20230525T011500Z
DTEND:20230525T021500Z
LOCATION:Sand Court 6
CONTACT:
SUMMARY:McCracken VS. Bad News Beavs
DESCRIPTION:League Name: Wednesday Coed 4s UB\nGame Type: Regular\nGame Sta
 tus: Complete\nHome Team: McCracken\nAway Team: Bad News Beavs\nHome Score
 : 3\nAway Score: 0
END:VEVENT
BEGIN:VEVENT
UID:15060072@ezleagues.ezfacility.com
DTSTAMP:20260424T151906Z
CREATED:20260424T151906Z
DTSTART:20230601T011500Z
DTEND:20230601T021500Z
LOCATION:Sand Court 4
CONTACT:
SUMMARY:The Tim’s VS. Bad News Beavs
DESCRIPTION:League Name: Wednesday Coed 4s UB\nGame Type: Regular\nGame Sta
 tus: Complete\nHome Team: The Tim’s\nAway Team: Bad News Beavs\nHome Sco
 re: 1\nAway Score: 2
END:VEVENT
BEGIN:VEVENT
UID:15060081@ezleagues.ezfacility.com
DTSTAMP:20260424T151906Z
CREATED:20260424T151906Z
DTSTART:20230607T221500Z
DTEND:20230607T231500Z
LOCATION:Sand Court 6
CONTACT:
SUMMARY:Bad News Beavs VS. Sibs Night Out
DESCRIPTION:League Name: Wednesday Coed 4s UB\nGame Type: Regular\nGame Sta
 tus: Complete\nHome Team: Bad News Beavs\nAway Team: Sibs Night Out\nHome 
 Score: 1\nAway Score: 2
END:VEVENT
BEGIN:VEVENT
UID:15060088@ezleagues.ezfacility.com
DTSTAMP:20260424T151906Z
CREATED:20260424T151906Z
DTSTART:20230615T011500Z
DTEND:20230615T021500Z
LOCATION:Sand Court 6
CONTACT:
SUMMARY:Bad News Beavs VS. Livorse
DESCRIPTION:League Name: Wednesday Coed 4s UB\nGame Type: Regular\nGame Sta
 tus: Complete\nHome Team: Bad News Beavs\nAway Team: Livorse\nHome Score: 
 2\nAway Score: 1
END:VEVENT
BEGIN:VEVENT
UID:15060095@ezleagues.ezfacility.com
DTSTAMP:20260424T151906Z
CREATED:20260424T151906Z
DTSTART:20230621T231500Z
DTEND:20230622T001500Z
LOCATION:Sand Court 6
CONTACT:
SUMMARY:Bad News Beavs VS. B.S.A.K.
DESCRIPTION:League Name: Wednesday Coed 4s UB\nGame Type: Regular\nGame Sta
 tus: Complete\nHome Team: Bad News Beavs\nAway Team: B.S.A.K.\nHome Score:
  2\nAway Score: 1
END:VEVENT
BEGIN:VEVENT
UID:15060106@ezleagues.ezfacility.com
DTSTAMP:20260424T151906Z
CREATED:20260424T151906Z
DTSTART:20230706T011500Z
DTEND:20230706T021500Z
LOCATION:Sand Court 6
CONTACT:
SUMMARY:Shots On Nick VS. Bad News Beavs
DESCRIPTION:League Name: Wednesday Coed 4s UB\nGame Type: Regular\nGame Sta
 tus: Complete\nHome Team: Shots On Nick\nAway Team: Bad News Beavs\nHome S
 core: 1\nAway Score: 2
END:VEVENT
BEGIN:VEVENT
UID:15060112@ezleagues.ezfacility.com
DTSTAMP:20260424T151906Z
CREATED:20260424T151906Z
DTSTART:20230712T221500Z
DTEND:20230712T231500Z
LOCATION:Sand Court 6
CONTACT:
SUMMARY:Bad News Beavs VS. volleypotamus
DESCRIPTION:League Name: Wednesday Coed 4s UB\nGame Type: Regular\nGame Sta
 tus: Complete\nHome Team: Bad News Beavs\nAway Team: volleypotamus\nHome S
 core: 3\nAway Score: 0
END:VEVENT
BEGIN:VEVENT
UID:15060117@ezleagues.ezfacility.com
DTSTAMP:20260424T151906Z
CREATED:20260424T151906Z
DTSTART:20230719T221500Z
DTEND:20230719T231500Z
LOCATION:Sand Court 6
CONTACT:
SUMMARY:Public Sets Offenders VS. Bad News Beavs
DESCRIPTION:League Name: Wednesday Coed 4s UB\nGame Type: Regular\nGame Sta
 tus: Complete\nHome Team: Public Sets Offenders\nAway Team: Bad News Beavs
 \nHome Score: 0\nAway Score: 3
END:VEVENT
BEGIN:VEVENT
UID:15060122@ezleagues.ezfacility.com
DTSTAMP:20260424T151906Z
CREATED:20260424T151906Z
DTSTART:20230726T221500Z
DTEND:20230726T231500Z
LOCATION:Sand Court 5
CONTACT:
SUMMARY:Daher's Pub VS. Bad News Beavs
DESCRIPTION:League Name: Wednesday Coed 4s UB\nGame Type: Regular\nGame Sta
 tus: Complete\nHome Team: Daher's Pub\nAway Team: Bad News Beavs\nHome Sco
 re: 1\nAway Score: 2
END:VEVENT
BEGIN:VEVENT
UID:15060127@ezleagues.ezfacility.com
DTSTAMP:20260424T151906Z
CREATED:20260424T151906Z
DTSTART:20230802T231500Z
DTEND:20230803T001500Z
LOCATION:Sand Court 6
CONTACT:
SUMMARY:Bad News Beavs VS. Attack on Spikin’
DESCRIPTION:League Name: Wednesday Coed 4s UB\nGame Type: Regular\nGame Sta
 tus: Complete\nHome Team: Bad News Beavs\nAway Team: Attack on Spikin’\n
 Home Score: 2\nAway Score: 1
END:VEVENT
BEGIN:VEVENT
UID:15060134@ezleagues.ezfacility.com
DTSTAMP:20260424T151906Z
CREATED:20260424T151906Z
DTSTART:20230810T001500Z
DTEND:20230810T011500Z
LOCATION:Sand Court 6
CONTACT:
SUMMARY:Bad News Beavs VS. McCracken
DESCRIPTION:League Name: Wednesday Coed 4s UB\nGame Type: Regular\nGame Sta
 tus: Complete\nHome Team: Bad News Beavs\nAway Team: McCracken\nHome Score
 : 2\nAway Score: 1
END:VEVENT
BEGIN:VEVENT
UID:15060138@ezleagues.ezfacility.com
DTSTAMP:20260424T151906Z
CREATED:20260424T151906Z
DTSTART:20230817T001500Z
DTEND:20230817T011500Z
LOCATION:Sand Court 6
CONTACT:
SUMMARY:Bad News Beavs VS. The Tim’s
DESCRIPTION:League Name: Wednesday Coed 4s UB\nGame Type: Regular\nGame Sta
 tus: Complete\nHome Team: Bad News Beavs\nAway Team: The Tim’s\nHome Sco
 re: 3\nAway Score: 0
END:VEVENT
BEGIN:VEVENT
UID:15060147@ezleagues.ezfacility.com
DTSTAMP:20260424T151906Z
CREATED:20260424T151906Z
DTSTART:20230824T001500Z
DTEND:20230824T011500Z
LOCATION:Sand Court 6
CONTACT:
SUMMARY:Bad News Beavs VS. Sibs Night Out
DESCRIPTION:League Name: Wednesday Coed 4s UB\nGame Type: Regular\nGame Sta
 tus: Pending\nHome Team: Bad News Beavs\nAway Team: Sibs Night Out\n
END:VEVENT
BEGIN:VEVENT
UID:15060154@ezleagues.ezfacility.com
DTSTAMP:20260424T151906Z
CREATED:20260424T151906Z
DTSTART:20230831T011500Z
DTEND:20230831T021500Z
LOCATION:Sand Court 6
CONTACT:
SUMMARY:Bad News Beavs VS. Livorse
DESCRIPTION:League Name: Wednesday Coed 4s UB\nGame Type: Regular\nGame Sta
 tus: Pending\nHome Team: Bad News Beavs\nAway Team: Livorse\n
END:VEVENT
BEGIN:VEVENT
UID:15205954@ezleagues.ezfacility.com
DTSTAMP:20260424T151906Z
CREATED:20260424T151906Z
DTSTART:20230906T231500Z
DTEND:20230907T001500Z
LOCATION:Sand Court 5
CONTACT:
SUMMARY:Bad News Beavs VS. B.S.A.K.
DESCRIPTION:League Name: Wednesday Coed 4s UB\nGame Type: Postseason\nGame 
 Status: Pending\nHome Team: Bad News Beavs\nAway Team: B.S.A.K.\n
END:VEVENT
END:VCALENDAR
