BEGIN:VCALENDAR
VERSION:2.0
PRODID:-//EZFacility.com, Inc.//EZL 2.5.5.28621
BEGIN:VEVENT
UID:15093691@ezleagues.ezfacility.com
DTSTAMP:20260424T043239Z
CREATED:20260424T043239Z
DTSTART:20230523T030000Z
DTEND:20230523T040000Z
LOCATION:Jessup Premier Field #1
CONTACT:
SUMMARY:Pumpkin Eaters VS. Polar Bears
DESCRIPTION:League Name: Mon Mens Over 35s 3rd div  \nGame Type: Regular\nG
 ame Status: Complete\nHome Team: Pumpkin Eaters\nAway Team: Polar Bears\nH
 ome Score: 6\nAway Score: 8
END:VEVENT
BEGIN:VEVENT
UID:15093707@ezleagues.ezfacility.com
DTSTAMP:20260424T043239Z
CREATED:20260424T043239Z
DTSTART:20230606T030000Z
DTEND:20230606T040000Z
LOCATION:Jessup Premier Field #1
CONTACT:
SUMMARY:Blue Devils VS. Polar Bears
DESCRIPTION:League Name: Mon Mens Over 35s 3rd div  \nGame Type: Regular\nG
 ame Status: Complete\nHome Team: Blue Devils\nAway Team: Polar Bears\nHome
  Score: 4\nAway Score: 3
END:VEVENT
BEGIN:VEVENT
UID:15093715@ezleagues.ezfacility.com
DTSTAMP:20260424T043239Z
CREATED:20260424T043239Z
DTSTART:20230612T230000Z
DTEND:20230613T000000Z
LOCATION:Jessup Premier Field #2
CONTACT:
SUMMARY:Man Chest Hair United VS. Polar Bears
DESCRIPTION:League Name: Mon Mens Over 35s 3rd div  \nGame Type: Regular\nG
 ame Status: Complete\nHome Team: Man Chest Hair United\nAway Team: Polar B
 ears\nHome Score: 4\nAway Score: 0
END:VEVENT
BEGIN:VEVENT
UID:15093723@ezleagues.ezfacility.com
DTSTAMP:20260424T043239Z
CREATED:20260424T043239Z
DTSTART:20230620T000000Z
DTEND:20230620T010000Z
LOCATION:Jessup Premier Field #1
CONTACT:
SUMMARY:Polar Bears VS. It’s about to get Messi
DESCRIPTION:League Name: Mon Mens Over 35s 3rd div  \nGame Type: Regular\nG
 ame Status: Complete\nHome Team: Polar Bears\nAway Team: It’s about to g
 et Messi\nHome Score: 8\nAway Score: 2
END:VEVENT
BEGIN:VEVENT
UID:15093733@ezleagues.ezfacility.com
DTSTAMP:20260424T043239Z
CREATED:20260424T043239Z
DTSTART:20230627T000000Z
DTEND:20230627T010000Z
LOCATION:Jessup Premier Field #2
CONTACT:
SUMMARY:Polar Bears VS. Desk Jockeys
DESCRIPTION:League Name: Mon Mens Over 35s 3rd div  \nGame Type: Regular\nG
 ame Status: Complete\nHome Team: Polar Bears\nAway Team: Desk Jockeys\nHom
 e Score: 3\nAway Score: 7
END:VEVENT
BEGIN:VEVENT
UID:15093743@ezleagues.ezfacility.com
DTSTAMP:20260424T043239Z
CREATED:20260424T043239Z
DTSTART:20230704T020000Z
DTEND:20230704T030000Z
LOCATION:Jessup Premier Field #1
CONTACT:
SUMMARY:Polar Bears VS. Injured FC
DESCRIPTION:League Name: Mon Mens Over 35s 3rd div  \nGame Type: Regular\nG
 ame Status: Complete\nHome Team: Polar Bears\nAway Team: Injured FC\nHome 
 Score: 5\nAway Score: 7
END:VEVENT
BEGIN:VEVENT
UID:15093699@ezleagues.ezfacility.com
DTSTAMP:20260424T043239Z
CREATED:20260424T043239Z
DTSTART:20230711T020000Z
DTEND:20230711T030000Z
LOCATION:Jessup Premier Field #2
CONTACT:
SUMMARY:Broadneck BNO VS. Polar Bears
DESCRIPTION:League Name: Mon Mens Over 35s 3rd div  \nGame Type: Regular\nG
 ame Status: Complete\nHome Team: Broadneck BNO\nAway Team: Polar Bears\nHo
 me Score: 1\nAway Score: 3
END:VEVENT
BEGIN:VEVENT
UID:15150727@ezleagues.ezfacility.com
DTSTAMP:20260424T043239Z
CREATED:20260424T043239Z
DTSTART:20230718T030000Z
DTEND:20230718T034800Z
LOCATION:Jessup Premier Field #1
CONTACT:
SUMMARY:Broadneck BNO VS. Polar Bears
DESCRIPTION:League Name: Mon Mens Over 35s 3rd div  \nGame Type: Regular\nG
 ame Status: Complete\nHome Team: Broadneck BNO\nAway Team: Polar Bears\nHo
 me Score: 4\nAway Score: 3
END:VEVENT
BEGIN:VEVENT
UID:15154291@ezleagues.ezfacility.com
DTSTAMP:20260424T043239Z
CREATED:20260424T043239Z
DTSTART:20230725T020000Z
DTEND:20230725T024800Z
LOCATION:Jessup Premier Field #1
CONTACT:
SUMMARY:Desk Jockeys VS. Polar Bears
DESCRIPTION:League Name: Mon Mens Over 35s 3rd div  \nGame Type: Regular\nG
 ame Status: Complete\nHome Team: Desk Jockeys\nAway Team: Polar Bears\nHom
 e Score: 5\nAway Score: 7
END:VEVENT
END:VCALENDAR
