BEGIN:VCALENDAR
VERSION:2.0
PRODID:-//EZFacility.com, Inc.//EZL 2.5.5.28621
BEGIN:VEVENT
UID:15579277@ezleagues.ezfacility.com
DTSTAMP:20260421T091116Z
CREATED:20260421T091116Z
DTSTART:20240201T000000Z
DTEND:20240201T005000Z
LOCATION:Jessup Premier Field #2
CONTACT:
SUMMARY:Elite Crema U FC VS. Guate FC
DESCRIPTION:League Name: Wed Mens Open 3rd div \nGame Type: Regular\nGame S
 tatus: Complete\nHome Team: Elite Crema U FC\nAway Team: Guate FC\nHome Sc
 ore: 1\nAway Score: 6
END:VEVENT
BEGIN:VEVENT
UID:15579287@ezleagues.ezfacility.com
DTSTAMP:20260421T091116Z
CREATED:20260421T091116Z
DTSTART:20240208T000000Z
DTEND:20240208T005000Z
LOCATION:Jessup Premier Field #2
CONTACT:
SUMMARY:Elite Crema U FC VS. Inter DC
DESCRIPTION:League Name: Wed Mens Open 3rd div \nGame Type: Regular\nGame S
 tatus: Complete\nHome Team: Elite Crema U FC\nAway Team: Inter DC\nHome Sc
 ore: 3\nAway Score: 3
END:VEVENT
BEGIN:VEVENT
UID:15579301@ezleagues.ezfacility.com
DTSTAMP:20260421T091116Z
CREATED:20260421T091116Z
DTSTART:20240215T023000Z
DTEND:20240215T032000Z
LOCATION:Jessup Premier Field #2
CONTACT:
SUMMARY:Atletico Balboa VS. Elite Crema U FC
DESCRIPTION:League Name: Wed Mens Open 3rd div \nGame Type: Regular\nGame S
 tatus: Complete\nHome Team: Atletico Balboa\nAway Team: Elite Crema U FC\n
 Home Score: 5\nAway Score: 3
END:VEVENT
BEGIN:VEVENT
UID:15579313@ezleagues.ezfacility.com
DTSTAMP:20260421T091116Z
CREATED:20260421T091116Z
DTSTART:20240222T000000Z
DTEND:20240222T005000Z
LOCATION:Jessup Premier Field #2
CONTACT:
SUMMARY:Cedar FC VS. Elite Crema U FC
DESCRIPTION:League Name: Wed Mens Open 3rd div \nGame Type: Regular\nGame S
 tatus: Complete\nHome Team: Cedar FC\nAway Team: Elite Crema U FC\nHome Sc
 ore: 0\nAway Score: 1
END:VEVENT
BEGIN:VEVENT
UID:15579324@ezleagues.ezfacility.com
DTSTAMP:20260421T091116Z
CREATED:20260421T091116Z
DTSTART:20240229T041000Z
DTEND:20240229T050000Z
LOCATION:Jessup Premier Field #1
CONTACT:
SUMMARY:Deportivo Olimpico VS. Elite Crema U FC
DESCRIPTION:League Name: Wed Mens Open 3rd div \nGame Type: Regular\nGame S
 tatus: Complete\nHome Team: Deportivo Olimpico\nAway Team: Elite Crema U F
 C\nHome Score: 7\nAway Score: 4
END:VEVENT
BEGIN:VEVENT
UID:15579336@ezleagues.ezfacility.com
DTSTAMP:20260421T091116Z
CREATED:20260421T091116Z
DTSTART:20240307T014000Z
DTEND:20240307T023000Z
LOCATION:Jessup Premier Field #2
CONTACT:
SUMMARY:Galaxy VS. Elite Crema U FC
DESCRIPTION:League Name: Wed Mens Open 3rd div \nGame Type: Regular\nGame S
 tatus: Complete\nHome Team: Galaxy\nAway Team: Elite Crema U FC\nHome Scor
 e: 4\nAway Score: 5
END:VEVENT
BEGIN:VEVENT
UID:15579346@ezleagues.ezfacility.com
DTSTAMP:20260421T091116Z
CREATED:20260421T091116Z
DTSTART:20240314T022000Z
DTEND:20240314T031000Z
LOCATION:Jessup Premier Field #2
CONTACT:
SUMMARY:Elite Crema U FC VS. Santiagueno FC
DESCRIPTION:League Name: Wed Mens Open 3rd div \nGame Type: Regular\nGame S
 tatus: Complete\nHome Team: Elite Crema U FC\nAway Team: Santiagueno FC\nH
 ome Score: 4\nAway Score: 5
END:VEVENT
BEGIN:VEVENT
UID:15662425@ezleagues.ezfacility.com
DTSTAMP:20260421T091116Z
CREATED:20260421T091116Z
DTSTART:20240321T004000Z
DTEND:20240321T014000Z
LOCATION:Jessup Premier Field #2
CONTACT:
SUMMARY:Atletico Balboa VS. Elite Crema U FC
DESCRIPTION:League Name: Wed Mens Open 3rd div \nGame Type: Regular\nGame S
 tatus: Complete\nHome Team: Atletico Balboa\nAway Team: Elite Crema U FC\n
 Home Score: 5\nAway Score: 4
END:VEVENT
BEGIN:VEVENT
UID:15668845@ezleagues.ezfacility.com
DTSTAMP:20260421T091116Z
CREATED:20260421T091116Z
DTSTART:20240328T031000Z
DTEND:20240328T040000Z
LOCATION:Jessup Premier Field #1
CONTACT:
SUMMARY:Santiagueno FC VS. Elite Crema U FC
DESCRIPTION:League Name: Wed Mens Open 3rd div \nGame Type: Regular\nGame S
 tatus: Complete\nHome Team: Santiagueno FC\nAway Team: Elite Crema U FC\nH
 ome Score: 3\nAway Score: 0
END:VEVENT
END:VCALENDAR
