BEGIN:VCALENDAR
VERSION:2.0
PRODID:-//EZFacility.com, Inc.//EZL 2.5.5.28621
BEGIN:VEVENT
UID:15086623@ezleagues.ezfacility.com
DTSTAMP:20260423T113007Z
CREATED:20260423T113007Z
DTSTART:20230604T120000Z
DTEND:20230604T125000Z
LOCATION:Soccer Field 3B
CONTACT:
SUMMARY:Nyugeners VS. Upper 90
DESCRIPTION:League Name: Adult Womens Soccer Summer 2023\nGame Type: Regula
 r\nGame Status: Complete\nHome Team: Nyugeners\nAway Team: Upper 90\nHome 
 Score: 1\nAway Score: 1
END:VEVENT
BEGIN:VEVENT
UID:15086626@ezleagues.ezfacility.com
DTSTAMP:20260423T113007Z
CREATED:20260423T113007Z
DTSTART:20230611T123000Z
DTEND:20230611T132000Z
LOCATION:Soccer Field 3A
CONTACT:
SUMMARY:Upper 90 VS. 10 Years Ago
DESCRIPTION:League Name: Adult Womens Soccer Summer 2023\nGame Type: Regula
 r\nGame Status: Complete\nHome Team: Upper 90\nAway Team: 10 Years Ago\nHo
 me Score: 1\nAway Score: 0
END:VEVENT
BEGIN:VEVENT
UID:15086628@ezleagues.ezfacility.com
DTSTAMP:20260423T113007Z
CREATED:20260423T113007Z
DTSTART:20230611T132200Z
DTEND:20230611T141200Z
LOCATION:Soccer Field 3B
CONTACT:
SUMMARY:Upper 90 VS. Blasters
DESCRIPTION:League Name: Adult Womens Soccer Summer 2023\nGame Type: Regula
 r\nGame Status: Complete\nHome Team: Upper 90\nAway Team: Blasters\nHome S
 core: 3\nAway Score: 1
END:VEVENT
BEGIN:VEVENT
UID:15086630@ezleagues.ezfacility.com
DTSTAMP:20260423T113007Z
CREATED:20260423T113007Z
DTSTART:20230618T132200Z
DTEND:20230618T141200Z
LOCATION:Soccer Field 3A
CONTACT:
SUMMARY:20 Years Ago VS. Upper 90
DESCRIPTION:League Name: Adult Womens Soccer Summer 2023\nGame Type: Regula
 r\nGame Status: Complete\nHome Team: 20 Years Ago\nAway Team: Upper 90\nHo
 me Score: 2\nAway Score: 1
END:VEVENT
BEGIN:VEVENT
UID:15086638@ezleagues.ezfacility.com
DTSTAMP:20260423T113007Z
CREATED:20260423T113007Z
DTSTART:20230709T123000Z
DTEND:20230709T132000Z
LOCATION:Soccer Field 3A
CONTACT:
SUMMARY:Upper 90 VS. Nyugeners
DESCRIPTION:League Name: Adult Womens Soccer Summer 2023\nGame Type: Regula
 r\nGame Status: Complete\nHome Team: Upper 90\nAway Team: Nyugeners\nHome 
 Score: 3\nAway Score: 2
END:VEVENT
BEGIN:VEVENT
UID:15086634@ezleagues.ezfacility.com
DTSTAMP:20260423T113007Z
CREATED:20260423T113007Z
DTSTART:20230709T132200Z
DTEND:20230709T141200Z
LOCATION:Soccer Field 3B
CONTACT:
SUMMARY:Cyclones VS. Upper 90
DESCRIPTION:League Name: Adult Womens Soccer Summer 2023\nGame Type: Regula
 r\nGame Status: Complete\nHome Team: Cyclones\nAway Team: Upper 90\nHome S
 core: 0\nAway Score: 3
END:VEVENT
BEGIN:VEVENT
UID:15086641@ezleagues.ezfacility.com
DTSTAMP:20260423T113007Z
CREATED:20260423T113007Z
DTSTART:20230716T123000Z
DTEND:20230716T132000Z
LOCATION:Soccer Field 3A
CONTACT:
SUMMARY:10 Years Ago VS. Upper 90
DESCRIPTION:League Name: Adult Womens Soccer Summer 2023\nGame Type: Regula
 r\nGame Status: Complete\nHome Team: 10 Years Ago\nAway Team: Upper 90\nHo
 me Score: 4\nAway Score: 3
END:VEVENT
BEGIN:VEVENT
UID:15086643@ezleagues.ezfacility.com
DTSTAMP:20260423T113007Z
CREATED:20260423T113007Z
DTSTART:20230723T132200Z
DTEND:20230723T141200Z
LOCATION:Soccer Field 3A
CONTACT:
SUMMARY:Blasters VS. Upper 90
DESCRIPTION:League Name: Adult Womens Soccer Summer 2023\nGame Type: Regula
 r\nGame Status: Complete\nHome Team: Blasters\nAway Team: Upper 90\nHome S
 core: 1\nAway Score: 1
END:VEVENT
BEGIN:VEVENT
UID:15086645@ezleagues.ezfacility.com
DTSTAMP:20260423T113007Z
CREATED:20260423T113007Z
DTSTART:20230730T132200Z
DTEND:20230730T141200Z
LOCATION:Soccer Field 3A
CONTACT:
SUMMARY:Upper 90 VS. 20 Years Ago
DESCRIPTION:League Name: Adult Womens Soccer Summer 2023\nGame Type: Regula
 r\nGame Status: Complete\nHome Team: Upper 90\nAway Team: 20 Years Ago\nHo
 me Score: 1\nAway Score: 1
END:VEVENT
BEGIN:VEVENT
UID:15086649@ezleagues.ezfacility.com
DTSTAMP:20260423T113007Z
CREATED:20260423T113007Z
DTSTART:20230806T123000Z
DTEND:20230806T132000Z
LOCATION:Soccer Field 3B
CONTACT:
SUMMARY:Upper 90 VS. Cyclones
DESCRIPTION:League Name: Adult Womens Soccer Summer 2023\nGame Type: Regula
 r\nGame Status: Complete\nHome Team: Upper 90\nAway Team: Cyclones\nHome S
 core: 1\nAway Score: 0
END:VEVENT
BEGIN:VEVENT
UID:15086653@ezleagues.ezfacility.com
DTSTAMP:20260423T113007Z
CREATED:20260423T113007Z
DTSTART:20230813T123000Z
DTEND:20230813T132000Z
LOCATION:Soccer Field 3A
CONTACT:
SUMMARY:Upper 90 VS. Nyugeners
DESCRIPTION:League Name: Adult Womens Soccer Summer 2023\nGame Type: Regula
 r\nGame Status: Complete\nHome Team: Upper 90\nAway Team: Nyugeners\nHome 
 Score: 4\nAway Score: 1
END:VEVENT
BEGIN:VEVENT
UID:15086651@ezleagues.ezfacility.com
DTSTAMP:20260423T113007Z
CREATED:20260423T113007Z
DTSTART:20230813T132200Z
DTEND:20230813T141200Z
LOCATION:Soccer Field 3A
CONTACT:
SUMMARY:Upper 90 VS. 20 Years Ago
DESCRIPTION:League Name: Adult Womens Soccer Summer 2023\nGame Type: Regula
 r\nGame Status: Complete\nHome Team: Upper 90\nAway Team: 20 Years Ago\nHo
 me Score: 0\nAway Score: 4
END:VEVENT
END:VCALENDAR
