BEGIN:VCALENDAR
VERSION:2.0
PRODID:-//EZFacility.com, Inc.//EZL 2.5.5.28621
BEGIN:VEVENT
UID:15119624@ezleagues.ezfacility.com
DTSTAMP:20260421T014042Z
CREATED:20260421T014042Z
DTSTART:20230623T023000Z
DTEND:20230623T034500Z
LOCATION:Mountain View Ice Arena
CONTACT:Mischke\, Doherty\, McIntyre(scorekeeper)
SUMMARY:Dirty Mike and The Boys VS. Cycle Dogs
DESCRIPTION:League Name: Summer Adult League 2023 -Over 35\nGame Type: Regu
 lar\nGame Status: Complete\nHome Team: Dirty Mike and The Boys\nAway Team:
  Cycle Dogs\nHome Score: 5\nAway Score: 2
END:VEVENT
BEGIN:VEVENT
UID:15119627@ezleagues.ezfacility.com
DTSTAMP:20260421T014042Z
CREATED:20260421T014042Z
DTSTART:20230630T053000Z
DTEND:20230630T064500Z
LOCATION:Mountain View Ice Arena
CONTACT:McIntyre(scorekeeper)\, Doherty\, Mischke
SUMMARY:Dirty Mike and The Boys VS. Storm
DESCRIPTION:League Name: Summer Adult League 2023 -Over 35\nGame Type: Regu
 lar\nGame Status: Complete\nHome Team: Dirty Mike and The Boys\nAway Team:
  Storm\nHome Score: 6\nAway Score: 2
END:VEVENT
BEGIN:VEVENT
UID:15119630@ezleagues.ezfacility.com
DTSTAMP:20260421T014042Z
CREATED:20260421T014042Z
DTSTART:20230707T053000Z
DTEND:20230707T064500Z
LOCATION:Mountain View Ice Arena
CONTACT:McIntyre(scorekeeper)\, Mischke
SUMMARY:Dirty Mike and The Boys VS. White Trash
DESCRIPTION:League Name: Summer Adult League 2023 -Over 35\nGame Type: Regu
 lar\nGame Status: Complete\nHome Team: Dirty Mike and The Boys\nAway Team:
  White Trash\nHome Score: 2\nAway Score: 3
END:VEVENT
BEGIN:VEVENT
UID:15119633@ezleagues.ezfacility.com
DTSTAMP:20260421T014042Z
CREATED:20260421T014042Z
DTSTART:20230714T023000Z
DTEND:20230714T034500Z
LOCATION:Mountain View Ice Arena
CONTACT:McIntyre(scorekeeper)\, Mischke
SUMMARY:Dirty Mike and The Boys VS. Redrum
DESCRIPTION:League Name: Summer Adult League 2023 -Over 35\nGame Type: Regu
 lar\nGame Status: Complete\nHome Team: Dirty Mike and The Boys\nAway Team:
  Redrum\nHome Score: 2\nAway Score: 6
END:VEVENT
BEGIN:VEVENT
UID:15119636@ezleagues.ezfacility.com
DTSTAMP:20260421T014042Z
CREATED:20260421T014042Z
DTSTART:20230721T040000Z
DTEND:20230721T051500Z
LOCATION:Mountain View Ice Arena
CONTACT:McIntyre(scorekeeper)
SUMMARY:Battalion VS. Dirty Mike and The Boys
DESCRIPTION:League Name: Summer Adult League 2023 -Over 35\nGame Type: Regu
 lar\nGame Status: Complete\nHome Team: Battalion\nAway Team: Dirty Mike an
 d The Boys\nHome Score: 6\nAway Score: 2
END:VEVENT
BEGIN:VEVENT
UID:15119639@ezleagues.ezfacility.com
DTSTAMP:20260421T014042Z
CREATED:20260421T014042Z
DTSTART:20230728T040000Z
DTEND:20230728T051500Z
LOCATION:Mountain View Ice Arena
CONTACT:Wolfe
SUMMARY:Cycle Dogs VS. Dirty Mike and The Boys
DESCRIPTION:League Name: Summer Adult League 2023 -Over 35\nGame Type: Regu
 lar\nGame Status: Complete\nHome Team: Cycle Dogs\nAway Team: Dirty Mike a
 nd The Boys\nHome Score: 6\nAway Score: 1
END:VEVENT
BEGIN:VEVENT
UID:15119642@ezleagues.ezfacility.com
DTSTAMP:20260421T014042Z
CREATED:20260421T014042Z
DTSTART:20230804T023000Z
DTEND:20230804T034500Z
LOCATION:Mountain View Ice Arena
CONTACT:Doherty
SUMMARY:Storm VS. Dirty Mike and The Boys
DESCRIPTION:League Name: Summer Adult League 2023 -Over 35\nGame Type: Regu
 lar\nGame Status: Complete\nHome Team: Storm\nAway Team: Dirty Mike and Th
 e Boys\nHome Score: 4\nAway Score: 8
END:VEVENT
BEGIN:VEVENT
UID:15119645@ezleagues.ezfacility.com
DTSTAMP:20260421T014042Z
CREATED:20260421T014042Z
DTSTART:20230811T023000Z
DTEND:20230811T034500Z
LOCATION:Mountain View Ice Arena
CONTACT:
SUMMARY:White Trash VS. Dirty Mike and The Boys
DESCRIPTION:League Name: Summer Adult League 2023 -Over 35\nGame Type: Regu
 lar\nGame Status: Complete\nHome Team: White Trash\nAway Team: Dirty Mike 
 and The Boys\nHome Score: 7\nAway Score: 5
END:VEVENT
BEGIN:VEVENT
UID:15167595@ezleagues.ezfacility.com
DTSTAMP:20260421T014042Z
CREATED:20260421T014042Z
DTSTART:20230818T043000Z
DTEND:20230818T054500Z
LOCATION:Mountain View Ice Arena
CONTACT:Nearman
SUMMARY:Cycle Dogs VS. Dirty Mike and The Boys
DESCRIPTION:League Name: Summer Adult League 2023 -Over 35\nGame Type: Post
 season\nGame Status: Complete\nHome Team: Cycle Dogs\nAway Team: Dirty Mik
 e and The Boys\nHome Score: 5\nAway Score: 8
END:VEVENT
BEGIN:VEVENT
UID:15167597@ezleagues.ezfacility.com
DTSTAMP:20260421T014042Z
CREATED:20260421T014042Z
DTSTART:20230825T043000Z
DTEND:20230825T054500Z
LOCATION:Mountain View Ice Arena
CONTACT:
SUMMARY:White Trash VS. Dirty Mike and The Boys
DESCRIPTION:League Name: Summer Adult League 2023 -Over 35\nGame Type: Post
 season\nGame Status: Pending\nHome Team: White Trash\nAway Team: Dirty Mik
 e and The Boys\n
END:VEVENT
BEGIN:VEVENT
UID:15167598@ezleagues.ezfacility.com
DTSTAMP:20260421T014042Z
CREATED:20260421T014042Z
DTSTART:20230901T030000Z
DTEND:20230901T041500Z
LOCATION:Mountain View Ice Arena
CONTACT:McIntyre(scorekeeper)
SUMMARY:Storm VS. Dirty Mike and The Boys
DESCRIPTION:League Name: Summer Adult League 2023 -Over 35\nGame Type: Post
 season\nGame Status: Complete\nHome Team: Storm\nAway Team: Dirty Mike and
  The Boys\nHome Score: 8\nAway Score: 4
END:VEVENT
END:VCALENDAR
