BEGIN:VCALENDAR
VERSION:2.0
PRODID:-//EZFacility.com, Inc.//EZL 2.5.5.28621
BEGIN:VEVENT
UID:15119625@ezleagues.ezfacility.com
DTSTAMP:20260424T064655Z
CREATED:20260424T064655Z
DTSTART:20230623T040000Z
DTEND:20230623T051500Z
LOCATION:Mountain View Ice Arena
CONTACT:Mischke\, Doherty\, McIntyre(scorekeeper)
SUMMARY:Storm VS. Battalion
DESCRIPTION:League Name: Summer Adult League 2023 -Over 35\nGame Type: Regu
 lar\nGame Status: Complete\nHome Team: Storm\nAway Team: Battalion\nHome S
 core: 0\nAway Score: 4
END:VEVENT
BEGIN:VEVENT
UID:15119629@ezleagues.ezfacility.com
DTSTAMP:20260424T064655Z
CREATED:20260424T064655Z
DTSTART:20230630T023000Z
DTEND:20230630T034500Z
LOCATION:Mountain View Ice Arena
CONTACT:McIntyre(scorekeeper)\, Doherty\, Mischke
SUMMARY:Redrum VS. Battalion
DESCRIPTION:League Name: Summer Adult League 2023 -Over 35\nGame Type: Regu
 lar\nGame Status: Complete\nHome Team: Redrum\nAway Team: Battalion\nHome 
 Score: 1\nAway Score: 4
END:VEVENT
BEGIN:VEVENT
UID:15119632@ezleagues.ezfacility.com
DTSTAMP:20260424T064655Z
CREATED:20260424T064655Z
DTSTART:20230707T023000Z
DTEND:20230707T034500Z
LOCATION:Mountain View Ice Arena
CONTACT:McIntyre(scorekeeper)\, Mischke
SUMMARY:Battalion VS. Cycle Dogs
DESCRIPTION:League Name: Summer Adult League 2023 -Over 35\nGame Type: Regu
 lar\nGame Status: Complete\nHome Team: Battalion\nAway Team: Cycle Dogs\nH
 ome Score: 4\nAway Score: 1
END:VEVENT
BEGIN:VEVENT
UID:15119634@ezleagues.ezfacility.com
DTSTAMP:20260424T064655Z
CREATED:20260424T064655Z
DTSTART:20230714T040000Z
DTEND:20230714T051500Z
LOCATION:Mountain View Ice Arena
CONTACT:McIntyre(scorekeeper)\, Mischke
SUMMARY:White Trash VS. Battalion
DESCRIPTION:League Name: Summer Adult League 2023 -Over 35\nGame Type: Regu
 lar\nGame Status: Complete\nHome Team: White Trash\nAway Team: Battalion\n
 Home Score: 1\nAway Score: 4
END:VEVENT
BEGIN:VEVENT
UID:15119636@ezleagues.ezfacility.com
DTSTAMP:20260424T064655Z
CREATED:20260424T064655Z
DTSTART:20230721T040000Z
DTEND:20230721T051500Z
LOCATION:Mountain View Ice Arena
CONTACT:McIntyre(scorekeeper)
SUMMARY:Battalion VS. Dirty Mike and The Boys
DESCRIPTION:League Name: Summer Adult League 2023 -Over 35\nGame Type: Regu
 lar\nGame Status: Complete\nHome Team: Battalion\nAway Team: Dirty Mike an
 d The Boys\nHome Score: 6\nAway Score: 2
END:VEVENT
BEGIN:VEVENT
UID:15119640@ezleagues.ezfacility.com
DTSTAMP:20260424T064655Z
CREATED:20260424T064655Z
DTSTART:20230728T023000Z
DTEND:20230728T034500Z
LOCATION:Mountain View Ice Arena
CONTACT:Wolfe
SUMMARY:Battalion VS. Storm
DESCRIPTION:League Name: Summer Adult League 2023 -Over 35\nGame Type: Regu
 lar\nGame Status: Complete\nHome Team: Battalion\nAway Team: Storm\nHome S
 core: 3\nAway Score: 2
END:VEVENT
BEGIN:VEVENT
UID:15119644@ezleagues.ezfacility.com
DTSTAMP:20260424T064655Z
CREATED:20260424T064655Z
DTSTART:20230804T053000Z
DTEND:20230804T064500Z
LOCATION:Mountain View Ice Arena
CONTACT:Doherty
SUMMARY:Battalion VS. Redrum
DESCRIPTION:League Name: Summer Adult League 2023 -Over 35\nGame Type: Regu
 lar\nGame Status: Complete\nHome Team: Battalion\nAway Team: Redrum\nHome 
 Score: 3\nAway Score: 1
END:VEVENT
BEGIN:VEVENT
UID:15119647@ezleagues.ezfacility.com
DTSTAMP:20260424T064655Z
CREATED:20260424T064655Z
DTSTART:20230811T040000Z
DTEND:20230811T051500Z
LOCATION:Mountain View Ice Arena
CONTACT:
SUMMARY:Cycle Dogs VS. Battalion
DESCRIPTION:League Name: Summer Adult League 2023 -Over 35\nGame Type: Regu
 lar\nGame Status: Complete\nHome Team: Cycle Dogs\nAway Team: Battalion\nH
 ome Score: 4\nAway Score: 7
END:VEVENT
BEGIN:VEVENT
UID:15167596@ezleagues.ezfacility.com
DTSTAMP:20260424T064655Z
CREATED:20260424T064655Z
DTSTART:20230825T030000Z
DTEND:20230825T041500Z
LOCATION:Mountain View Ice Arena
CONTACT:
SUMMARY:Battalion VS. Storm
DESCRIPTION:League Name: Summer Adult League 2023 -Over 35\nGame Type: Post
 season\nGame Status: Pending\nHome Team: Battalion\nAway Team: Storm\n
END:VEVENT
END:VCALENDAR
