BEGIN:VCALENDAR
VERSION:2.0
PRODID:-//EZFacility.com, Inc.//EZL 2.5.5.28621
BEGIN:VEVENT
UID:15332309@ezleagues.ezfacility.com
DTSTAMP:20260426T034041Z
CREATED:20260426T034041Z
DTSTART:20231027T004000Z
DTEND:20231027T013000Z
LOCATION:Jessup Premier Field #1
CONTACT:
SUMMARY:Youngblood VS. Flamengo
DESCRIPTION:League Name: Thurs Mens Open 1st div \nGame Type: Regular\nGame
  Status: Complete\nHome Team: Youngblood\nAway Team: Flamengo\nHome Score:
  4\nAway Score: 3
END:VEVENT
BEGIN:VEVENT
UID:15332321@ezleagues.ezfacility.com
DTSTAMP:20260426T034041Z
CREATED:20260426T034041Z
DTSTART:20231103T004000Z
DTEND:20231103T013000Z
LOCATION:Jessup Premier Field #2
CONTACT:
SUMMARY:Los Simpsons VS. Youngblood
DESCRIPTION:League Name: Thurs Mens Open 1st div \nGame Type: Regular\nGame
  Status: Complete\nHome Team: Los Simpsons\nAway Team: Youngblood\nHome Sc
 ore: 3\nAway Score: 0
END:VEVENT
BEGIN:VEVENT
UID:15332333@ezleagues.ezfacility.com
DTSTAMP:20260426T034041Z
CREATED:20260426T034041Z
DTSTART:20231110T014000Z
DTEND:20231110T023000Z
LOCATION:Jessup Premier Field #1
CONTACT:
SUMMARY:Shiro Gang VS. Youngblood
DESCRIPTION:League Name: Thurs Mens Open 1st div \nGame Type: Regular\nGame
  Status: Complete\nHome Team: Shiro Gang\nAway Team: Youngblood\nHome Scor
 e: 2\nAway Score: 7
END:VEVENT
BEGIN:VEVENT
UID:15332345@ezleagues.ezfacility.com
DTSTAMP:20260426T034041Z
CREATED:20260426T034041Z
DTSTART:20231117T000000Z
DTEND:20231117T005000Z
LOCATION:Jessup Premier Field #2
CONTACT:
SUMMARY:FC 99 VS. Youngblood
DESCRIPTION:League Name: Thurs Mens Open 1st div \nGame Type: Regular\nGame
  Status: Complete\nHome Team: FC 99\nAway Team: Youngblood\nHome Score: 6\
 nAway Score: 11
END:VEVENT
BEGIN:VEVENT
UID:15332369@ezleagues.ezfacility.com
DTSTAMP:20260426T034041Z
CREATED:20260426T034041Z
DTSTART:20231201T005000Z
DTEND:20231201T014000Z
LOCATION:Jessup Premier Field #1
CONTACT:
SUMMARY:Youngblood VS. Boofin FC
DESCRIPTION:League Name: Thurs Mens Open 1st div \nGame Type: Regular\nGame
  Status: Complete\nHome Team: Youngblood\nAway Team: Boofin FC\nHome Score
 : 10\nAway Score: 3
END:VEVENT
BEGIN:VEVENT
UID:15332381@ezleagues.ezfacility.com
DTSTAMP:20260426T034041Z
CREATED:20260426T034041Z
DTSTART:20231208T023000Z
DTEND:20231208T032000Z
LOCATION:Jessup Premier Field #1
CONTACT:
SUMMARY:Youngblood VS. Heads Up
DESCRIPTION:League Name: Thurs Mens Open 1st div \nGame Type: Regular\nGame
  Status: Complete\nHome Team: Youngblood\nAway Team: Heads Up\nHome Score:
  5\nAway Score: 2
END:VEVENT
BEGIN:VEVENT
UID:15332357@ezleagues.ezfacility.com
DTSTAMP:20260426T034041Z
CREATED:20260426T034041Z
DTSTART:20231215T032000Z
DTEND:20231215T041000Z
LOCATION:Jessup Premier Field #2
CONTACT:
SUMMARY:Xolos VS. Youngblood
DESCRIPTION:League Name: Thurs Mens Open 1st div \nGame Type: Regular\nGame
  Status: Complete\nHome Team: Xolos\nAway Team: Youngblood\nHome Score: 5\
 nAway Score: 5
END:VEVENT
BEGIN:VEVENT
UID:15480155@ezleagues.ezfacility.com
DTSTAMP:20260426T034041Z
CREATED:20260426T034041Z
DTSTART:20231222T032000Z
DTEND:20231222T040800Z
LOCATION:Jessup Premier Field #1
CONTACT:
SUMMARY:Youngblood VS. Los Simpsons
DESCRIPTION:League Name: Thurs Mens Open 1st div \nGame Type: Regular\nGame
  Status: Complete\nHome Team: Youngblood\nAway Team: Los Simpsons\nHome Sc
 ore: 6\nAway Score: 3
END:VEVENT
BEGIN:VEVENT
UID:15495863@ezleagues.ezfacility.com
DTSTAMP:20260426T034041Z
CREATED:20260426T034041Z
DTSTART:20240105T023000Z
DTEND:20240105T031800Z
LOCATION:Jessup Premier Field #1
CONTACT:
SUMMARY:Shiro Gang VS. Youngblood
DESCRIPTION:League Name: Thurs Mens Open 1st div \nGame Type: Regular\nGame
  Status: Complete\nHome Team: Shiro Gang\nAway Team: Youngblood\nHome Scor
 e: 3\nAway Score: 7
END:VEVENT
END:VCALENDAR
