BEGIN:VCALENDAR
VERSION:2.0
PRODID:-//EZFacility.com, Inc.//EZL 2.5.5.28621
BEGIN:VEVENT
UID:15106221@ezleagues.ezfacility.com
DTSTAMP:20260419T234144Z
CREATED:20260419T234144Z
DTSTART:20230617T120000Z
DTEND:20230617T140000Z
LOCATION:Baseball Field 4
CONTACT:
SUMMARY:Ascent Athlete 14u Strap (5) VS. Dirty Dozen (12)
DESCRIPTION:League Name: Summer '23 Father's Day 14U\nGame Type: Regular\nG
 ame Status: Complete\nHome Team: Ascent Athlete 14u Strap (5)\nAway Team: 
 Dirty Dozen (12)\nHome Score: 6\nAway Score: 3
END:VEVENT
BEGIN:VEVENT
UID:15106223@ezleagues.ezfacility.com
DTSTAMP:20260419T234144Z
CREATED:20260419T234144Z
DTSTART:20230617T161500Z
DTEND:20230617T181500Z
LOCATION:Baseball Field 4
CONTACT:
SUMMARY:Dirty Dozen (12) VS. Canes Mid-Atlantic Black (4)
DESCRIPTION:League Name: Summer '23 Father's Day 14U\nGame Type: Regular\nG
 ame Status: Complete\nHome Team: Dirty Dozen (12)\nAway Team: Canes Mid-At
 lantic Black (4)\nHome Score: 2\nAway Score: 18
END:VEVENT
BEGIN:VEVENT
UID:15106231@ezleagues.ezfacility.com
DTSTAMP:20260419T234144Z
CREATED:20260419T234144Z
DTSTART:20230618T120000Z
DTEND:20230618T140000Z
LOCATION:Baseball Field 4
CONTACT:
SUMMARY:Philadelphia Prime - Blue (11) VS. Dirty Dozen (12)
DESCRIPTION:League Name: Summer '23 Father's Day 14U\nGame Type: Regular\nG
 ame Status: Complete\nHome Team: Philadelphia Prime - Blue (11)\nAway Team
 : Dirty Dozen (12)\nHome Score: 3\nAway Score: 10
END:VEVENT
END:VCALENDAR
