BEGIN:VCALENDAR
VERSION:2.0
PRODID:-//EZFacility.com, Inc.//EZL 2.5.5.28621
BEGIN:VEVENT
UID:15106219@ezleagues.ezfacility.com
DTSTAMP:20260419T203001Z
CREATED:20260419T203001Z
DTSTART:20230616T220000Z
DTEND:20230617T000000Z
LOCATION:Baseball Field 4
CONTACT:
SUMMARY:Philadelphia Prime - Blue (11) VS. Coal Region Sports 14U (6)
DESCRIPTION:League Name: Summer '23 Father's Day 14U\nGame Type: Regular\nG
 ame Status: Complete\nHome Team: Philadelphia Prime - Blue (11)\nAway Team
 : Coal Region Sports 14U (6)\nHome Score: 1\nAway Score: 5
END:VEVENT
BEGIN:VEVENT
UID:15106220@ezleagues.ezfacility.com
DTSTAMP:20260419T203001Z
CREATED:20260419T203001Z
DTSTART:20230617T000000Z
DTEND:20230617T020000Z
LOCATION:Baseball Field 4
CONTACT:
SUMMARY:Philadelphia Prime - Blue (11) VS. Pride of the Diamond (1)
DESCRIPTION:League Name: Summer '23 Father's Day 14U\nGame Type: Regular\nG
 ame Status: Complete\nHome Team: Philadelphia Prime - Blue (11)\nAway Team
 : Pride of the Diamond (1)\nHome Score: 1\nAway Score: 12
END:VEVENT
BEGIN:VEVENT
UID:15106231@ezleagues.ezfacility.com
DTSTAMP:20260419T203001Z
CREATED:20260419T203001Z
DTSTART:20230618T120000Z
DTEND:20230618T140000Z
LOCATION:Baseball Field 4
CONTACT:
SUMMARY:Philadelphia Prime - Blue (11) VS. Dirty Dozen (12)
DESCRIPTION:League Name: Summer '23 Father's Day 14U\nGame Type: Regular\nG
 ame Status: Complete\nHome Team: Philadelphia Prime - Blue (11)\nAway Team
 : Dirty Dozen (12)\nHome Score: 3\nAway Score: 10
END:VEVENT
END:VCALENDAR
