BEGIN:VCALENDAR
VERSION:2.0
PRODID:-//EZFacility.com, Inc.//EZL 2.5.5.28621
BEGIN:VEVENT
UID:15108041@ezleagues.ezfacility.com
DTSTAMP:20260424T041350Z
CREATED:20260424T041350Z
DTSTART:20230615T020500Z
DTEND:20230615T030500Z
LOCATION:Rocky River 3/4 Blue
CONTACT:
SUMMARY:Old School VS. Fun-Damentals
DESCRIPTION:League Name: Men's Open - Wednesday Blue Division - Summer 2023
 \nGame Type: Regular\nGame Status: Complete\nHome Team: Old School\nAway T
 eam: Fun-Damentals\nHome Score: 2\nAway Score: 7
END:VEVENT
BEGIN:VEVENT
UID:15108046@ezleagues.ezfacility.com
DTSTAMP:20260424T041350Z
CREATED:20260424T041350Z
DTSTART:20230622T000500Z
DTEND:20230622T010500Z
LOCATION:Rocky River 3/4 Yellow
CONTACT:
SUMMARY:Fun-Damentals VS. FCFU
DESCRIPTION:League Name: Men's Open - Wednesday Blue Division - Summer 2023
 \nGame Type: Regular\nGame Status: Complete\nHome Team: Fun-Damentals\nAwa
 y Team: FCFU\nHome Score: 8\nAway Score: 2
END:VEVENT
BEGIN:VEVENT
UID:15108053@ezleagues.ezfacility.com
DTSTAMP:20260424T041350Z
CREATED:20260424T041350Z
DTSTART:20230706T000500Z
DTEND:20230706T010500Z
LOCATION:Rocky River 3/4 Yellow
CONTACT:
SUMMARY:We Wear Blue VS. Fun-Damentals
DESCRIPTION:League Name: Men's Open - Wednesday Blue Division - Summer 2023
 \nGame Type: Regular\nGame Status: Complete\nHome Team: We Wear Blue\nAway
  Team: Fun-Damentals\nHome Score: 4\nAway Score: 5
END:VEVENT
BEGIN:VEVENT
UID:15108056@ezleagues.ezfacility.com
DTSTAMP:20260424T041350Z
CREATED:20260424T041350Z
DTSTART:20230713T020500Z
DTEND:20230713T030500Z
LOCATION:Rocky River 3/4 Blue
CONTACT:
SUMMARY:Johnny Electric VS. Fun-Damentals
DESCRIPTION:League Name: Men's Open - Wednesday Blue Division - Summer 2023
 \nGame Type: Regular\nGame Status: Complete\nHome Team: Johnny Electric\nA
 way Team: Fun-Damentals\nHome Score: 4\nAway Score: 8
END:VEVENT
BEGIN:VEVENT
UID:15108059@ezleagues.ezfacility.com
DTSTAMP:20260424T041350Z
CREATED:20260424T041350Z
DTSTART:20230720T000500Z
DTEND:20230720T010500Z
LOCATION:Rocky River 3/4 Blue
CONTACT:
SUMMARY:Fun-Damentals VS. BSA U30 B Team
DESCRIPTION:League Name: Men's Open - Wednesday Blue Division - Summer 2023
 \nGame Type: Regular\nGame Status: Complete\nHome Team: Fun-Damentals\nAwa
 y Team: BSA U30 B Team\nHome Score: 7\nAway Score: 4
END:VEVENT
BEGIN:VEVENT
UID:15108064@ezleagues.ezfacility.com
DTSTAMP:20260424T041350Z
CREATED:20260424T041350Z
DTSTART:20230727T020500Z
DTEND:20230727T030500Z
LOCATION:Rocky River 3/4 Yellow
CONTACT:
SUMMARY:Fun-Damentals VS. Sweethearts
DESCRIPTION:League Name: Men's Open - Wednesday Blue Division - Summer 2023
 \nGame Type: Regular\nGame Status: Complete\nHome Team: Fun-Damentals\nAwa
 y Team: Sweethearts\nHome Score: 4\nAway Score: 5
END:VEVENT
BEGIN:VEVENT
UID:15108069@ezleagues.ezfacility.com
DTSTAMP:20260424T041350Z
CREATED:20260424T041350Z
DTSTART:20230803T000500Z
DTEND:20230803T010500Z
LOCATION:Rocky River 3/4 Blue
CONTACT:
SUMMARY:Fun-Damentals VS. Old School
DESCRIPTION:League Name: Men's Open - Wednesday Blue Division - Summer 2023
 \nGame Type: Regular\nGame Status: Complete\nHome Team: Fun-Damentals\nAwa
 y Team: Old School\nHome Score: 7\nAway Score: 3
END:VEVENT
BEGIN:VEVENT
UID:15108050@ezleagues.ezfacility.com
DTSTAMP:20260424T041350Z
CREATED:20260424T041350Z
DTSTART:20230817T000500Z
DTEND:20230817T010500Z
LOCATION:Westlake Full Field
CONTACT:
SUMMARY:Mando's Bandits VS. Fun-Damentals
DESCRIPTION:League Name: Men's Open - Wednesday Blue Division - Summer 2023
 \nGame Type: Regular\nGame Status: Complete\nHome Team: Mando's Bandits\nA
 way Team: Fun-Damentals\nHome Score: 4\nAway Score: 7
END:VEVENT
BEGIN:VEVENT
UID:15108078@ezleagues.ezfacility.com
DTSTAMP:20260424T041350Z
CREATED:20260424T041350Z
DTSTART:20230824T000500Z
DTEND:20230824T010500Z
LOCATION:Rocky River 3/4 Yellow
CONTACT:
SUMMARY:Fun-Damentals VS. We Wear Blue
DESCRIPTION:League Name: Men's Open - Wednesday Blue Division - Summer 2023
 \nGame Type: Postseason\nGame Status: Complete\nHome Team: Fun-Damentals\n
 Away Team: We Wear Blue\nHome Score: 2\nAway Score: 5
END:VEVENT
END:VCALENDAR
