BEGIN:VCALENDAR
VERSION:2.0
PRODID:-//EZFacility.com, Inc.//EZL 2.5.5.28621
BEGIN:VEVENT
UID:15109080@ezleagues.ezfacility.com
DTSTAMP:20260426T035129Z
CREATED:20260426T035129Z
DTSTART:20230614T211500Z
DTEND:20230614T221500Z
LOCATION:Vball Court 6
CONTACT:
SUMMARY:Beaumont HS  VS. Cardinal HS 
DESCRIPTION:League Name: 2023 Summer HS Hard Court League-Intermediate Divi
 sion\nGame Type: Regular\nGame Status: Complete\nHome Team: Beaumont HS \n
 Away Team: Cardinal HS \nHome Score: 3\nAway Score: 0
END:VEVENT
BEGIN:VEVENT
UID:15109062@ezleagues.ezfacility.com
DTSTAMP:20260426T035129Z
CREATED:20260426T035129Z
DTSTART:20230621T211500Z
DTEND:20230621T221500Z
LOCATION:Vball Court 1
CONTACT:
SUMMARY:Cardinal HS  VS. Riverside High School
DESCRIPTION:League Name: 2023 Summer HS Hard Court League-Intermediate Divi
 sion\nGame Type: Regular\nGame Status: Complete\nHome Team: Cardinal HS \n
 Away Team: Riverside High School\nHome Score: 1\nAway Score: 2
END:VEVENT
BEGIN:VEVENT
UID:15109067@ezleagues.ezfacility.com
DTSTAMP:20260426T035129Z
CREATED:20260426T035129Z
DTSTART:20230628T211500Z
DTEND:20230628T221500Z
LOCATION:Vball Court 2
CONTACT:
SUMMARY:Cardinal HS  VS. Lake Catholic High School 
DESCRIPTION:League Name: 2023 Summer HS Hard Court League-Intermediate Divi
 sion\nGame Type: Regular\nGame Status: Complete\nHome Team: Cardinal HS \n
 Away Team: Lake Catholic High School \nHome Score: 0\nAway Score: 3
END:VEVENT
BEGIN:VEVENT
UID:15109074@ezleagues.ezfacility.com
DTSTAMP:20260426T035129Z
CREATED:20260426T035129Z
DTSTART:20230712T211500Z
DTEND:20230712T221500Z
LOCATION:Vball Court 6
CONTACT:
SUMMARY:Mayfield HS VS. Cardinal HS 
DESCRIPTION:League Name: 2023 Summer HS Hard Court League-Intermediate Divi
 sion\nGame Type: Regular\nGame Status: Complete\nHome Team: Mayfield HS\nA
 way Team: Cardinal HS \nHome Score: 3\nAway Score: 0
END:VEVENT
BEGIN:VEVENT
UID:15109077@ezleagues.ezfacility.com
DTSTAMP:20260426T035129Z
CREATED:20260426T035129Z
DTSTART:20230719T211500Z
DTEND:20230719T221500Z
LOCATION:Vball Court 5
CONTACT:
SUMMARY:Magnificat White VS. Cardinal HS 
DESCRIPTION:League Name: 2023 Summer HS Hard Court League-Intermediate Divi
 sion\nGame Type: Regular\nGame Status: Complete\nHome Team: Magnificat Whi
 te\nAway Team: Cardinal HS \nHome Score: 2\nAway Score: 0
END:VEVENT
BEGIN:VEVENT
UID:15109059@ezleagues.ezfacility.com
DTSTAMP:20260426T035129Z
CREATED:20260426T035129Z
DTSTART:20230726T200000Z
DTEND:20230726T210000Z
LOCATION:Vball Court 6
CONTACT:
SUMMARY:Kirtland HS VS. Cardinal HS 
DESCRIPTION:League Name: 2023 Summer HS Hard Court League-Intermediate Divi
 sion\nGame Type: Regular\nGame Status: Pending\nHome Team: Kirtland HS\nAw
 ay Team: Cardinal HS \n
END:VEVENT
END:VCALENDAR
