BEGIN:VCALENDAR
VERSION:2.0
PRODID:-//EZFacility.com, Inc.//EZL 2.5.5.28621
BEGIN:VEVENT
UID:15109082@ezleagues.ezfacility.com
DTSTAMP:20260424T043239Z
CREATED:20260424T043239Z
DTSTART:20230614T211500Z
DTEND:20230614T221500Z
LOCATION:Vball Court 1
CONTACT:
SUMMARY:Magnificat White VS. Lake Catholic Team 2
DESCRIPTION:League Name: 2023 Summer HS Hard Court League-Intermediate Divi
 sion\nGame Type: Regular\nGame Status: Complete\nHome Team: Magnificat Whi
 te\nAway Team: Lake Catholic Team 2\nHome Score: 3\nAway Score: 0
END:VEVENT
BEGIN:VEVENT
UID:15109060@ezleagues.ezfacility.com
DTSTAMP:20260424T043239Z
CREATED:20260424T043239Z
DTSTART:20230621T211500Z
DTEND:20230621T221500Z
LOCATION:Vball Court 5
CONTACT:
SUMMARY:Lake Catholic Team 2 VS. Beaumont HS 
DESCRIPTION:League Name: 2023 Summer HS Hard Court League-Intermediate Divi
 sion\nGame Type: Regular\nGame Status: Complete\nHome Team: Lake Catholic 
 Team 2\nAway Team: Beaumont HS \nHome Score: 0\nAway Score: 3
END:VEVENT
BEGIN:VEVENT
UID:15109065@ezleagues.ezfacility.com
DTSTAMP:20260424T043239Z
CREATED:20260424T043239Z
DTSTART:20230628T211500Z
DTEND:20230628T221500Z
LOCATION:Vball Court 1
CONTACT:
SUMMARY:Lake Catholic Team 2 VS. Riverside High School
DESCRIPTION:League Name: 2023 Summer HS Hard Court League-Intermediate Divi
 sion\nGame Type: Regular\nGame Status: Complete\nHome Team: Lake Catholic 
 Team 2\nAway Team: Riverside High School\nHome Score: 0\nAway Score: 3
END:VEVENT
BEGIN:VEVENT
UID:15109075@ezleagues.ezfacility.com
DTSTAMP:20260424T043239Z
CREATED:20260424T043239Z
DTSTART:20230712T211500Z
DTEND:20230712T221500Z
LOCATION:Vball Court 1
CONTACT:
SUMMARY:Lake Catholic Team 2 VS. Kirtland HS
DESCRIPTION:League Name: 2023 Summer HS Hard Court League-Intermediate Divi
 sion\nGame Type: Regular\nGame Status: Complete\nHome Team: Lake Catholic 
 Team 2\nAway Team: Kirtland HS\nHome Score: 0\nAway Score: 3
END:VEVENT
BEGIN:VEVENT
UID:15109079@ezleagues.ezfacility.com
DTSTAMP:20260424T043239Z
CREATED:20260424T043239Z
DTSTART:20230719T211500Z
DTEND:20230719T221500Z
LOCATION:Vball Court 2
CONTACT:
SUMMARY:Mayfield HS VS. Lake Catholic Team 2
DESCRIPTION:League Name: 2023 Summer HS Hard Court League-Intermediate Divi
 sion\nGame Type: Regular\nGame Status: Complete\nHome Team: Mayfield HS\nA
 way Team: Lake Catholic Team 2\nHome Score: 3\nAway Score: 0
END:VEVENT
BEGIN:VEVENT
UID:15109058@ezleagues.ezfacility.com
DTSTAMP:20260424T043239Z
CREATED:20260424T043239Z
DTSTART:20230726T200000Z
DTEND:20230726T210000Z
LOCATION:Vball Court 5
CONTACT:
SUMMARY:Beaumont HS  VS. Lake Catholic Team 2
DESCRIPTION:League Name: 2023 Summer HS Hard Court League-Intermediate Divi
 sion\nGame Type: Regular\nGame Status: Pending\nHome Team: Beaumont HS \nA
 way Team: Lake Catholic Team 2\n
END:VEVENT
END:VCALENDAR
