BEGIN:VCALENDAR
VERSION:2.0
PRODID:-//EZFacility.com, Inc.//EZL 2.5.5.28621
BEGIN:VEVENT
UID:15109083@ezleagues.ezfacility.com
DTSTAMP:20260424T044309Z
CREATED:20260424T044309Z
DTSTART:20230614T211500Z
DTEND:20230614T221500Z
LOCATION:Vball Court 5
CONTACT:
SUMMARY:Riverside High School VS. Mayfield HS
DESCRIPTION:League Name: 2023 Summer HS Hard Court League-Intermediate Divi
 sion\nGame Type: Regular\nGame Status: Complete\nHome Team: Riverside High
  School\nAway Team: Mayfield HS\nHome Score: 3\nAway Score: 0
END:VEVENT
BEGIN:VEVENT
UID:15109062@ezleagues.ezfacility.com
DTSTAMP:20260424T044309Z
CREATED:20260424T044309Z
DTSTART:20230621T211500Z
DTEND:20230621T221500Z
LOCATION:Vball Court 1
CONTACT:
SUMMARY:Cardinal HS  VS. Riverside High School
DESCRIPTION:League Name: 2023 Summer HS Hard Court League-Intermediate Divi
 sion\nGame Type: Regular\nGame Status: Complete\nHome Team: Cardinal HS \n
 Away Team: Riverside High School\nHome Score: 1\nAway Score: 2
END:VEVENT
BEGIN:VEVENT
UID:15109065@ezleagues.ezfacility.com
DTSTAMP:20260424T044309Z
CREATED:20260424T044309Z
DTSTART:20230628T211500Z
DTEND:20230628T221500Z
LOCATION:Vball Court 1
CONTACT:
SUMMARY:Lake Catholic Team 2 VS. Riverside High School
DESCRIPTION:League Name: 2023 Summer HS Hard Court League-Intermediate Divi
 sion\nGame Type: Regular\nGame Status: Complete\nHome Team: Lake Catholic 
 Team 2\nAway Team: Riverside High School\nHome Score: 0\nAway Score: 3
END:VEVENT
BEGIN:VEVENT
UID:15109073@ezleagues.ezfacility.com
DTSTAMP:20260424T044309Z
CREATED:20260424T044309Z
DTSTART:20230712T211500Z
DTEND:20230712T221500Z
LOCATION:Vball Court 5
CONTACT:
SUMMARY:Riverside High School VS. Lake Catholic High School 
DESCRIPTION:League Name: 2023 Summer HS Hard Court League-Intermediate Divi
 sion\nGame Type: Regular\nGame Status: Complete\nHome Team: Riverside High
  School\nAway Team: Lake Catholic High School \nHome Score: 1\nAway Score:
  2
END:VEVENT
BEGIN:VEVENT
UID:15109078@ezleagues.ezfacility.com
DTSTAMP:20260424T044309Z
CREATED:20260424T044309Z
DTSTART:20230719T211500Z
DTEND:20230719T221500Z
LOCATION:Vball Court 6
CONTACT:
SUMMARY:Riverside High School VS. Kirtland HS
DESCRIPTION:League Name: 2023 Summer HS Hard Court League-Intermediate Divi
 sion\nGame Type: Regular\nGame Status: Complete\nHome Team: Riverside High
  School\nAway Team: Kirtland HS\nHome Score: 0\nAway Score: 2
END:VEVENT
BEGIN:VEVENT
UID:15109056@ezleagues.ezfacility.com
DTSTAMP:20260424T044309Z
CREATED:20260424T044309Z
DTSTART:20230726T200000Z
DTEND:20230726T210000Z
LOCATION:Vball Court 1
CONTACT:
SUMMARY:Lake Catholic High School  VS. Riverside High School
DESCRIPTION:League Name: 2023 Summer HS Hard Court League-Intermediate Divi
 sion\nGame Type: Regular\nGame Status: Pending\nHome Team: Lake Catholic H
 igh School \nAway Team: Riverside High School\n
END:VEVENT
END:VCALENDAR
