BEGIN:VCALENDAR
VERSION:2.0
PRODID:-//EZFacility.com, Inc.//EZL 2.5.5.28621
BEGIN:VEVENT
UID:15419887@ezleagues.ezfacility.com
DTSTAMP:20260426T035114Z
CREATED:20260426T035114Z
DTSTART:20231126T013000Z
DTEND:20231126T022000Z
LOCATION:Jessup Premier Field #1
CONTACT:
SUMMARY:DEP Buenos Aires VS. El Tumbador GT
DESCRIPTION:League Name: Sat Mens Open 2nd I div \nGame Type: Regular\nGame
  Status: Complete\nHome Team: DEP Buenos Aires\nAway Team: El Tumbador GT\
 nHome Score: 4\nAway Score: 4
END:VEVENT
BEGIN:VEVENT
UID:15419900@ezleagues.ezfacility.com
DTSTAMP:20260426T035114Z
CREATED:20260426T035114Z
DTSTART:20231202T230000Z
DTEND:20231202T235000Z
LOCATION:Jessup Premier Field #2
CONTACT:
SUMMARY:ES United VS. El Tumbador GT
DESCRIPTION:League Name: Sat Mens Open 2nd I div \nGame Type: Regular\nGame
  Status: Complete\nHome Team: ES United\nAway Team: El Tumbador GT\nHome S
 core: 3\nAway Score: 7
END:VEVENT
BEGIN:VEVENT
UID:15419915@ezleagues.ezfacility.com
DTSTAMP:20260426T035114Z
CREATED:20260426T035114Z
DTSTART:20231209T235000Z
DTEND:20231210T004000Z
LOCATION:Jessup Premier Field #2
CONTACT:
SUMMARY:El Tumbador GT VS. Chaparrastique FC
DESCRIPTION:League Name: Sat Mens Open 2nd I div \nGame Type: Regular\nGame
  Status: Complete\nHome Team: El Tumbador GT\nAway Team: Chaparrastique FC
 \nHome Score: 3\nAway Score: 0
END:VEVENT
BEGIN:VEVENT
UID:15419930@ezleagues.ezfacility.com
DTSTAMP:20260426T035114Z
CREATED:20260426T035114Z
DTSTART:20231217T031000Z
DTEND:20231217T040000Z
LOCATION:Jessup Premier Field #1
CONTACT:
SUMMARY:El Tumbador GT VS. GTO F.C
DESCRIPTION:League Name: Sat Mens Open 2nd I div \nGame Type: Regular\nGame
  Status: Complete\nHome Team: El Tumbador GT\nAway Team: GTO F.C\nHome Sco
 re: 2\nAway Score: 2
END:VEVENT
BEGIN:VEVENT
UID:15419974@ezleagues.ezfacility.com
DTSTAMP:20260426T035114Z
CREATED:20260426T035114Z
DTSTART:20240106T230000Z
DTEND:20240106T235000Z
LOCATION:Jessup Premier Field #2
CONTACT:
SUMMARY:CD Aguila VS. El Tumbador GT
DESCRIPTION:League Name: Sat Mens Open 2nd I div \nGame Type: Regular\nGame
  Status: Complete\nHome Team: CD Aguila\nAway Team: El Tumbador GT\nHome S
 core: 3\nAway Score: 4
END:VEVENT
BEGIN:VEVENT
UID:15419945@ezleagues.ezfacility.com
DTSTAMP:20260426T035114Z
CREATED:20260426T035114Z
DTSTART:20240113T235000Z
DTEND:20240114T004000Z
LOCATION:Jessup Premier Field #2
CONTACT:
SUMMARY:El Tumbador GT VS. Olancho FC
DESCRIPTION:League Name: Sat Mens Open 2nd I div \nGame Type: Regular\nGame
  Status: Complete\nHome Team: El Tumbador GT\nAway Team: Olancho FC\nHome 
 Score: 6\nAway Score: 2
END:VEVENT
BEGIN:VEVENT
UID:15419960@ezleagues.ezfacility.com
DTSTAMP:20260426T035114Z
CREATED:20260426T035114Z
DTSTART:20240121T031000Z
DTEND:20240121T040000Z
LOCATION:Jessup Premier Field #2
CONTACT:
SUMMARY:El Tumbador GT VS. Insufribles 1202
DESCRIPTION:League Name: Sat Mens Open 2nd I div \nGame Type: Regular\nGame
  Status: Complete\nHome Team: El Tumbador GT\nAway Team: Insufribles 1202\
 nHome Score: 0\nAway Score: 3
END:VEVENT
BEGIN:VEVENT
UID:15570948@ezleagues.ezfacility.com
DTSTAMP:20260426T035114Z
CREATED:20260426T035114Z
DTSTART:20240128T013000Z
DTEND:20240128T021800Z
LOCATION:Jessup Premier Field #2
CONTACT:
SUMMARY:GTO F.C VS. El Tumbador GT
DESCRIPTION:League Name: Sat Mens Open 2nd I div \nGame Type: Regular\nGame
  Status: Complete\nHome Team: GTO F.C\nAway Team: El Tumbador GT\nHome Sco
 re: 6\nAway Score: 7
END:VEVENT
BEGIN:VEVENT
UID:15585846@ezleagues.ezfacility.com
DTSTAMP:20260426T035114Z
CREATED:20260426T035114Z
DTSTART:20240204T022000Z
DTEND:20240204T030800Z
LOCATION:Jessup Premier Field #1
CONTACT:
SUMMARY:Insufribles 1202 VS. El Tumbador GT
DESCRIPTION:League Name: Sat Mens Open 2nd I div \nGame Type: Regular\nGame
  Status: Complete\nHome Team: Insufribles 1202\nAway Team: El Tumbador GT\
 nHome Score: 4\nAway Score: 2
END:VEVENT
END:VCALENDAR
