BEGIN:VCALENDAR
VERSION:2.0
PRODID:-//EZFacility.com, Inc.//EZL 2.5.5.28621
BEGIN:VEVENT
UID:15419888@ezleagues.ezfacility.com
DTSTAMP:20260426T033845Z
CREATED:20260426T033845Z
DTSTART:20231126T022000Z
DTEND:20231126T031000Z
LOCATION:Jessup Premier Field #1
CONTACT:
SUMMARY:Olancho FC VS. CD Aguila
DESCRIPTION:League Name: Sat Mens Open 2nd I div \nGame Type: Regular\nGame
  Status: Complete\nHome Team: Olancho FC\nAway Team: CD Aguila\nHome Score
 : 0\nAway Score: 6
END:VEVENT
BEGIN:VEVENT
UID:15419901@ezleagues.ezfacility.com
DTSTAMP:20260426T033845Z
CREATED:20260426T033845Z
DTSTART:20231203T031000Z
DTEND:20231203T040000Z
LOCATION:Jessup Premier Field #2
CONTACT:
SUMMARY:Insufribles 1202 VS. CD Aguila
DESCRIPTION:League Name: Sat Mens Open 2nd I div \nGame Type: Regular\nGame
  Status: Complete\nHome Team: Insufribles 1202\nAway Team: CD Aguila\nHome
  Score: 3\nAway Score: 0
END:VEVENT
BEGIN:VEVENT
UID:15419914@ezleagues.ezfacility.com
DTSTAMP:20260426T033845Z
CREATED:20260426T033845Z
DTSTART:20231209T235000Z
DTEND:20231210T004000Z
LOCATION:Jessup Premier Field #1
CONTACT:
SUMMARY:ES United VS. CD Aguila
DESCRIPTION:League Name: Sat Mens Open 2nd I div \nGame Type: Regular\nGame
  Status: Complete\nHome Team: ES United\nAway Team: CD Aguila\nHome Score:
  1\nAway Score: 3
END:VEVENT
BEGIN:VEVENT
UID:15419929@ezleagues.ezfacility.com
DTSTAMP:20260426T033845Z
CREATED:20260426T033845Z
DTSTART:20231216T230000Z
DTEND:20231216T235000Z
LOCATION:Jessup Premier Field #2
CONTACT:
SUMMARY:CD Aguila VS. FC Banterwanks
DESCRIPTION:League Name: Sat Mens Open 2nd I div \nGame Type: Regular\nGame
  Status: Complete\nHome Team: CD Aguila\nAway Team: FC Banterwanks\nHome S
 core: 2\nAway Score: 1
END:VEVENT
BEGIN:VEVENT
UID:15419974@ezleagues.ezfacility.com
DTSTAMP:20260426T033845Z
CREATED:20260426T033845Z
DTSTART:20240106T230000Z
DTEND:20240106T235000Z
LOCATION:Jessup Premier Field #2
CONTACT:
SUMMARY:CD Aguila VS. El Tumbador GT
DESCRIPTION:League Name: Sat Mens Open 2nd I div \nGame Type: Regular\nGame
  Status: Complete\nHome Team: CD Aguila\nAway Team: El Tumbador GT\nHome S
 core: 3\nAway Score: 4
END:VEVENT
BEGIN:VEVENT
UID:15419944@ezleagues.ezfacility.com
DTSTAMP:20260426T033845Z
CREATED:20260426T033845Z
DTSTART:20240113T235000Z
DTEND:20240114T004000Z
LOCATION:Jessup Premier Field #1
CONTACT:
SUMMARY:CD Aguila VS. Atletico MD
DESCRIPTION:League Name: Sat Mens Open 2nd I div \nGame Type: Regular\nGame
  Status: Complete\nHome Team: CD Aguila\nAway Team: Atletico MD\nHome Scor
 e: 2\nAway Score: 3
END:VEVENT
BEGIN:VEVENT
UID:15419959@ezleagues.ezfacility.com
DTSTAMP:20260426T033845Z
CREATED:20260426T033845Z
DTSTART:20240121T004000Z
DTEND:20240121T013000Z
LOCATION:Jessup Premier Field #2
CONTACT:
SUMMARY:CD Aguila VS. DEP Buenos Aires
DESCRIPTION:League Name: Sat Mens Open 2nd I div \nGame Type: Regular\nGame
  Status: Complete\nHome Team: CD Aguila\nAway Team: DEP Buenos Aires\nHome
  Score: 3\nAway Score: 2
END:VEVENT
BEGIN:VEVENT
UID:15570947@ezleagues.ezfacility.com
DTSTAMP:20260426T033845Z
CREATED:20260426T033845Z
DTSTART:20240128T013000Z
DTEND:20240128T021800Z
LOCATION:Jessup Premier Field #1
CONTACT:
SUMMARY:Insufribles 1202 VS. CD Aguila
DESCRIPTION:League Name: Sat Mens Open 2nd I div \nGame Type: Regular\nGame
  Status: Complete\nHome Team: Insufribles 1202\nAway Team: CD Aguila\nHome
  Score: 2\nAway Score: 0
END:VEVENT
BEGIN:VEVENT
UID:15585847@ezleagues.ezfacility.com
DTSTAMP:20260426T033845Z
CREATED:20260426T033845Z
DTSTART:20240203T230000Z
DTEND:20240203T234800Z
LOCATION:Jessup Premier Field #2
CONTACT:
SUMMARY:CD Aguila VS. GTO F.C
DESCRIPTION:League Name: Sat Mens Open 2nd I div \nGame Type: Regular\nGame
  Status: Complete\nHome Team: CD Aguila\nAway Team: GTO F.C\nHome Score: 4
 \nAway Score: 6
END:VEVENT
END:VCALENDAR
