BEGIN:VCALENDAR
VERSION:2.0
PRODID:-//EZFacility.com, Inc.//EZL 2.5.5.28621
BEGIN:VEVENT
UID:15619677@ezleagues.ezfacility.com
DTSTAMP:20260421T091339Z
CREATED:20260421T091339Z
DTSTART:20240226T020000Z
DTEND:20240226T030000Z
LOCATION:Jessup Premier Field #2
CONTACT:
SUMMARY:Blue Steel VS. Elite FC
DESCRIPTION:League Name: Sun Coed Open 1st div \nGame Type: Regular\nGame S
 tatus: Complete\nHome Team: Blue Steel\nAway Team: Elite FC\nHome Score: 4
 \nAway Score: 5
END:VEVENT
BEGIN:VEVENT
UID:15619690@ezleagues.ezfacility.com
DTSTAMP:20260421T091339Z
CREATED:20260421T091339Z
DTSTART:20240303T230000Z
DTEND:20240304T000000Z
LOCATION:Jessup Premier Field #1
CONTACT:
SUMMARY:Elite FC VS. Strikers
DESCRIPTION:League Name: Sun Coed Open 1st div \nGame Type: Regular\nGame S
 tatus: Complete\nHome Team: Elite FC\nAway Team: Strikers\nHome Score: 5\n
 Away Score: 9
END:VEVENT
BEGIN:VEVENT
UID:15619704@ezleagues.ezfacility.com
DTSTAMP:20260421T091339Z
CREATED:20260421T091339Z
DTSTART:20240311T030000Z
DTEND:20240311T040000Z
LOCATION:Jessup Premier Field #1
CONTACT:
SUMMARY:Comeback VS. Elite FC
DESCRIPTION:League Name: Sun Coed Open 1st div \nGame Type: Regular\nGame S
 tatus: Complete\nHome Team: Comeback\nAway Team: Elite FC\nHome Score: 8\n
 Away Score: 8
END:VEVENT
BEGIN:VEVENT
UID:15619717@ezleagues.ezfacility.com
DTSTAMP:20260421T091339Z
CREATED:20260421T091339Z
DTSTART:20240318T020000Z
DTEND:20240318T030000Z
LOCATION:Jessup Premier Field #2
CONTACT:
SUMMARY:Gto FC VS. Elite FC
DESCRIPTION:League Name: Sun Coed Open 1st div \nGame Type: Regular\nGame S
 tatus: Complete\nHome Team: Gto FC\nAway Team: Elite FC\nHome Score: 4\nAw
 ay Score: 4
END:VEVENT
BEGIN:VEVENT
UID:15619733@ezleagues.ezfacility.com
DTSTAMP:20260421T091339Z
CREATED:20260421T091339Z
DTSTART:20240324T210000Z
DTEND:20240324T220000Z
LOCATION:Jessup Premier Field #1
CONTACT:
SUMMARY:Elite FC VS. Guarani
DESCRIPTION:League Name: Sun Coed Open 1st div \nGame Type: Regular\nGame S
 tatus: Complete\nHome Team: Elite FC\nAway Team: Guarani\nHome Score: 7\nA
 way Score: 10
END:VEVENT
BEGIN:VEVENT
UID:15619760@ezleagues.ezfacility.com
DTSTAMP:20260421T091339Z
CREATED:20260421T091339Z
DTSTART:20240408T020000Z
DTEND:20240408T030000Z
LOCATION:Jessup Premier Field #1
CONTACT:
SUMMARY:Strikers VS. Elite FC
DESCRIPTION:League Name: Sun Coed Open 1st div \nGame Type: Regular\nGame S
 tatus: Complete\nHome Team: Strikers\nAway Team: Elite FC\nHome Score: 6\n
 Away Score: 4
END:VEVENT
BEGIN:VEVENT
UID:15619747@ezleagues.ezfacility.com
DTSTAMP:20260421T091339Z
CREATED:20260421T091339Z
DTSTART:20240414T220000Z
DTEND:20240414T230000Z
LOCATION:Jessup Premier Field #2
CONTACT:
SUMMARY:Elite FC VS. Blue Steel
DESCRIPTION:League Name: Sun Coed Open 1st div \nGame Type: Regular\nGame S
 tatus: Complete\nHome Team: Elite FC\nAway Team: Blue Steel\nHome Score: 3
 \nAway Score: 0
END:VEVENT
BEGIN:VEVENT
UID:15709931@ezleagues.ezfacility.com
DTSTAMP:20260421T091339Z
CREATED:20260421T091339Z
DTSTART:20240421T230000Z
DTEND:20240422T000000Z
LOCATION:Jessup Premier Field #1
CONTACT:
SUMMARY:Guarani VS. Elite FC
DESCRIPTION:League Name: Sun Coed Open 1st div \nGame Type: Regular\nGame S
 tatus: Complete\nHome Team: Guarani\nAway Team: Elite FC\nHome Score: 6\nA
 way Score: 3
END:VEVENT
BEGIN:VEVENT
UID:15721795@ezleagues.ezfacility.com
DTSTAMP:20260421T091339Z
CREATED:20260421T091339Z
DTSTART:20240429T030000Z
DTEND:20240429T034800Z
LOCATION:Jessup Premier Field #1
CONTACT:
SUMMARY:Elite FC VS. Blue Steel
DESCRIPTION:League Name: Sun Coed Open 1st div \nGame Type: Regular\nGame S
 tatus: Complete\nHome Team: Elite FC\nAway Team: Blue Steel\nHome Score: 3
 \nAway Score: 0
END:VEVENT
END:VCALENDAR
