BEGIN:VCALENDAR
VERSION:2.0
PRODID:-//EZFacility.com, Inc.//EZL 2.5.5.28621
BEGIN:VEVENT
UID:15115297@ezleagues.ezfacility.com
DTSTAMP:20260426T033735Z
CREATED:20260426T033735Z
DTSTART:20230624T161500Z
DTEND:20230624T181500Z
LOCATION:Baseball Field 2
CONTACT:
SUMMARY:Montco Militia (1) VS. Avengers Baseball (4)
DESCRIPTION:League Name: Summer '23 Field of Dreams 11U\nGame Type: Regular
 \nGame Status: Complete\nHome Team: Montco Militia (1)\nAway Team: Avenger
 s Baseball (4)\nHome Score: 10\nAway Score: 2
END:VEVENT
BEGIN:VEVENT
UID:15115298@ezleagues.ezfacility.com
DTSTAMP:20260426T033735Z
CREATED:20260426T033735Z
DTSTART:20230624T181500Z
DTEND:20230624T201500Z
LOCATION:Baseball Field 2
CONTACT:
SUMMARY:Montco Militia (1) VS. 11U Twin Valley Raiders (9)
DESCRIPTION:League Name: Summer '23 Field of Dreams 11U\nGame Type: Regular
 \nGame Status: Complete\nHome Team: Montco Militia (1)\nAway Team: 11U Twi
 n Valley Raiders (9)\nHome Score: 19\nAway Score: 0
END:VEVENT
BEGIN:VEVENT
UID:15115306@ezleagues.ezfacility.com
DTSTAMP:20260426T033735Z
CREATED:20260426T033735Z
DTSTART:20230625T203000Z
DTEND:20230625T223000Z
LOCATION:Baseball Field 2
CONTACT:
SUMMARY:Montco Militia (1) VS. Berks County Bulls (5)
DESCRIPTION:League Name: Summer '23 Field of Dreams 11U\nGame Type: Regular
 \nGame Status: Complete\nHome Team: Montco Militia (1)\nAway Team: Berks C
 ounty Bulls (5)\nHome Score: 12\nAway Score: 1
END:VEVENT
BEGIN:VEVENT
UID:15115307@ezleagues.ezfacility.com
DTSTAMP:20260426T033735Z
CREATED:20260426T033735Z
DTSTART:20230625T223000Z
DTEND:20230626T003000Z
LOCATION:Baseball Field 2
CONTACT:
SUMMARY:Montco Militia (1) VS. GoWags (3)
DESCRIPTION:League Name: Summer '23 Field of Dreams 11U\nGame Type: Regular
 \nGame Status: Complete\nHome Team: Montco Militia (1)\nAway Team: GoWags 
 (3)\nHome Score: 3\nAway Score: 7
END:VEVENT
END:VCALENDAR
