BEGIN:VCALENDAR
VERSION:2.0
PRODID:-//EZFacility.com, Inc.//EZL 2.5.5.28621
BEGIN:VEVENT
UID:15392492@ezleagues.ezfacility.com
DTSTAMP:20260423T054051Z
CREATED:20260423T054051Z
DTSTART:20231114T010000Z
DTEND:20231114T020000Z
LOCATION:Harmans Premier Field #5
CONTACT:
SUMMARY:Leon VS. Mexico
DESCRIPTION:League Name: Mon Mens Open 1st div \nGame Type: Regular\nGame S
 tatus: Complete\nHome Team: Leon\nAway Team: Mexico\nHome Score: 9\nAway S
 core: 7
END:VEVENT
BEGIN:VEVENT
UID:15392503@ezleagues.ezfacility.com
DTSTAMP:20260423T054051Z
CREATED:20260423T054051Z
DTSTART:20231121T040000Z
DTEND:20231121T050000Z
LOCATION:Harmans Premier Field #4
CONTACT:
SUMMARY:Ajax Catrachos VS. Mexico
DESCRIPTION:League Name: Mon Mens Open 1st div \nGame Type: Regular\nGame S
 tatus: Complete\nHome Team: Ajax Catrachos\nAway Team: Mexico\nHome Score:
  6\nAway Score: 5
END:VEVENT
BEGIN:VEVENT
UID:15392513@ezleagues.ezfacility.com
DTSTAMP:20260423T054051Z
CREATED:20260423T054051Z
DTSTART:20231128T010000Z
DTEND:20231128T020000Z
LOCATION:Harmans Premier Field #5
CONTACT:
SUMMARY:LDU VS. Mexico
DESCRIPTION:League Name: Mon Mens Open 1st div \nGame Type: Regular\nGame S
 tatus: Complete\nHome Team: LDU\nAway Team: Mexico\nHome Score: 3\nAway Sc
 ore: 4
END:VEVENT
BEGIN:VEVENT
UID:15392522@ezleagues.ezfacility.com
DTSTAMP:20260423T054051Z
CREATED:20260423T054051Z
DTSTART:20231205T020000Z
DTEND:20231205T030000Z
LOCATION:Harmans Premier Field #4
CONTACT:
SUMMARY:Bayern VS. Mexico
DESCRIPTION:League Name: Mon Mens Open 1st div \nGame Type: Regular\nGame S
 tatus: Complete\nHome Team: Bayern\nAway Team: Mexico\nHome Score: 4\nAway
  Score: 3
END:VEVENT
BEGIN:VEVENT
UID:15392531@ezleagues.ezfacility.com
DTSTAMP:20260423T054051Z
CREATED:20260423T054051Z
DTSTART:20231212T000000Z
DTEND:20231212T010000Z
LOCATION:Harmans Premier Field #4
CONTACT:
SUMMARY:Mexico VS. Chelsea FC
DESCRIPTION:League Name: Mon Mens Open 1st div \nGame Type: Regular\nGame S
 tatus: Complete\nHome Team: Mexico\nAway Team: Chelsea FC\nHome Score: 5\n
 Away Score: 4
END:VEVENT
BEGIN:VEVENT
UID:15392542@ezleagues.ezfacility.com
DTSTAMP:20260423T054051Z
CREATED:20260423T054051Z
DTSTART:20231219T020000Z
DTEND:20231219T030000Z
LOCATION:Harmans Premier Field #4
CONTACT:
SUMMARY:Mexico VS. Leon
DESCRIPTION:League Name: Mon Mens Open 1st div \nGame Type: Regular\nGame S
 tatus: Complete\nHome Team: Mexico\nAway Team: Leon\nHome Score: 4\nAway S
 core: 2
END:VEVENT
BEGIN:VEVENT
UID:15392553@ezleagues.ezfacility.com
DTSTAMP:20260423T054051Z
CREATED:20260423T054051Z
DTSTART:20240109T040000Z
DTEND:20240109T050000Z
LOCATION:Harmans Premier Field #5
CONTACT:
SUMMARY:Mexico VS. Ajax Catrachos
DESCRIPTION:League Name: Mon Mens Open 1st div \nGame Type: Regular\nGame S
 tatus: Complete\nHome Team: Mexico\nAway Team: Ajax Catrachos\nHome Score:
  9\nAway Score: 5
END:VEVENT
BEGIN:VEVENT
UID:15538653@ezleagues.ezfacility.com
DTSTAMP:20260423T054051Z
CREATED:20260423T054051Z
DTSTART:20240116T020000Z
DTEND:20240116T030000Z
LOCATION:Harmans Premier Field #4
CONTACT:
SUMMARY:Mexico VS. LDU
DESCRIPTION:League Name: Mon Mens Open 1st div \nGame Type: Regular\nGame S
 tatus: Complete\nHome Team: Mexico\nAway Team: LDU\nHome Score: 4\nAway Sc
 ore: 3
END:VEVENT
BEGIN:VEVENT
UID:15556864@ezleagues.ezfacility.com
DTSTAMP:20260423T054051Z
CREATED:20260423T054051Z
DTSTART:20240123T030000Z
DTEND:20240123T040000Z
LOCATION:Harmans Premier Field #4
CONTACT:
SUMMARY:Mexico VS. Chelsea FC
DESCRIPTION:League Name: Mon Mens Open 1st div \nGame Type: Regular\nGame S
 tatus: Complete\nHome Team: Mexico\nAway Team: Chelsea FC\nHome Score: 8\n
 Away Score: 2
END:VEVENT
END:VCALENDAR
