BEGIN:VCALENDAR
VERSION:2.0
PRODID:-//EZFacility.com, Inc.//EZL 2.5.5.28621
BEGIN:VEVENT
UID:15392493@ezleagues.ezfacility.com
DTSTAMP:20260425T213521Z
CREATED:20260425T213521Z
DTSTART:20231114T040000Z
DTEND:20231114T050000Z
LOCATION:Harmans Premier Field #4
CONTACT:
SUMMARY:Bayern VS. Ajax Catrachos
DESCRIPTION:League Name: Mon Mens Open 1st div \nGame Type: Regular\nGame S
 tatus: Complete\nHome Team: Bayern\nAway Team: Ajax Catrachos\nHome Score:
  0\nAway Score: 10
END:VEVENT
BEGIN:VEVENT
UID:15392502@ezleagues.ezfacility.com
DTSTAMP:20260425T213521Z
CREATED:20260425T213521Z
DTSTART:20231121T010000Z
DTEND:20231121T020000Z
LOCATION:Harmans Premier Field #4
CONTACT:
SUMMARY:Bayern VS. LDU
DESCRIPTION:League Name: Mon Mens Open 1st div \nGame Type: Regular\nGame S
 tatus: Complete\nHome Team: Bayern\nAway Team: LDU\nHome Score: 4\nAway Sc
 ore: 7
END:VEVENT
BEGIN:VEVENT
UID:15392511@ezleagues.ezfacility.com
DTSTAMP:20260425T213521Z
CREATED:20260425T213521Z
DTSTART:20231128T020000Z
DTEND:20231128T030000Z
LOCATION:Harmans Premier Field #4
CONTACT:
SUMMARY:Chelsea FC VS. Bayern
DESCRIPTION:League Name: Mon Mens Open 1st div \nGame Type: Regular\nGame S
 tatus: Complete\nHome Team: Chelsea FC\nAway Team: Bayern\nHome Score: 7\n
 Away Score: 1
END:VEVENT
BEGIN:VEVENT
UID:15392522@ezleagues.ezfacility.com
DTSTAMP:20260425T213521Z
CREATED:20260425T213521Z
DTSTART:20231205T020000Z
DTEND:20231205T030000Z
LOCATION:Harmans Premier Field #4
CONTACT:
SUMMARY:Bayern VS. Mexico
DESCRIPTION:League Name: Mon Mens Open 1st div \nGame Type: Regular\nGame S
 tatus: Complete\nHome Team: Bayern\nAway Team: Mexico\nHome Score: 4\nAway
  Score: 3
END:VEVENT
BEGIN:VEVENT
UID:15392533@ezleagues.ezfacility.com
DTSTAMP:20260425T213521Z
CREATED:20260425T213521Z
DTSTART:20231212T010000Z
DTEND:20231212T020000Z
LOCATION:Harmans Premier Field #4
CONTACT:
SUMMARY:Bayern VS. Leon
DESCRIPTION:League Name: Mon Mens Open 1st div \nGame Type: Regular\nGame S
 tatus: Complete\nHome Team: Bayern\nAway Team: Leon\nHome Score: 5\nAway S
 core: 2
END:VEVENT
BEGIN:VEVENT
UID:15392543@ezleagues.ezfacility.com
DTSTAMP:20260425T213521Z
CREATED:20260425T213521Z
DTSTART:20231219T040000Z
DTEND:20231219T050000Z
LOCATION:Harmans Premier Field #4
CONTACT:
SUMMARY:Ajax Catrachos VS. Bayern
DESCRIPTION:League Name: Mon Mens Open 1st div \nGame Type: Regular\nGame S
 tatus: Complete\nHome Team: Ajax Catrachos\nAway Team: Bayern\nHome Score:
  3\nAway Score: 4
END:VEVENT
BEGIN:VEVENT
UID:15392552@ezleagues.ezfacility.com
DTSTAMP:20260425T213521Z
CREATED:20260425T213521Z
DTSTART:20240109T000000Z
DTEND:20240109T010000Z
LOCATION:Harmans Premier Field #4
CONTACT:
SUMMARY:LDU VS. Bayern
DESCRIPTION:League Name: Mon Mens Open 1st div \nGame Type: Regular\nGame S
 tatus: Complete\nHome Team: LDU\nAway Team: Bayern\nHome Score: 4\nAway Sc
 ore: 3
END:VEVENT
BEGIN:VEVENT
UID:15538654@ezleagues.ezfacility.com
DTSTAMP:20260425T213521Z
CREATED:20260425T213521Z
DTSTART:20240116T000000Z
DTEND:20240116T010000Z
LOCATION:Harmans Premier Field #5
CONTACT:
SUMMARY:Leon VS. Bayern
DESCRIPTION:League Name: Mon Mens Open 1st div \nGame Type: Regular\nGame S
 tatus: Complete\nHome Team: Leon\nAway Team: Bayern\nHome Score: 3\nAway S
 core: 0
END:VEVENT
BEGIN:VEVENT
UID:15556866@ezleagues.ezfacility.com
DTSTAMP:20260425T213521Z
CREATED:20260425T213521Z
DTSTART:20240123T040000Z
DTEND:20240123T050000Z
LOCATION:Harmans Premier Field #5
CONTACT:
SUMMARY:Bayern VS. Ajax Catrachos
DESCRIPTION:League Name: Mon Mens Open 1st div \nGame Type: Regular\nGame S
 tatus: Complete\nHome Team: Bayern\nAway Team: Ajax Catrachos\nHome Score:
  0\nAway Score: 3
END:VEVENT
END:VCALENDAR
