BEGIN:VCALENDAR
VERSION:2.0
PRODID:-//EZFacility.com, Inc.//EZL 2.5.5.28621
BEGIN:VEVENT
UID:15571742@ezleagues.ezfacility.com
DTSTAMP:20260420T160647Z
CREATED:20260420T160647Z
DTSTART:20240130T032000Z
DTEND:20240130T041000Z
LOCATION:Harmans Premier Field #5
CONTACT:
SUMMARY:Peten VS. Sal's Team
DESCRIPTION:League Name: Mon Mens Open 3rd div \nGame Type: Regular\nGame S
 tatus: Complete\nHome Team: Peten\nAway Team: Sal's Team\nHome Score: 12\n
 Away Score: 3
END:VEVENT
BEGIN:VEVENT
UID:15571754@ezleagues.ezfacility.com
DTSTAMP:20260420T160647Z
CREATED:20260420T160647Z
DTSTART:20240206T032000Z
DTEND:20240206T041000Z
LOCATION:Harmans Premier Field #5
CONTACT:
SUMMARY:Average Joe's FC VS. Sal's Team
DESCRIPTION:League Name: Mon Mens Open 3rd div \nGame Type: Regular\nGame S
 tatus: Complete\nHome Team: Average Joe's FC\nAway Team: Sal's Team\nHome 
 Score: 9\nAway Score: 2
END:VEVENT
BEGIN:VEVENT
UID:15571766@ezleagues.ezfacility.com
DTSTAMP:20260420T160647Z
CREATED:20260420T160647Z
DTSTART:20240213T032000Z
DTEND:20240213T041000Z
LOCATION:Harmans Premier Field #5
CONTACT:
SUMMARY:Canilla VS. Sal's Team
DESCRIPTION:League Name: Mon Mens Open 3rd div \nGame Type: Regular\nGame S
 tatus: Complete\nHome Team: Canilla\nAway Team: Sal's Team\nHome Score: 6\
 nAway Score: 3
END:VEVENT
BEGIN:VEVENT
UID:15571778@ezleagues.ezfacility.com
DTSTAMP:20260420T160647Z
CREATED:20260420T160647Z
DTSTART:20240220T032000Z
DTEND:20240220T041000Z
LOCATION:Harmans Premier Field #4
CONTACT:
SUMMARY:Sal's Team VS. S.O.L
DESCRIPTION:League Name: Mon Mens Open 3rd div \nGame Type: Regular\nGame S
 tatus: Complete\nHome Team: Sal's Team\nAway Team: S.O.L\nHome Score: 4\nA
 way Score: 3
END:VEVENT
BEGIN:VEVENT
UID:15571790@ezleagues.ezfacility.com
DTSTAMP:20260420T160647Z
CREATED:20260420T160647Z
DTSTART:20240227T032000Z
DTEND:20240227T041000Z
LOCATION:Harmans Premier Field #5
CONTACT:
SUMMARY:Sal's Team VS. Chicks and Chains FC
DESCRIPTION:League Name: Mon Mens Open 3rd div \nGame Type: Regular\nGame S
 tatus: Complete\nHome Team: Sal's Team\nAway Team: Chicks and Chains FC\nH
 ome Score: 5\nAway Score: 6
END:VEVENT
BEGIN:VEVENT
UID:15571802@ezleagues.ezfacility.com
DTSTAMP:20260420T160647Z
CREATED:20260420T160647Z
DTSTART:20240305T032000Z
DTEND:20240305T041000Z
LOCATION:Harmans Premier Field #4
CONTACT:
SUMMARY:Sal's Team VS. Allstars FC
DESCRIPTION:League Name: Mon Mens Open 3rd div \nGame Type: Regular\nGame S
 tatus: Complete\nHome Team: Sal's Team\nAway Team: Allstars FC\nHome Score
 : 6\nAway Score: 4
END:VEVENT
BEGIN:VEVENT
UID:15571814@ezleagues.ezfacility.com
DTSTAMP:20260420T160647Z
CREATED:20260420T160647Z
DTSTART:20240312T022000Z
DTEND:20240312T031000Z
LOCATION:Harmans Premier Field #5
CONTACT:
SUMMARY:Sal's Team VS. Glen Burnie FC
DESCRIPTION:League Name: Mon Mens Open 3rd div \nGame Type: Regular\nGame S
 tatus: Complete\nHome Team: Sal's Team\nAway Team: Glen Burnie FC\nHome Sc
 ore: 0\nAway Score: 10
END:VEVENT
BEGIN:VEVENT
UID:15655945@ezleagues.ezfacility.com
DTSTAMP:20260420T160647Z
CREATED:20260420T160647Z
DTSTART:20240319T022000Z
DTEND:20240319T032000Z
LOCATION:Harmans Premier Field #5
CONTACT:
SUMMARY:Sal's Team VS. Allstars FC
DESCRIPTION:League Name: Mon Mens Open 3rd div \nGame Type: Regular\nGame S
 tatus: Complete\nHome Team: Sal's Team\nAway Team: Allstars FC\nHome Score
 : 7\nAway Score: 5
END:VEVENT
BEGIN:VEVENT
UID:15668026@ezleagues.ezfacility.com
DTSTAMP:20260420T160647Z
CREATED:20260420T160647Z
DTSTART:20240326T022000Z
DTEND:20240326T032000Z
LOCATION:Harmans Premier Field #5
CONTACT:
SUMMARY:Glen Burnie FC VS. Sal's Team
DESCRIPTION:League Name: Mon Mens Open 3rd div \nGame Type: Regular\nGame S
 tatus: Complete\nHome Team: Glen Burnie FC\nAway Team: Sal's Team\nHome Sc
 ore: 0\nAway Score: 3
END:VEVENT
END:VCALENDAR
