BEGIN:VCALENDAR
VERSION:2.0
PRODID:-//EZFacility.com, Inc.//EZL 2.5.5.28621
BEGIN:VEVENT
UID:15129261@ezleagues.ezfacility.com
DTSTAMP:20260420T222650Z
CREATED:20260420T222650Z
DTSTART:20230711T000000Z
DTEND:20230711T003000Z
LOCATION:Horizon #6A
CONTACT:
SUMMARY:J Town Ballers (Granger) VS. Norwalk Warriors (Howe)
DESCRIPTION:League Name: 2023 SPW 3v3 BBall League July/August - 8th Boys\n
 Game Type: Regular\nGame Status: Pending\nHome Team: J Town Ballers (Grang
 er)\nAway Team: Norwalk Warriors (Howe)\n
END:VEVENT
BEGIN:VEVENT
UID:15129262@ezleagues.ezfacility.com
DTSTAMP:20260420T222650Z
CREATED:20260420T222650Z
DTSTART:20230711T003000Z
DTEND:20230711T010000Z
LOCATION:Horizon #6A
CONTACT:
SUMMARY:Patriots (Ducharme) VS. Norwalk Warriors (Howe)
DESCRIPTION:League Name: 2023 SPW 3v3 BBall League July/August - 8th Boys\n
 Game Type: Regular\nGame Status: Pending\nHome Team: Patriots (Ducharme)\n
 Away Team: Norwalk Warriors (Howe)\n
END:VEVENT
BEGIN:VEVENT
UID:15129265@ezleagues.ezfacility.com
DTSTAMP:20260420T222650Z
CREATED:20260420T222650Z
DTSTART:20230719T003000Z
DTEND:20230719T010000Z
LOCATION:Horizon #6A
CONTACT:
SUMMARY:Norwalk Warriors (Howe) VS. Iowa Elite (Fonseca)
DESCRIPTION:League Name: 2023 SPW 3v3 BBall League July/August - 8th Boys\n
 Game Type: Regular\nGame Status: Pending\nHome Team: Norwalk Warriors (How
 e)\nAway Team: Iowa Elite (Fonseca)\n
END:VEVENT
BEGIN:VEVENT
UID:15129267@ezleagues.ezfacility.com
DTSTAMP:20260420T222650Z
CREATED:20260420T222650Z
DTSTART:20230719T013000Z
DTEND:20230719T020000Z
LOCATION:Horizon #6A
CONTACT:
SUMMARY:Norwalk Warriors (Howe) VS. JA3 (Jackovin)
DESCRIPTION:League Name: 2023 SPW 3v3 BBall League July/August - 8th Boys\n
 Game Type: Regular\nGame Status: Pending\nHome Team: Norwalk Warriors (How
 e)\nAway Team: JA3 (Jackovin)\n
END:VEVENT
BEGIN:VEVENT
UID:15129273@ezleagues.ezfacility.com
DTSTAMP:20260420T222650Z
CREATED:20260420T222650Z
DTSTART:20230802T000000Z
DTEND:20230802T003000Z
LOCATION:Horizon #6B
CONTACT:
SUMMARY:Flamingos (Flynn) VS. Norwalk Warriors (Howe)
DESCRIPTION:League Name: 2023 SPW 3v3 BBall League July/August - 8th Boys\n
 Game Type: Regular\nGame Status: Pending\nHome Team: Flamingos (Flynn)\nAw
 ay Team: Norwalk Warriors (Howe)\n
END:VEVENT
BEGIN:VEVENT
UID:15129274@ezleagues.ezfacility.com
DTSTAMP:20260420T222650Z
CREATED:20260420T222650Z
DTSTART:20230802T003000Z
DTEND:20230802T010000Z
LOCATION:Horizon #6B
CONTACT:
SUMMARY:Iowa Elite (Fonseca) VS. Norwalk Warriors (Howe)
DESCRIPTION:League Name: 2023 SPW 3v3 BBall League July/August - 8th Boys\n
 Game Type: Regular\nGame Status: Pending\nHome Team: Iowa Elite (Fonseca)\
 nAway Team: Norwalk Warriors (Howe)\n
END:VEVENT
BEGIN:VEVENT
UID:15129280@ezleagues.ezfacility.com
DTSTAMP:20260420T222650Z
CREATED:20260420T222650Z
DTSTART:20230816T000000Z
DTEND:20230816T003000Z
LOCATION:Horizon #6B
CONTACT:
SUMMARY:Norwalk Warriors (Howe) VS. JA3 (Jackovin)
DESCRIPTION:League Name: 2023 SPW 3v3 BBall League July/August - 8th Boys\n
 Game Type: Regular\nGame Status: Pending\nHome Team: Norwalk Warriors (How
 e)\nAway Team: JA3 (Jackovin)\n
END:VEVENT
BEGIN:VEVENT
UID:15129281@ezleagues.ezfacility.com
DTSTAMP:20260420T222650Z
CREATED:20260420T222650Z
DTSTART:20230816T003000Z
DTEND:20230816T010000Z
LOCATION:Horizon #6B
CONTACT:
SUMMARY:Norwalk Warriors (Howe) VS. Iowa Elite (Fonseca)
DESCRIPTION:League Name: 2023 SPW 3v3 BBall League July/August - 8th Boys\n
 Game Type: Regular\nGame Status: Pending\nHome Team: Norwalk Warriors (How
 e)\nAway Team: Iowa Elite (Fonseca)\n
END:VEVENT
END:VCALENDAR
