BEGIN:VCALENDAR
VERSION:2.0
PRODID:-//EZFacility.com, Inc.//EZL 2.5.5.28621
BEGIN:VEVENT
UID:15368556@ezleagues.ezfacility.com
DTSTAMP:20260424T044229Z
CREATED:20260424T044229Z
DTSTART:20231105T012000Z
DTEND:20231105T021000Z
LOCATION:Harmans Premier Field #5
CONTACT:
SUMMARY:Vida FC VS. Titanes
DESCRIPTION:League Name: Sat Mens Open 1st div \nGame Type: Regular\nGame S
 tatus: Complete\nHome Team: Vida FC\nAway Team: Titanes\nHome Score: 4\nAw
 ay Score: 3
END:VEVENT
BEGIN:VEVENT
UID:15368569@ezleagues.ezfacility.com
DTSTAMP:20260424T044229Z
CREATED:20260424T044229Z
DTSTART:20231112T013000Z
DTEND:20231112T022000Z
LOCATION:Harmans Premier Field #4
CONTACT:
SUMMARY:Arnold FC VS. Titanes
DESCRIPTION:League Name: Sat Mens Open 1st div \nGame Type: Regular\nGame S
 tatus: Complete\nHome Team: Arnold FC\nAway Team: Titanes\nHome Score: 4\n
 Away Score: 0
END:VEVENT
BEGIN:VEVENT
UID:15368582@ezleagues.ezfacility.com
DTSTAMP:20260424T044229Z
CREATED:20260424T044229Z
DTSTART:20231118T235000Z
DTEND:20231119T004000Z
LOCATION:Harmans Premier Field #5
CONTACT:
SUMMARY:Titanes VS. Los Lobos
DESCRIPTION:League Name: Sat Mens Open 1st div \nGame Type: Regular\nGame S
 tatus: Complete\nHome Team: Titanes\nAway Team: Los Lobos\nHome Score: 3\n
 Away Score: 4
END:VEVENT
BEGIN:VEVENT
UID:15368597@ezleagues.ezfacility.com
DTSTAMP:20260424T044229Z
CREATED:20260424T044229Z
DTSTART:20231125T235000Z
DTEND:20231126T004000Z
LOCATION:Harmans Premier Field #4
CONTACT:
SUMMARY:Titanes VS. Bayer FC
DESCRIPTION:League Name: Sat Mens Open 1st div \nGame Type: Regular\nGame S
 tatus: Complete\nHome Team: Titanes\nAway Team: Bayer FC\nHome Score: 4\nA
 way Score: 3
END:VEVENT
BEGIN:VEVENT
UID:15368612@ezleagues.ezfacility.com
DTSTAMP:20260424T044229Z
CREATED:20260424T044229Z
DTSTART:20231203T031000Z
DTEND:20231203T040000Z
LOCATION:Harmans Premier Field #5
CONTACT:
SUMMARY:Titanes VS. ICR FC
DESCRIPTION:League Name: Sat Mens Open 1st div \nGame Type: Regular\nGame S
 tatus: Complete\nHome Team: Titanes\nAway Team: ICR FC\nHome Score: 3\nAwa
 y Score: 5
END:VEVENT
BEGIN:VEVENT
UID:15368627@ezleagues.ezfacility.com
DTSTAMP:20260424T044229Z
CREATED:20260424T044229Z
DTSTART:20231210T004000Z
DTEND:20231210T013000Z
LOCATION:Harmans Premier Field #5
CONTACT:
SUMMARY:Titanes VS. Chivas USA
DESCRIPTION:League Name: Sat Mens Open 1st div \nGame Type: Regular\nGame S
 tatus: Complete\nHome Team: Titanes\nAway Team: Chivas USA\nHome Score: 5\
 nAway Score: 5
END:VEVENT
BEGIN:VEVENT
UID:15368641@ezleagues.ezfacility.com
DTSTAMP:20260424T044229Z
CREATED:20260424T044229Z
DTSTART:20231217T022000Z
DTEND:20231217T031000Z
LOCATION:Harmans Premier Field #5
CONTACT:
SUMMARY:Maryland FC VS. Titanes
DESCRIPTION:League Name: Sat Mens Open 1st div \nGame Type: Regular\nGame S
 tatus: Complete\nHome Team: Maryland FC\nAway Team: Titanes\nHome Score: 1
 0\nAway Score: 6
END:VEVENT
BEGIN:VEVENT
UID:15495894@ezleagues.ezfacility.com
DTSTAMP:20260424T044229Z
CREATED:20260424T044229Z
DTSTART:20240106T235000Z
DTEND:20240107T005000Z
LOCATION:Harmans Premier Field #5
CONTACT:
SUMMARY:Maryland FC VS. Titanes
DESCRIPTION:League Name: Sat Mens Open 1st div \nGame Type: Regular\nGame S
 tatus: Complete\nHome Team: Maryland FC\nAway Team: Titanes\nHome Score: 5
 \nAway Score: 4
END:VEVENT
BEGIN:VEVENT
UID:15538571@ezleagues.ezfacility.com
DTSTAMP:20260424T044229Z
CREATED:20260424T044229Z
DTSTART:20240114T031000Z
DTEND:20240114T041000Z
LOCATION:Harmans Premier Field #5
CONTACT:
SUMMARY:Los Lobos VS. Titanes
DESCRIPTION:League Name: Sat Mens Open 1st div \nGame Type: Regular\nGame S
 tatus: Complete\nHome Team: Los Lobos\nAway Team: Titanes\nHome Score: 0\n
 Away Score: 3
END:VEVENT
END:VCALENDAR
