BEGIN:VCALENDAR
VERSION:2.0
PRODID:-//EZFacility.com, Inc.//EZL 2.5.5.28621
BEGIN:VEVENT
UID:15137735@ezleagues.ezfacility.com
DTSTAMP:20260424T041326Z
CREATED:20260424T041326Z
DTSTART:20230710T090000Z
DTEND:20230710T094000Z
LOCATION: 002 Maracana
CONTACT:Jeff
SUMMARY:The Turbulence Titans VS. Muffin Men
DESCRIPTION:League Name: Winter Leagues 2023 Monday Night A-League\nGame Ty
 pe: Regular\nGame Status: Complete\nHome Team: The Turbulence Titans\nAway
  Team: Muffin Men\nHome Score: 3\nAway Score: 7
END:VEVENT
BEGIN:VEVENT
UID:15137738@ezleagues.ezfacility.com
DTSTAMP:20260424T041326Z
CREATED:20260424T041326Z
DTSTART:20230717T090000Z
DTEND:20230717T094000Z
LOCATION: 002 Maracana
CONTACT:Jeff
SUMMARY:The Turbulence Titans VS. Gary witt
DESCRIPTION:League Name: Winter Leagues 2023 Monday Night A-League\nGame Ty
 pe: Regular\nGame Status: Complete\nHome Team: The Turbulence Titans\nAway
  Team: Gary witt\nHome Score: 2\nAway Score: 7
END:VEVENT
BEGIN:VEVENT
UID:15137741@ezleagues.ezfacility.com
DTSTAMP:20260424T041326Z
CREATED:20260424T041326Z
DTSTART:20230724T103000Z
DTEND:20230724T111000Z
LOCATION: 002 Maracana
CONTACT:Jeff
SUMMARY:any holes a goal VS. The Turbulence Titans
DESCRIPTION:League Name: Winter Leagues 2023 Monday Night A-League\nGame Ty
 pe: Regular\nGame Status: Complete\nHome Team: any holes a goal\nAway Team
 : The Turbulence Titans\nHome Score: 6\nAway Score: 0
END:VEVENT
BEGIN:VEVENT
UID:15137746@ezleagues.ezfacility.com
DTSTAMP:20260424T041326Z
CREATED:20260424T041326Z
DTSTART:20230731T081500Z
DTEND:20230731T085500Z
LOCATION: 002 Maracana
CONTACT:Jeff
SUMMARY:The Cats VS. The Turbulence Titans
DESCRIPTION:League Name: Winter Leagues 2023 Monday Night A-League\nGame Ty
 pe: Regular\nGame Status: Complete\nHome Team: The Cats\nAway Team: The Tu
 rbulence Titans\nHome Score: 7\nAway Score: 2
END:VEVENT
BEGIN:VEVENT
UID:15137751@ezleagues.ezfacility.com
DTSTAMP:20260424T041326Z
CREATED:20260424T041326Z
DTSTART:20230807T034500Z
DTEND:20230807T042500Z
LOCATION: 002 Maracana
CONTACT:AA
SUMMARY:Blue Skadoo VS. The Turbulence Titans
DESCRIPTION:League Name: Winter Leagues 2023 Monday Night A-League\nGame Ty
 pe: Regular\nGame Status: Complete\nHome Team: Blue Skadoo\nAway Team: The
  Turbulence Titans\nHome Score: 10\nAway Score: 0
END:VEVENT
BEGIN:VEVENT
UID:15137756@ezleagues.ezfacility.com
DTSTAMP:20260424T041326Z
CREATED:20260424T041326Z
DTSTART:20230814T034500Z
DTEND:20230814T042500Z
LOCATION:004 La Bombonera
CONTACT:AA
SUMMARY:Prestige Worldwide VS. The Turbulence Titans
DESCRIPTION:League Name: Winter Leagues 2023 Monday Night A-League\nGame Ty
 pe: Regular\nGame Status: Complete\nHome Team: Prestige Worldwide\nAway Te
 am: The Turbulence Titans\nHome Score: 10\nAway Score: 0
END:VEVENT
BEGIN:VEVENT
UID:15137760@ezleagues.ezfacility.com
DTSTAMP:20260424T041326Z
CREATED:20260424T041326Z
DTSTART:20230821T094500Z
DTEND:20230821T102500Z
LOCATION: 002 Maracana
CONTACT:Jeff
SUMMARY:Top Bin Chickens VS. The Turbulence Titans
DESCRIPTION:League Name: Winter Leagues 2023 Monday Night A-League\nGame Ty
 pe: Regular\nGame Status: Complete\nHome Team: Top Bin Chickens\nAway Team
 : The Turbulence Titans\nHome Score: 10\nAway Score: 3
END:VEVENT
BEGIN:VEVENT
UID:15137763@ezleagues.ezfacility.com
DTSTAMP:20260424T041326Z
CREATED:20260424T041326Z
DTSTART:20230828T090000Z
DTEND:20230828T094000Z
LOCATION: 002 Maracana
CONTACT:Jeff
SUMMARY:Muffin Men VS. The Turbulence Titans
DESCRIPTION:League Name: Winter Leagues 2023 Monday Night A-League\nGame Ty
 pe: Regular\nGame Status: Complete\nHome Team: Muffin Men\nAway Team: The 
 Turbulence Titans\nHome Score: 3\nAway Score: 3
END:VEVENT
BEGIN:VEVENT
UID:15137766@ezleagues.ezfacility.com
DTSTAMP:20260424T041326Z
CREATED:20260424T041326Z
DTSTART:20230904T103000Z
DTEND:20230904T111000Z
LOCATION: 002 Maracana
CONTACT:Jeff
SUMMARY:Gary witt VS. The Turbulence Titans
DESCRIPTION:League Name: Winter Leagues 2023 Monday Night A-League\nGame Ty
 pe: Regular\nGame Status: Complete\nHome Team: Gary witt\nAway Team: The T
 urbulence Titans\nHome Score: 8\nAway Score: 5
END:VEVENT
BEGIN:VEVENT
UID:15137769@ezleagues.ezfacility.com
DTSTAMP:20260424T041326Z
CREATED:20260424T041326Z
DTSTART:20230911T081500Z
DTEND:20230911T085500Z
LOCATION: 001 Wembley Stadium
CONTACT:Jeff
SUMMARY:The Turbulence Titans VS. any holes a goal
DESCRIPTION:League Name: Winter Leagues 2023 Monday Night A-League\nGame Ty
 pe: Regular\nGame Status: Complete\nHome Team: The Turbulence Titans\nAway
  Team: any holes a goal\nHome Score: 1\nAway Score: 3
END:VEVENT
BEGIN:VEVENT
UID:15137774@ezleagues.ezfacility.com
DTSTAMP:20260424T041326Z
CREATED:20260424T041326Z
DTSTART:20230918T094500Z
DTEND:20230918T102500Z
LOCATION: 001 Wembley Stadium
CONTACT:Jeff
SUMMARY:The Turbulence Titans VS. The Cats
DESCRIPTION:League Name: Winter Leagues 2023 Monday Night A-League\nGame Ty
 pe: Regular\nGame Status: Complete\nHome Team: The Turbulence Titans\nAway
  Team: The Cats\nHome Score: 6\nAway Score: 13
END:VEVENT
BEGIN:VEVENT
UID:15137779@ezleagues.ezfacility.com
DTSTAMP:20260424T041326Z
CREATED:20260424T041326Z
DTSTART:20230925T090000Z
DTEND:20230925T094000Z
LOCATION: 001 Wembley Stadium
CONTACT:Jeff
SUMMARY:The Turbulence Titans VS. Blue Skadoo
DESCRIPTION:League Name: Winter Leagues 2023 Monday Night A-League\nGame Ty
 pe: Regular\nGame Status: Complete\nHome Team: The Turbulence Titans\nAway
  Team: Blue Skadoo\nHome Score: 4\nAway Score: 15
END:VEVENT
BEGIN:VEVENT
UID:15137784@ezleagues.ezfacility.com
DTSTAMP:20260424T041326Z
CREATED:20260424T041326Z
DTSTART:20231002T093000Z
DTEND:20231002T101000Z
LOCATION: 001 Wembley Stadium
CONTACT:
SUMMARY:The Turbulence Titans VS. Prestige Worldwide
DESCRIPTION:League Name: Winter Leagues 2023 Monday Night A-League\nGame Ty
 pe: Regular\nGame Status: Complete\nHome Team: The Turbulence Titans\nAway
  Team: Prestige Worldwide\nHome Score: 4\nAway Score: 9
END:VEVENT
BEGIN:VEVENT
UID:15139209@ezleagues.ezfacility.com
DTSTAMP:20260424T041326Z
CREATED:20260424T041326Z
DTSTART:20231009T071500Z
DTEND:20231009T075500Z
LOCATION: 001 Wembley Stadium
CONTACT:Max
SUMMARY:Gary witt VS. The Turbulence Titans
DESCRIPTION:League Name: Winter Leagues 2023 Monday Night A-League\nGame Ty
 pe: Postseason\nGame Status: Complete\nHome Team: Gary witt\nAway Team: Th
 e Turbulence Titans\nHome Score: 5\nAway Score: 6
END:VEVENT
BEGIN:VEVENT
UID:15139212@ezleagues.ezfacility.com
DTSTAMP:20260424T041326Z
CREATED:20260424T041326Z
DTSTART:20231016T080000Z
DTEND:20231016T084000Z
LOCATION: 001 Wembley Stadium
CONTACT:
SUMMARY:Muffin Men VS. The Turbulence Titans
DESCRIPTION:League Name: Winter Leagues 2023 Monday Night A-League\nGame Ty
 pe: Postseason\nGame Status: Pending\nHome Team: Muffin Men\nAway Team: Th
 e Turbulence Titans\n
END:VEVENT
END:VCALENDAR
