BEGIN:VCALENDAR
VERSION:2.0
PRODID:-//EZFacility.com, Inc.//EZL 2.5.5.28621
BEGIN:VEVENT
UID:15142789@ezleagues.ezfacility.com
DTSTAMP:20260422T104150Z
CREATED:20260422T104150Z
DTSTART:20230719T223000Z
DTEND:20230719T233000Z
LOCATION:SPW Beach 4
CONTACT:
SUMMARY:Some Spike it Hot  VS. What's The F*ing Score
DESCRIPTION:League Name: Beach VB Session 2- Wednesday 6's \nGame Type: Reg
 ular\nGame Status: Pending\nHome Team: Some Spike it Hot \nAway Team: What
 's The F*ing Score\n
END:VEVENT
BEGIN:VEVENT
UID:15142793@ezleagues.ezfacility.com
DTSTAMP:20260422T104150Z
CREATED:20260422T104150Z
DTSTART:20230720T003000Z
DTEND:20230720T013000Z
LOCATION:SPW Beach 2
CONTACT:
SUMMARY:2 Legit 2 Quit VS. What's The F*ing Score
DESCRIPTION:League Name: Beach VB Session 2- Wednesday 6's \nGame Type: Reg
 ular\nGame Status: Pending\nHome Team: 2 Legit 2 Quit\nAway Team: What's T
 he F*ing Score\n
END:VEVENT
BEGIN:VEVENT
UID:15142799@ezleagues.ezfacility.com
DTSTAMP:20260422T104150Z
CREATED:20260422T104150Z
DTSTART:20230726T223000Z
DTEND:20230726T233000Z
LOCATION:SPW Beach 3
CONTACT:
SUMMARY:What's The F*ing Score VS. CFW
DESCRIPTION:League Name: Beach VB Session 2- Wednesday 6's \nGame Type: Reg
 ular\nGame Status: Pending\nHome Team: What's The F*ing Score\nAway Team: 
 CFW\n
END:VEVENT
BEGIN:VEVENT
UID:15142805@ezleagues.ezfacility.com
DTSTAMP:20260422T104150Z
CREATED:20260422T104150Z
DTSTART:20230727T003000Z
DTEND:20230727T013000Z
LOCATION:SPW Beach 1
CONTACT:
SUMMARY:Unprotected Sets  VS. What's The F*ing Score
DESCRIPTION:League Name: Beach VB Session 2- Wednesday 6's \nGame Type: Reg
 ular\nGame Status: Pending\nHome Team: Unprotected Sets \nAway Team: What'
 s The F*ing Score\n
END:VEVENT
BEGIN:VEVENT
UID:15142811@ezleagues.ezfacility.com
DTSTAMP:20260422T104150Z
CREATED:20260422T104150Z
DTSTART:20230802T223000Z
DTEND:20230802T233000Z
LOCATION:SPW Beach 3
CONTACT:
SUMMARY:What's The F*ing Score VS. Net Assets 
DESCRIPTION:League Name: Beach VB Session 2- Wednesday 6's \nGame Type: Reg
 ular\nGame Status: Pending\nHome Team: What's The F*ing Score\nAway Team: 
 Net Assets \n
END:VEVENT
BEGIN:VEVENT
UID:15142817@ezleagues.ezfacility.com
DTSTAMP:20260422T104150Z
CREATED:20260422T104150Z
DTSTART:20230803T003000Z
DTEND:20230803T013000Z
LOCATION:SPW Beach 3
CONTACT:
SUMMARY:Mission Unblockable  VS. What's The F*ing Score
DESCRIPTION:League Name: Beach VB Session 2- Wednesday 6's \nGame Type: Reg
 ular\nGame Status: Pending\nHome Team: Mission Unblockable \nAway Team: Wh
 at's The F*ing Score\n
END:VEVENT
BEGIN:VEVENT
UID:15142826@ezleagues.ezfacility.com
DTSTAMP:20260422T104150Z
CREATED:20260422T104150Z
DTSTART:20230810T003000Z
DTEND:20230810T013000Z
LOCATION:SPW Beach 3
CONTACT:
SUMMARY:What's The F*ing Score VS. Sets on the Beach 2.0
DESCRIPTION:League Name: Beach VB Session 2- Wednesday 6's \nGame Type: Reg
 ular\nGame Status: Pending\nHome Team: What's The F*ing Score\nAway Team: 
 Sets on the Beach 2.0\n
END:VEVENT
BEGIN:VEVENT
UID:15142830@ezleagues.ezfacility.com
DTSTAMP:20260422T104150Z
CREATED:20260422T104150Z
DTSTART:20230816T233000Z
DTEND:20230817T003000Z
LOCATION:SPW Beach 4
CONTACT:
SUMMARY:The Buddies VS. What's The F*ing Score
DESCRIPTION:League Name: Beach VB Session 2- Wednesday 6's \nGame Type: Reg
 ular\nGame Status: Pending\nHome Team: The Buddies\nAway Team: What's The 
 F*ing Score\n
END:VEVENT
BEGIN:VEVENT
UID:15142834@ezleagues.ezfacility.com
DTSTAMP:20260422T104150Z
CREATED:20260422T104150Z
DTSTART:20230817T003000Z
DTEND:20230817T013000Z
LOCATION:SPW Beach 2
CONTACT:
SUMMARY:What's The F*ing Score VS. Some Spike it Hot 
DESCRIPTION:League Name: Beach VB Session 2- Wednesday 6's \nGame Type: Reg
 ular\nGame Status: Pending\nHome Team: What's The F*ing Score\nAway Team: 
 Some Spike it Hot \n
END:VEVENT
BEGIN:VEVENT
UID:15142838@ezleagues.ezfacility.com
DTSTAMP:20260422T104150Z
CREATED:20260422T104150Z
DTSTART:20230830T233000Z
DTEND:20230831T003000Z
LOCATION:SPW Beach 4
CONTACT:
SUMMARY:What's The F*ing Score VS. 2 Legit 2 Quit
DESCRIPTION:League Name: Beach VB Session 2- Wednesday 6's \nGame Type: Reg
 ular\nGame Status: Pending\nHome Team: What's The F*ing Score\nAway Team: 
 2 Legit 2 Quit\n
END:VEVENT
BEGIN:VEVENT
UID:15142844@ezleagues.ezfacility.com
DTSTAMP:20260422T104150Z
CREATED:20260422T104150Z
DTSTART:20230831T003000Z
DTEND:20230831T013000Z
LOCATION:SPW Beach 1
CONTACT:
SUMMARY:CFW VS. What's The F*ing Score
DESCRIPTION:League Name: Beach VB Session 2- Wednesday 6's \nGame Type: Reg
 ular\nGame Status: Pending\nHome Team: CFW\nAway Team: What's The F*ing Sc
 ore\n
END:VEVENT
BEGIN:VEVENT
UID:15142781@ezleagues.ezfacility.com
DTSTAMP:20260422T104150Z
CREATED:20260422T104150Z
DTSTART:20230906T233000Z
DTEND:20230907T003000Z
LOCATION:SPW Beach 4
CONTACT:
SUMMARY:Sets on the Beach 2.0 VS. What's The F*ing Score
DESCRIPTION:League Name: Beach VB Session 2- Wednesday 6's \nGame Type: Reg
 ular\nGame Status: Pending\nHome Team: Sets on the Beach 2.0\nAway Team: W
 hat's The F*ing Score\n
END:VEVENT
BEGIN:VEVENT
UID:15142785@ezleagues.ezfacility.com
DTSTAMP:20260422T104150Z
CREATED:20260422T104150Z
DTSTART:20230907T003000Z
DTEND:20230907T013000Z
LOCATION:SPW Beach 3
CONTACT:
SUMMARY:What's The F*ing Score VS. The Buddies
DESCRIPTION:League Name: Beach VB Session 2- Wednesday 6's \nGame Type: Reg
 ular\nGame Status: Pending\nHome Team: What's The F*ing Score\nAway Team: 
 The Buddies\n
END:VEVENT
END:VCALENDAR
