BEGIN:VCALENDAR
VERSION:2.0
PRODID:-//EZFacility.com, Inc.//EZL 2.5.5.28621
BEGIN:VEVENT
UID:15149171@ezleagues.ezfacility.com
DTSTAMP:20260424T043946Z
CREATED:20260424T043946Z
DTSTART:20230720T010000Z
DTEND:20230720T020000Z
LOCATION:Arena
CONTACT:
SUMMARY:Mean Machines VS. Rebeldes Rojos
DESCRIPTION:League Name: Men's B Arena Soccer - Summer 2023\nGame Type: Reg
 ular\nGame Status: Complete\nHome Team: Mean Machines\nAway Team: Rebeldes
  Rojos\nHome Score: 7\nAway Score: 4
END:VEVENT
BEGIN:VEVENT
UID:15149179@ezleagues.ezfacility.com
DTSTAMP:20260424T043946Z
CREATED:20260424T043946Z
DTSTART:20230727T030000Z
DTEND:20230727T040000Z
LOCATION:Arena
CONTACT:
SUMMARY:Mean Machines VS. Trabajadores
DESCRIPTION:League Name: Men's B Arena Soccer - Summer 2023\nGame Type: Reg
 ular\nGame Status: Complete\nHome Team: Mean Machines\nAway Team: Trabajad
 ores\nHome Score: 5\nAway Score: 7
END:VEVENT
BEGIN:VEVENT
UID:15149187@ezleagues.ezfacility.com
DTSTAMP:20260424T043946Z
CREATED:20260424T043946Z
DTSTART:20230805T040000Z
DTEND:20230805T050000Z
LOCATION:Arena
CONTACT:
SUMMARY:Mean Machines VS. Athletic Club
DESCRIPTION:League Name: Men's B Arena Soccer - Summer 2023\nGame Type: Reg
 ular\nGame Status: Complete\nHome Team: Mean Machines\nAway Team: Athletic
  Club\nHome Score: 11\nAway Score: 3
END:VEVENT
BEGIN:VEVENT
UID:15149195@ezleagues.ezfacility.com
DTSTAMP:20260424T043946Z
CREATED:20260424T043946Z
DTSTART:20230810T020000Z
DTEND:20230810T030000Z
LOCATION:Arena
CONTACT:
SUMMARY:Mean Machines VS. Debruc
DESCRIPTION:League Name: Men's B Arena Soccer - Summer 2023\nGame Type: Reg
 ular\nGame Status: Complete\nHome Team: Mean Machines\nAway Team: Debruc\n
 Home Score: 16\nAway Score: 6
END:VEVENT
BEGIN:VEVENT
UID:15149203@ezleagues.ezfacility.com
DTSTAMP:20260424T043946Z
CREATED:20260424T043946Z
DTSTART:20230819T020000Z
DTEND:20230819T030000Z
LOCATION:Arena
CONTACT:
SUMMARY:Mean Machines VS. Deportivo La Capellania
DESCRIPTION:League Name: Men's B Arena Soccer - Summer 2023\nGame Type: Reg
 ular\nGame Status: Complete\nHome Team: Mean Machines\nAway Team: Deportiv
 o La Capellania\nHome Score: 8\nAway Score: 2
END:VEVENT
BEGIN:VEVENT
UID:15149211@ezleagues.ezfacility.com
DTSTAMP:20260424T043946Z
CREATED:20260424T043946Z
DTSTART:20230824T010000Z
DTEND:20230824T020000Z
LOCATION:Arena
CONTACT:
SUMMARY:Fallbrook Boyz VS. Mean Machines
DESCRIPTION:League Name: Men's B Arena Soccer - Summer 2023\nGame Type: Reg
 ular\nGame Status: Complete\nHome Team: Fallbrook Boyz\nAway Team: Mean Ma
 chines\nHome Score: 7\nAway Score: 9
END:VEVENT
BEGIN:VEVENT
UID:15149219@ezleagues.ezfacility.com
DTSTAMP:20260424T043946Z
CREATED:20260424T043946Z
DTSTART:20230902T040000Z
DTEND:20230902T050000Z
LOCATION:Arena
CONTACT:
SUMMARY:La Maquina VS. Mean Machines
DESCRIPTION:League Name: Men's B Arena Soccer - Summer 2023\nGame Type: Reg
 ular\nGame Status: Complete\nHome Team: La Maquina\nAway Team: Mean Machin
 es\nHome Score: 6\nAway Score: 2
END:VEVENT
BEGIN:VEVENT
UID:15149227@ezleagues.ezfacility.com
DTSTAMP:20260424T043946Z
CREATED:20260424T043946Z
DTSTART:20230907T030000Z
DTEND:20230907T040000Z
LOCATION:Arena
CONTACT:
SUMMARY:Los Plebes VS. Mean Machines
DESCRIPTION:League Name: Men's B Arena Soccer - Summer 2023\nGame Type: Reg
 ular\nGame Status: Complete\nHome Team: Los Plebes\nAway Team: Mean Machin
 es\nHome Score: 6\nAway Score: 8
END:VEVENT
BEGIN:VEVENT
UID:15149234@ezleagues.ezfacility.com
DTSTAMP:20260424T043946Z
CREATED:20260424T043946Z
DTSTART:20230916T040000Z
DTEND:20230916T050000Z
LOCATION:Arena
CONTACT:
SUMMARY:Inter VS. Mean Machines
DESCRIPTION:League Name: Men's B Arena Soccer - Summer 2023\nGame Type: Reg
 ular\nGame Status: Complete\nHome Team: Inter\nAway Team: Mean Machines\nH
 ome Score: 0\nAway Score: 1
END:VEVENT
BEGIN:VEVENT
UID:15149243@ezleagues.ezfacility.com
DTSTAMP:20260424T043946Z
CREATED:20260424T043946Z
DTSTART:20230921T010000Z
DTEND:20230921T020000Z
LOCATION:Arena
CONTACT:
SUMMARY:El Polvaderon VS. Mean Machines
DESCRIPTION:League Name: Men's B Arena Soccer - Summer 2023\nGame Type: Reg
 ular\nGame Status: Complete\nHome Team: El Polvaderon\nAway Team: Mean Mac
 hines\nHome Score: 4\nAway Score: 8
END:VEVENT
BEGIN:VEVENT
UID:15252970@ezleagues.ezfacility.com
DTSTAMP:20260424T043946Z
CREATED:20260424T043946Z
DTSTART:20230930T040000Z
DTEND:20230930T050000Z
LOCATION:Arena
CONTACT:
SUMMARY:Mean Machines VS. Trabajadores
DESCRIPTION:League Name: Men's B Arena Soccer - Summer 2023\nGame Type: Pos
 tseason\nGame Status: Complete\nHome Team: Mean Machines\nAway Team: Traba
 jadores\nHome Score: 1\nAway Score: 0
END:VEVENT
BEGIN:VEVENT
UID:15253093@ezleagues.ezfacility.com
DTSTAMP:20260424T043946Z
CREATED:20260424T043946Z
DTSTART:20231005T020000Z
DTEND:20231005T030000Z
LOCATION:Arena
CONTACT:
SUMMARY:La Maquina VS. Mean Machines
DESCRIPTION:League Name: Men's B Arena Soccer - Summer 2023\nGame Type: Pos
 tseason\nGame Status: Complete\nHome Team: La Maquina\nAway Team: Mean Mac
 hines\nHome Score: 7\nAway Score: 3
END:VEVENT
END:VCALENDAR
