BEGIN:VCALENDAR
VERSION:2.0
PRODID:-//EZFacility.com, Inc.//EZL 2.5.5.28621
BEGIN:VEVENT
UID:15149177@ezleagues.ezfacility.com
DTSTAMP:20260420T054131Z
CREATED:20260420T054131Z
DTSTART:20230722T040000Z
DTEND:20230722T050000Z
LOCATION:Arena
CONTACT:
SUMMARY:El Polvaderon VS. La Maquina
DESCRIPTION:League Name: Men's B Arena Soccer - Summer 2023\nGame Type: Reg
 ular\nGame Status: Complete\nHome Team: El Polvaderon\nAway Team: La Maqui
 na\nHome Score: 1\nAway Score: 9
END:VEVENT
BEGIN:VEVENT
UID:15149178@ezleagues.ezfacility.com
DTSTAMP:20260420T054131Z
CREATED:20260420T054131Z
DTSTART:20230727T040000Z
DTEND:20230727T050000Z
LOCATION:Arena
CONTACT:
SUMMARY:El Polvaderon VS. Inter
DESCRIPTION:League Name: Men's B Arena Soccer - Summer 2023\nGame Type: Reg
 ular\nGame Status: Complete\nHome Team: El Polvaderon\nAway Team: Inter\nH
 ome Score: 5\nAway Score: 7
END:VEVENT
BEGIN:VEVENT
UID:15149193@ezleagues.ezfacility.com
DTSTAMP:20260420T054131Z
CREATED:20260420T054131Z
DTSTART:20230805T020000Z
DTEND:20230805T030000Z
LOCATION:Arena
CONTACT:
SUMMARY:Deportivo Ingles VS. El Polvaderon
DESCRIPTION:League Name: Men's B Arena Soccer - Summer 2023\nGame Type: Reg
 ular\nGame Status: Complete\nHome Team: Deportivo Ingles\nAway Team: El Po
 lvaderon\nHome Score: 8\nAway Score: 0
END:VEVENT
BEGIN:VEVENT
UID:15149200@ezleagues.ezfacility.com
DTSTAMP:20260420T054131Z
CREATED:20260420T054131Z
DTSTART:20230812T030000Z
DTEND:20230812T040000Z
LOCATION:Arena
CONTACT:
SUMMARY:Villa VS. El Polvaderon
DESCRIPTION:League Name: Men's B Arena Soccer - Summer 2023\nGame Type: Reg
 ular\nGame Status: Complete\nHome Team: Villa\nAway Team: El Polvaderon\nH
 ome Score: 6\nAway Score: 2
END:VEVENT
BEGIN:VEVENT
UID:15149207@ezleagues.ezfacility.com
DTSTAMP:20260420T054131Z
CREATED:20260420T054131Z
DTSTART:20230819T030000Z
DTEND:20230819T040000Z
LOCATION:Arena
CONTACT:
SUMMARY:El Polvaderon VS. FC BLU
DESCRIPTION:League Name: Men's B Arena Soccer - Summer 2023\nGame Type: Reg
 ular\nGame Status: Complete\nHome Team: El Polvaderon\nAway Team: FC BLU\n
 Home Score: 13\nAway Score: 3
END:VEVENT
BEGIN:VEVENT
UID:15149214@ezleagues.ezfacility.com
DTSTAMP:20260420T054131Z
CREATED:20260420T054131Z
DTSTART:20230826T010000Z
DTEND:20230826T020000Z
LOCATION:Arena
CONTACT:
SUMMARY:El Polvaderon VS. Trabajadores
DESCRIPTION:League Name: Men's B Arena Soccer - Summer 2023\nGame Type: Reg
 ular\nGame Status: Complete\nHome Team: El Polvaderon\nAway Team: Trabajad
 ores\nHome Score: 6\nAway Score: 4
END:VEVENT
BEGIN:VEVENT
UID:15149221@ezleagues.ezfacility.com
DTSTAMP:20260420T054131Z
CREATED:20260420T054131Z
DTSTART:20230831T020000Z
DTEND:20230831T030000Z
LOCATION:Arena
CONTACT:
SUMMARY:Debruc VS. El Polvaderon
DESCRIPTION:League Name: Men's B Arena Soccer - Summer 2023\nGame Type: Reg
 ular\nGame Status: Complete\nHome Team: Debruc\nAway Team: El Polvaderon\n
 Home Score: 5\nAway Score: 7
END:VEVENT
BEGIN:VEVENT
UID:15149228@ezleagues.ezfacility.com
DTSTAMP:20260420T054131Z
CREATED:20260420T054131Z
DTSTART:20230907T020000Z
DTEND:20230907T030000Z
LOCATION:Arena
CONTACT:
SUMMARY:Fallbrook Boyz VS. El Polvaderon
DESCRIPTION:League Name: Men's B Arena Soccer - Summer 2023\nGame Type: Reg
 ular\nGame Status: Complete\nHome Team: Fallbrook Boyz\nAway Team: El Polv
 aderon\nHome Score: 4\nAway Score: 4
END:VEVENT
BEGIN:VEVENT
UID:15149235@ezleagues.ezfacility.com
DTSTAMP:20260420T054131Z
CREATED:20260420T054131Z
DTSTART:20230916T010000Z
DTEND:20230916T020000Z
LOCATION:Arena
CONTACT:
SUMMARY:Los Plebes VS. El Polvaderon
DESCRIPTION:League Name: Men's B Arena Soccer - Summer 2023\nGame Type: Reg
 ular\nGame Status: Complete\nHome Team: Los Plebes\nAway Team: El Polvader
 on\nHome Score: 4\nAway Score: 3
END:VEVENT
BEGIN:VEVENT
UID:15149243@ezleagues.ezfacility.com
DTSTAMP:20260420T054131Z
CREATED:20260420T054131Z
DTSTART:20230921T010000Z
DTEND:20230921T020000Z
LOCATION:Arena
CONTACT:
SUMMARY:El Polvaderon VS. Mean Machines
DESCRIPTION:League Name: Men's B Arena Soccer - Summer 2023\nGame Type: Reg
 ular\nGame Status: Complete\nHome Team: El Polvaderon\nAway Team: Mean Mac
 hines\nHome Score: 4\nAway Score: 8
END:VEVENT
BEGIN:VEVENT
UID:15252966@ezleagues.ezfacility.com
DTSTAMP:20260420T054131Z
CREATED:20260420T054131Z
DTSTART:20230928T040000Z
DTEND:20230928T050000Z
LOCATION:Arena
CONTACT:
SUMMARY:El Polvaderon VS. Athletic Club
DESCRIPTION:League Name: Men's B Arena Soccer - Summer 2023\nGame Type: Pos
 tseason\nGame Status: Complete\nHome Team: El Polvaderon\nAway Team: Athle
 tic Club\nHome Score: 3\nAway Score: 6
END:VEVENT
END:VCALENDAR
