BEGIN:VCALENDAR
VERSION:2.0
PRODID:-//EZFacility.com, Inc.//EZL 2.5.5.28621
BEGIN:VEVENT
UID:15150042@ezleagues.ezfacility.com
DTSTAMP:20260424T044321Z
CREATED:20260424T044321Z
DTSTART:20230715T164000Z
DTEND:20230715T174000Z
LOCATION:Patterson Indoor Soccer
CONTACT:
SUMMARY:Pride FC VS. Wolves
DESCRIPTION:League Name: BRONZE Summer Youth REC League\nGame Type: Regular
 \nGame Status: Complete\nHome Team: Pride FC\nAway Team: Wolves\nHome Scor
 e: 7\nAway Score: 9
END:VEVENT
BEGIN:VEVENT
UID:15154168@ezleagues.ezfacility.com
DTSTAMP:20260424T044321Z
CREATED:20260424T044321Z
DTSTART:20230720T004000Z
DTEND:20230720T014000Z
LOCATION:Creekside Middle School F-3
CONTACT:
SUMMARY:Pride FC VS. Hawks 
DESCRIPTION:League Name: BRONZE Summer Youth REC League\nGame Type: Regular
 \nGame Status: Complete\nHome Team: Pride FC\nAway Team: Hawks \nHome Scor
 e: 3\nAway Score: 4
END:VEVENT
BEGIN:VEVENT
UID:15154182@ezleagues.ezfacility.com
DTSTAMP:20260424T044321Z
CREATED:20260424T044321Z
DTSTART:20230722T173000Z
DTEND:20230722T183000Z
LOCATION:Patterson Indoor Soccer
CONTACT:
SUMMARY:Pride FC VS. Wolves
DESCRIPTION:League Name: BRONZE Summer Youth REC League\nGame Type: Regular
 \nGame Status: Complete\nHome Team: Pride FC\nAway Team: Wolves\nHome Scor
 e: 6\nAway Score: 13
END:VEVENT
BEGIN:VEVENT
UID:15154184@ezleagues.ezfacility.com
DTSTAMP:20260424T044321Z
CREATED:20260424T044321Z
DTSTART:20230726T200000Z
DTEND:20230726T210000Z
LOCATION:Creekside Middle School F-3
CONTACT:
SUMMARY:Bye VS. Pride FC
DESCRIPTION:League Name: BRONZE Summer Youth REC League\nGame Type: Regular
 \nGame Status: Pending\nHome Team: Bye\nAway Team: Pride FC\n
END:VEVENT
BEGIN:VEVENT
UID:15154189@ezleagues.ezfacility.com
DTSTAMP:20260424T044321Z
CREATED:20260424T044321Z
DTSTART:20230729T173000Z
DTEND:20230729T183000Z
LOCATION:Patterson Indoor Soccer
CONTACT:
SUMMARY:Hawks  VS. Pride FC
DESCRIPTION:League Name: BRONZE Summer Youth REC League\nGame Type: Regular
 \nGame Status: Complete\nHome Team: Hawks \nAway Team: Pride FC\nHome Scor
 e: 4\nAway Score: 3
END:VEVENT
BEGIN:VEVENT
UID:15154191@ezleagues.ezfacility.com
DTSTAMP:20260424T044321Z
CREATED:20260424T044321Z
DTSTART:20230803T004000Z
DTEND:20230803T014000Z
LOCATION:Creekside Middle School F-3
CONTACT:
SUMMARY:Wolves VS. Pride FC
DESCRIPTION:League Name: BRONZE Summer Youth REC League\nGame Type: Regular
 \nGame Status: Complete\nHome Team: Wolves\nAway Team: Pride FC\nHome Scor
 e: 10\nAway Score: 6
END:VEVENT
BEGIN:VEVENT
UID:15154193@ezleagues.ezfacility.com
DTSTAMP:20260424T044321Z
CREATED:20260424T044321Z
DTSTART:20230805T191000Z
DTEND:20230805T201000Z
LOCATION:Patterson Indoor Soccer
CONTACT:
SUMMARY:Pride FC VS. Hawks 
DESCRIPTION:League Name: BRONZE Summer Youth REC League\nGame Type: Regular
 \nGame Status: Complete\nHome Team: Pride FC\nAway Team: Hawks \nHome Scor
 e: 8\nAway Score: 11
END:VEVENT
BEGIN:VEVENT
UID:15154202@ezleagues.ezfacility.com
DTSTAMP:20260424T044321Z
CREATED:20260424T044321Z
DTSTART:20230809T234000Z
DTEND:20230810T004000Z
LOCATION:Patterson Indoor Soccer
CONTACT:
SUMMARY:Hawks  VS. Pride FC
DESCRIPTION:League Name: BRONZE Summer Youth REC League\nGame Type: Regular
 \nGame Status: Pending\nHome Team: Hawks \nAway Team: Pride FC\n
END:VEVENT
BEGIN:VEVENT
UID:15154204@ezleagues.ezfacility.com
DTSTAMP:20260424T044321Z
CREATED:20260424T044321Z
DTSTART:20230817T003000Z
DTEND:20230817T013000Z
LOCATION:Patterson Indoor Soccer
CONTACT:
SUMMARY:Pride FC VS. Wolves
DESCRIPTION:League Name: BRONZE Summer Youth REC League\nGame Type: Regular
 \nGame Status: Pending\nHome Team: Pride FC\nAway Team: Wolves\n
END:VEVENT
END:VCALENDAR
