BEGIN:VCALENDAR
VERSION:2.0
PRODID:-//EZFacility.com, Inc.//EZL 2.5.5.28621
BEGIN:VEVENT
UID:15156077@ezleagues.ezfacility.com
DTSTAMP:20260424T044415Z
CREATED:20260424T044415Z
DTSTART:20230724T201500Z
DTEND:20230724T210000Z
LOCATION:4 Mark Hughes
CONTACT:
SUMMARY:Fish And Toes VS. Inter Row Zed
DESCRIPTION:League Name: Cardiff Monday Div 7\nGame Type: Regular\nGame Sta
 tus: Complete\nHome Team: Fish And Toes\nAway Team: Inter Row Zed\nHome Sc
 ore: 6\nAway Score: 4
END:VEVENT
BEGIN:VEVENT
UID:15156081@ezleagues.ezfacility.com
DTSTAMP:20260424T044415Z
CREATED:20260424T044415Z
DTSTART:20230731T201500Z
DTEND:20230731T210000Z
LOCATION:4 Mark Hughes
CONTACT:
SUMMARY:The Slugs VS. Inter Row Zed
DESCRIPTION:League Name: Cardiff Monday Div 7\nGame Type: Regular\nGame Sta
 tus: Complete\nHome Team: The Slugs\nAway Team: Inter Row Zed\nHome Score:
  8\nAway Score: 4
END:VEVENT
BEGIN:VEVENT
UID:15156085@ezleagues.ezfacility.com
DTSTAMP:20260424T044415Z
CREATED:20260424T044415Z
DTSTART:20230807T201500Z
DTEND:20230807T210000Z
LOCATION:4 Mark Hughes
CONTACT:
SUMMARY:Caled FC VS. Inter Row Zed
DESCRIPTION:League Name: Cardiff Monday Div 7\nGame Type: Regular\nGame Sta
 tus: Complete\nHome Team: Caled FC\nAway Team: Inter Row Zed\nHome Score: 
 1\nAway Score: 4
END:VEVENT
BEGIN:VEVENT
UID:15156088@ezleagues.ezfacility.com
DTSTAMP:20260424T044415Z
CREATED:20260424T044415Z
DTSTART:20230814T193000Z
DTEND:20230814T201500Z
LOCATION:3 Ian Rush
CONTACT:
SUMMARY:Inter Row Zed VS. She was only XI
DESCRIPTION:League Name: Cardiff Monday Div 7\nGame Type: Regular\nGame Sta
 tus: Complete\nHome Team: Inter Row Zed\nAway Team: She was only XI\nHome 
 Score: 3\nAway Score: 7
END:VEVENT
BEGIN:VEVENT
UID:15156090@ezleagues.ezfacility.com
DTSTAMP:20260424T044415Z
CREATED:20260424T044415Z
DTSTART:20230821T201500Z
DTEND:20230821T210000Z
LOCATION:2 Ryan Giggs
CONTACT:
SUMMARY:Inter Row Zed VS. AC Merollin
DESCRIPTION:League Name: Cardiff Monday Div 7\nGame Type: Regular\nGame Sta
 tus: Complete\nHome Team: Inter Row Zed\nAway Team: AC Merollin\nHome Scor
 e: 2\nAway Score: 8
END:VEVENT
BEGIN:VEVENT
UID:15156092@ezleagues.ezfacility.com
DTSTAMP:20260424T044415Z
CREATED:20260424T044415Z
DTSTART:20230828T193000Z
DTEND:20230828T201500Z
LOCATION:5 Neville Southall
CONTACT:
SUMMARY:Fish And Toes VS. Inter Row Zed
DESCRIPTION:League Name: Cardiff Monday Div 7\nGame Type: Regular\nGame Sta
 tus: Complete\nHome Team: Fish And Toes\nAway Team: Inter Row Zed\nHome Sc
 ore: 10\nAway Score: 5
END:VEVENT
BEGIN:VEVENT
UID:15156096@ezleagues.ezfacility.com
DTSTAMP:20260424T044415Z
CREATED:20260424T044415Z
DTSTART:20230904T201500Z
DTEND:20230904T210000Z
LOCATION:1 John Charles
CONTACT:
SUMMARY:Inter Row Zed VS. The Slugs
DESCRIPTION:League Name: Cardiff Monday Div 7\nGame Type: Regular\nGame Sta
 tus: Complete\nHome Team: Inter Row Zed\nAway Team: The Slugs\nHome Score:
  2\nAway Score: 8
END:VEVENT
BEGIN:VEVENT
UID:15156100@ezleagues.ezfacility.com
DTSTAMP:20260424T044415Z
CREATED:20260424T044415Z
DTSTART:20230911T184500Z
DTEND:20230911T193000Z
LOCATION:6 Joey Jones
CONTACT:
SUMMARY:Inter Row Zed VS. Caled FC
DESCRIPTION:League Name: Cardiff Monday Div 7\nGame Type: Regular\nGame Sta
 tus: Complete\nHome Team: Inter Row Zed\nAway Team: Caled FC\nHome Score: 
 5\nAway Score: 2
END:VEVENT
BEGIN:VEVENT
UID:15156103@ezleagues.ezfacility.com
DTSTAMP:20260424T044415Z
CREATED:20260424T044415Z
DTSTART:20230918T193000Z
DTEND:20230918T201500Z
LOCATION:4 Mark Hughes
CONTACT:
SUMMARY:She was only XI VS. Inter Row Zed
DESCRIPTION:League Name: Cardiff Monday Div 7\nGame Type: Regular\nGame Sta
 tus: Complete\nHome Team: She was only XI\nAway Team: Inter Row Zed\nHome 
 Score: 10\nAway Score: 3
END:VEVENT
BEGIN:VEVENT
UID:15156105@ezleagues.ezfacility.com
DTSTAMP:20260424T044415Z
CREATED:20260424T044415Z
DTSTART:20230925T201500Z
DTEND:20230925T210000Z
LOCATION:5 Neville Southall
CONTACT:
SUMMARY:AC Merollin VS. Inter Row Zed
DESCRIPTION:League Name: Cardiff Monday Div 7\nGame Type: Regular\nGame Sta
 tus: Pending\nHome Team: AC Merollin\nAway Team: Inter Row Zed\n
END:VEVENT
BEGIN:VEVENT
UID:15156107@ezleagues.ezfacility.com
DTSTAMP:20260424T044415Z
CREATED:20260424T044415Z
DTSTART:20231002T201500Z
DTEND:20231002T210000Z
LOCATION:6 Joey Jones
CONTACT:
SUMMARY:Inter Row Zed VS. Fish And Toes
DESCRIPTION:League Name: Cardiff Monday Div 7\nGame Type: Regular\nGame Sta
 tus: Pending\nHome Team: Inter Row Zed\nAway Team: Fish And Toes\n
END:VEVENT
BEGIN:VEVENT
UID:15156111@ezleagues.ezfacility.com
DTSTAMP:20260424T044415Z
CREATED:20260424T044415Z
DTSTART:20231009T201500Z
DTEND:20231009T210000Z
LOCATION:6 Joey Jones
CONTACT:
SUMMARY:Inter Row Zed VS. The Slugs
DESCRIPTION:League Name: Cardiff Monday Div 7\nGame Type: Regular\nGame Sta
 tus: Pending\nHome Team: Inter Row Zed\nAway Team: The Slugs\n
END:VEVENT
BEGIN:VEVENT
UID:15156115@ezleagues.ezfacility.com
DTSTAMP:20260424T044415Z
CREATED:20260424T044415Z
DTSTART:20231016T201500Z
DTEND:20231016T210000Z
LOCATION:5 Neville Southall
CONTACT:
SUMMARY:Inter Row Zed VS. Caled FC
DESCRIPTION:League Name: Cardiff Monday Div 7\nGame Type: Regular\nGame Sta
 tus: Pending\nHome Team: Inter Row Zed\nAway Team: Caled FC\n
END:VEVENT
BEGIN:VEVENT
UID:15156118@ezleagues.ezfacility.com
DTSTAMP:20260424T044415Z
CREATED:20260424T044415Z
DTSTART:20231023T193000Z
DTEND:20231023T201500Z
LOCATION:4 Mark Hughes
CONTACT:
SUMMARY:She was only XI VS. Inter Row Zed
DESCRIPTION:League Name: Cardiff Monday Div 7\nGame Type: Regular\nGame Sta
 tus: Pending\nHome Team: She was only XI\nAway Team: Inter Row Zed\n
END:VEVENT
BEGIN:VEVENT
UID:15156120@ezleagues.ezfacility.com
DTSTAMP:20260424T044415Z
CREATED:20260424T044415Z
DTSTART:20231030T211500Z
DTEND:20231030T220000Z
LOCATION:4 Mark Hughes
CONTACT:
SUMMARY:AC Merollin VS. Inter Row Zed
DESCRIPTION:League Name: Cardiff Monday Div 7\nGame Type: Regular\nGame Sta
 tus: Pending\nHome Team: AC Merollin\nAway Team: Inter Row Zed\n
END:VEVENT
END:VCALENDAR
