BEGIN:VCALENDAR
VERSION:2.0
PRODID:-//EZFacility.com, Inc.//EZL 2.5.5.28621
BEGIN:VEVENT
UID:15162259@ezleagues.ezfacility.com
DTSTAMP:20260422T062722Z
CREATED:20260422T062722Z
DTSTART:20230730T220000Z
DTEND:20230730T225500Z
LOCATION:VA Army National Guard Field 2
CONTACT:Sampson
SUMMARY:Goal Diggers VS. ROYALS
DESCRIPTION:League Name: Sunday July 23 Women's Over 40\nGame Type: Regular
 \nGame Status: Complete\nHome Team: Goal Diggers\nAway Team: ROYALS\nHome 
 Score: 3\nAway Score: 10
END:VEVENT
BEGIN:VEVENT
UID:15162267@ezleagues.ezfacility.com
DTSTAMP:20260422T062722Z
CREATED:20260422T062722Z
DTSTART:20230806T235000Z
DTEND:20230807T004500Z
LOCATION:VA Army National Guard Field 2
CONTACT:Wise
SUMMARY:REDS VS. Goal Diggers
DESCRIPTION:League Name: Sunday July 23 Women's Over 40\nGame Type: Regular
 \nGame Status: Complete\nHome Team: REDS\nAway Team: Goal Diggers\nHome Sc
 ore: 2\nAway Score: 4
END:VEVENT
BEGIN:VEVENT
UID:15163111@ezleagues.ezfacility.com
DTSTAMP:20260422T062722Z
CREATED:20260422T062722Z
DTSTART:20230820T230000Z
DTEND:20230820T235500Z
LOCATION:VA Army National Guard Field 2
CONTACT:Wise
SUMMARY:Buzz Kill VS. Goal Diggers
DESCRIPTION:League Name: Sunday July 23 Women's Over 40\nGame Type: Regular
 \nGame Status: Complete\nHome Team: Buzz Kill\nAway Team: Goal Diggers\nHo
 me Score: 3\nAway Score: 7
END:VEVENT
BEGIN:VEVENT
UID:15163122@ezleagues.ezfacility.com
DTSTAMP:20260422T062722Z
CREATED:20260422T062722Z
DTSTART:20230828T004500Z
DTEND:20230828T014000Z
LOCATION: Field 3
CONTACT:Zelaya
SUMMARY:Goal Diggers VS. WWWD
DESCRIPTION:League Name: Sunday July 23 Women's Over 40\nGame Type: Regular
 \nGame Status: Complete\nHome Team: Goal Diggers\nAway Team: WWWD\nHome Sc
 ore: 11\nAway Score: 2
END:VEVENT
BEGIN:VEVENT
UID:15172579@ezleagues.ezfacility.com
DTSTAMP:20260422T062722Z
CREATED:20260422T062722Z
DTSTART:20230910T220000Z
DTEND:20230910T225500Z
LOCATION: Field 3
CONTACT:Huber
SUMMARY:Goal Diggers VS. STORM
DESCRIPTION:League Name: Sunday July 23 Women's Over 40\nGame Type: Regular
 \nGame Status: Complete\nHome Team: Goal Diggers\nAway Team: STORM\nHome S
 core: 7\nAway Score: 2
END:VEVENT
BEGIN:VEVENT
UID:15165335@ezleagues.ezfacility.com
DTSTAMP:20260422T062722Z
CREATED:20260422T062722Z
DTSTART:20231001T230000Z
DTEND:20231001T235500Z
LOCATION:Field 1
CONTACT:
SUMMARY:WWWD VS. Goal Diggers
DESCRIPTION:League Name: Sunday July 23 Women's Over 40\nGame Type: Postsea
 son\nGame Status: Complete\nHome Team: WWWD\nAway Team: Goal Diggers\nHome
  Score: 3\nAway Score: 10
END:VEVENT
BEGIN:VEVENT
UID:15165336@ezleagues.ezfacility.com
DTSTAMP:20260422T062722Z
CREATED:20260422T062722Z
DTSTART:20231008T230000Z
DTEND:20231008T235500Z
LOCATION:Field 1
CONTACT:Zelaya
SUMMARY:Goal Diggers VS. ROYALS
DESCRIPTION:League Name: Sunday July 23 Women's Over 40\nGame Type: Postsea
 son\nGame Status: Complete\nHome Team: Goal Diggers\nAway Team: ROYALS\nHo
 me Score: 9\nAway Score: 4
END:VEVENT
END:VCALENDAR
