BEGIN:VCALENDAR
VERSION:2.0
PRODID:-//EZFacility.com, Inc.//EZL 2.5.5.28621
BEGIN:VEVENT
UID:15179939@ezleagues.ezfacility.com
DTSTAMP:20260424T044122Z
CREATED:20260424T044122Z
DTSTART:20230726T230000Z
DTEND:20230727T000000Z
LOCATION:Turf 2
CONTACT:
SUMMARY:Black Widows VS. Margarita Knights
DESCRIPTION:League Name: Women's Soccer (July 2023)\nGame Type: Regular\nGa
 me Status: Complete\nHome Team: Black Widows\nAway Team: Margarita Knights
 \nHome Score: 1\nAway Score: 0
END:VEVENT
BEGIN:VEVENT
UID:15179962@ezleagues.ezfacility.com
DTSTAMP:20260424T044122Z
CREATED:20260424T044122Z
DTSTART:20230803T000000Z
DTEND:20230803T010000Z
LOCATION:Turf 2
CONTACT:
SUMMARY:Margarita Knights VS. Cleats and Cleavage
DESCRIPTION:League Name: Women's Soccer (July 2023)\nGame Type: Regular\nGa
 me Status: Complete\nHome Team: Margarita Knights\nAway Team: Cleats and C
 leavage\nHome Score: 0\nAway Score: 5
END:VEVENT
BEGIN:VEVENT
UID:15173880@ezleagues.ezfacility.com
DTSTAMP:20260424T044122Z
CREATED:20260424T044122Z
DTSTART:20230810T000000Z
DTEND:20230810T010000Z
LOCATION:Turf 1
CONTACT:
SUMMARY:Margarita Knights VS. Cougars
DESCRIPTION:League Name: Women's Soccer (July 2023)\nGame Type: Regular\nGa
 me Status: Complete\nHome Team: Margarita Knights\nAway Team: Cougars\nHom
 e Score: 2\nAway Score: 5
END:VEVENT
BEGIN:VEVENT
UID:15179966@ezleagues.ezfacility.com
DTSTAMP:20260424T044122Z
CREATED:20260424T044122Z
DTSTART:20230817T000000Z
DTEND:20230817T010000Z
LOCATION:Turf 2
CONTACT:
SUMMARY:Black Widows VS. Margarita Knights
DESCRIPTION:League Name: Women's Soccer (July 2023)\nGame Type: Regular\nGa
 me Status: Complete\nHome Team: Black Widows\nAway Team: Margarita Knights
 \nHome Score: 3\nAway Score: 1
END:VEVENT
BEGIN:VEVENT
UID:15183004@ezleagues.ezfacility.com
DTSTAMP:20260424T044122Z
CREATED:20260424T044122Z
DTSTART:20230823T230000Z
DTEND:20230824T000000Z
LOCATION:Turf 1
CONTACT:
SUMMARY:Paramedics VS. Margarita Knights
DESCRIPTION:League Name: Women's Soccer (July 2023)\nGame Type: Regular\nGa
 me Status: Complete\nHome Team: Paramedics\nAway Team: Margarita Knights\n
 Home Score: 7\nAway Score: 3
END:VEVENT
BEGIN:VEVENT
UID:15183013@ezleagues.ezfacility.com
DTSTAMP:20260424T044122Z
CREATED:20260424T044122Z
DTSTART:20230831T000000Z
DTEND:20230831T010000Z
LOCATION:Turf 1
CONTACT:
SUMMARY:Longplex FC VS. Margarita Knights
DESCRIPTION:League Name: Women's Soccer (July 2023)\nGame Type: Regular\nGa
 me Status: Complete\nHome Team: Longplex FC\nAway Team: Margarita Knights\
 nHome Score: 0\nAway Score: 1
END:VEVENT
BEGIN:VEVENT
UID:15183029@ezleagues.ezfacility.com
DTSTAMP:20260424T044122Z
CREATED:20260424T044122Z
DTSTART:20230906T230000Z
DTEND:20230907T000000Z
LOCATION:Turf 2
CONTACT:
SUMMARY:Angry Buzz VS. Margarita Knights
DESCRIPTION:League Name: Women's Soccer (July 2023)\nGame Type: Regular\nGa
 me Status: Complete\nHome Team: Angry Buzz\nAway Team: Margarita Knights\n
 Home Score: 7\nAway Score: 1
END:VEVENT
BEGIN:VEVENT
UID:15183033@ezleagues.ezfacility.com
DTSTAMP:20260424T044122Z
CREATED:20260424T044122Z
DTSTART:20230913T230000Z
DTEND:20230914T000000Z
LOCATION:Turf 2
CONTACT:
SUMMARY:Margarita Knights VS. Cougars
DESCRIPTION:League Name: Women's Soccer (July 2023)\nGame Type: Regular\nGa
 me Status: Complete\nHome Team: Margarita Knights\nAway Team: Cougars\nHom
 e Score: 1\nAway Score: 3
END:VEVENT
BEGIN:VEVENT
UID:15183217@ezleagues.ezfacility.com
DTSTAMP:20260424T044122Z
CREATED:20260424T044122Z
DTSTART:20230920T230000Z
DTEND:20230920T233000Z
LOCATION:Turf 2
CONTACT:
SUMMARY:Cougars VS. Margarita Knights
DESCRIPTION:League Name: Women's Soccer (July 2023)\nGame Type: Postseason\
 nGame Status: Complete\nHome Team: Cougars\nAway Team: Margarita Knights\n
 Home Score: 2\nAway Score: 1
END:VEVENT
END:VCALENDAR
