BEGIN:VCALENDAR
VERSION:2.0
PRODID:-//EZFacility.com, Inc.//EZL 2.5.5.28621
BEGIN:VEVENT
UID:15186114@ezleagues.ezfacility.com
DTSTAMP:20260420T011703Z
CREATED:20260420T011703Z
DTSTART:20230825T020500Z
DTEND:20230825T030500Z
LOCATION:Rocky River 3/4 Yellow
CONTACT:
SUMMARY:Red Devils VS. Messi'n Around
DESCRIPTION:League Name: Men's Open - Thursday Blue Division - Fall 2023\nG
 ame Type: Regular\nGame Status: Complete\nHome Team: Red Devils\nAway Team
 : Messi'n Around\nHome Score: 8\nAway Score: 10
END:VEVENT
BEGIN:VEVENT
UID:15186117@ezleagues.ezfacility.com
DTSTAMP:20260420T011703Z
CREATED:20260420T011703Z
DTSTART:20230901T020500Z
DTEND:20230901T030500Z
LOCATION:Rocky River 3/4 Blue
CONTACT:
SUMMARY:Kenilworth VS. Red Devils
DESCRIPTION:League Name: Men's Open - Thursday Blue Division - Fall 2023\nG
 ame Type: Regular\nGame Status: Complete\nHome Team: Kenilworth\nAway Team
 : Red Devils\nHome Score: 7\nAway Score: 4
END:VEVENT
BEGIN:VEVENT
UID:15186120@ezleagues.ezfacility.com
DTSTAMP:20260420T011703Z
CREATED:20260420T011703Z
DTSTART:20230908T010500Z
DTEND:20230908T020500Z
LOCATION:Rocky River 3/4 Blue
CONTACT:
SUMMARY:Sporting Lakewood VS. Red Devils
DESCRIPTION:League Name: Men's Open - Thursday Blue Division - Fall 2023\nG
 ame Type: Regular\nGame Status: Complete\nHome Team: Sporting Lakewood\nAw
 ay Team: Red Devils\nHome Score: 5\nAway Score: 3
END:VEVENT
BEGIN:VEVENT
UID:15186123@ezleagues.ezfacility.com
DTSTAMP:20260420T011703Z
CREATED:20260420T011703Z
DTSTART:20230915T020500Z
DTEND:20230915T030500Z
LOCATION:Rocky River 3/4 Yellow
CONTACT:
SUMMARY:Arsa boys VS. Red Devils
DESCRIPTION:League Name: Men's Open - Thursday Blue Division - Fall 2023\nG
 ame Type: Regular\nGame Status: Complete\nHome Team: Arsa boys\nAway Team:
  Red Devils\nHome Score: 2\nAway Score: 9
END:VEVENT
BEGIN:VEVENT
UID:15186128@ezleagues.ezfacility.com
DTSTAMP:20260420T011703Z
CREATED:20260420T011703Z
DTSTART:20230922T010500Z
DTEND:20230922T020500Z
LOCATION:Rocky River 3/4 Blue
CONTACT:
SUMMARY:Red Devils VS. Glory Days United
DESCRIPTION:League Name: Men's Open - Thursday Blue Division - Fall 2023\nG
 ame Type: Regular\nGame Status: Complete\nHome Team: Red Devils\nAway Team
 : Glory Days United\nHome Score: 3\nAway Score: 0
END:VEVENT
BEGIN:VEVENT
UID:15186133@ezleagues.ezfacility.com
DTSTAMP:20260420T011703Z
CREATED:20260420T011703Z
DTSTART:20230929T010500Z
DTEND:20230929T020500Z
LOCATION:Rocky River 3/4 Yellow
CONTACT:
SUMMARY:Red Devils VS. Old Angle FC
DESCRIPTION:League Name: Men's Open - Thursday Blue Division - Fall 2023\nG
 ame Type: Regular\nGame Status: Complete\nHome Team: Red Devils\nAway Team
 : Old Angle FC\nHome Score: 4\nAway Score: 3
END:VEVENT
BEGIN:VEVENT
UID:15186138@ezleagues.ezfacility.com
DTSTAMP:20260420T011703Z
CREATED:20260420T011703Z
DTSTART:20231006T010500Z
DTEND:20231006T020500Z
LOCATION:Rocky River 3/4 Yellow
CONTACT:
SUMMARY:Red Devils VS. The Orange Cones
DESCRIPTION:League Name: Men's Open - Thursday Blue Division - Fall 2023\nG
 ame Type: Regular\nGame Status: Complete\nHome Team: Red Devils\nAway Team
 : The Orange Cones\nHome Score: 11\nAway Score: 2
END:VEVENT
BEGIN:VEVENT
UID:15186142@ezleagues.ezfacility.com
DTSTAMP:20260420T011703Z
CREATED:20260420T011703Z
DTSTART:20231013T010500Z
DTEND:20231013T020500Z
LOCATION:Rocky River 3/4 Yellow
CONTACT:
SUMMARY:Messi'n Around VS. Red Devils
DESCRIPTION:League Name: Men's Open - Thursday Blue Division - Fall 2023\nG
 ame Type: Regular\nGame Status: Complete\nHome Team: Messi'n Around\nAway 
 Team: Red Devils\nHome Score: 1\nAway Score: 10
END:VEVENT
END:VCALENDAR
