BEGIN:VCALENDAR
VERSION:2.0
PRODID:-//EZFacility.com, Inc.//EZL 2.5.5.28621
BEGIN:VEVENT
UID:15199747@ezleagues.ezfacility.com
DTSTAMP:20260419T163056Z
CREATED:20260419T163056Z
DTSTART:20230906T024000Z
DTEND:20230906T034000Z
LOCATION:Field 6
CONTACT:
SUMMARY:Swarm VS. Wolf Pack
DESCRIPTION:League Name: 11U BB Tues Tripp Haney League - Sep 5, 2023\nGame
  Type: Regular\nGame Status: Complete\nHome Team: Swarm\nAway Team: Wolf P
 ack\nHome Score: 17\nAway Score: 1
END:VEVENT
BEGIN:VEVENT
UID:15199750@ezleagues.ezfacility.com
DTSTAMP:20260419T163056Z
CREATED:20260419T163056Z
DTSTART:20230913T024000Z
DTEND:20230913T034000Z
LOCATION:Field 6
CONTACT:
SUMMARY:Bird Gang VS. Wolf Pack
DESCRIPTION:League Name: 11U BB Tues Tripp Haney League - Sep 5, 2023\nGame
  Type: Regular\nGame Status: Rescheduled\nHome Team: Bird Gang\nAway Team:
  Wolf Pack\n
END:VEVENT
BEGIN:VEVENT
UID:15199752@ezleagues.ezfacility.com
DTSTAMP:20260419T163056Z
CREATED:20260419T163056Z
DTSTART:20230920T024000Z
DTEND:20230920T034000Z
LOCATION:Field 6
CONTACT:
SUMMARY:Wolf Pack VS. Intensity
DESCRIPTION:League Name: 11U BB Tues Tripp Haney League - Sep 5, 2023\nGame
  Type: Regular\nGame Status: Complete\nHome Team: Wolf Pack\nAway Team: In
 tensity\nHome Score: 1\nAway Score: 8
END:VEVENT
BEGIN:VEVENT
UID:15199753@ezleagues.ezfacility.com
DTSTAMP:20260419T163056Z
CREATED:20260419T163056Z
DTSTART:20230927T024000Z
DTEND:20230927T034000Z
LOCATION:Field 6
CONTACT:
SUMMARY:Wolf Pack VS. Swarm
DESCRIPTION:League Name: 11U BB Tues Tripp Haney League - Sep 5, 2023\nGame
  Type: Regular\nGame Status: Complete\nHome Team: Wolf Pack\nAway Team: Sw
 arm\nHome Score: 3\nAway Score: 26
END:VEVENT
BEGIN:VEVENT
UID:15269276@ezleagues.ezfacility.com
DTSTAMP:20260419T163056Z
CREATED:20260419T163056Z
DTSTART:20230930T010000Z
DTEND:20230930T020000Z
LOCATION:Field 6
CONTACT:
SUMMARY:Bird Gang VS. Wolf Pack
DESCRIPTION:League Name: 11U BB Tues Tripp Haney League - Sep 5, 2023\nGame
  Type: Regular\nGame Status: Pending\nHome Team: Bird Gang\nAway Team: Wol
 f Pack\n
END:VEVENT
BEGIN:VEVENT
UID:15199756@ezleagues.ezfacility.com
DTSTAMP:20260419T163056Z
CREATED:20260419T163056Z
DTSTART:20231004T005000Z
DTEND:20231004T015000Z
LOCATION:Field 6
CONTACT:
SUMMARY:Wolf Pack VS. Bird Gang
DESCRIPTION:League Name: 11U BB Tues Tripp Haney League - Sep 5, 2023\nGame
  Type: Regular\nGame Status: Complete\nHome Team: Wolf Pack\nAway Team: Bi
 rd Gang\nHome Score: 4\nAway Score: 21
END:VEVENT
BEGIN:VEVENT
UID:15199758@ezleagues.ezfacility.com
DTSTAMP:20260419T163056Z
CREATED:20260419T163056Z
DTSTART:20231018T005000Z
DTEND:20231018T015000Z
LOCATION:Field 6
CONTACT:
SUMMARY:Intensity VS. Wolf Pack
DESCRIPTION:League Name: 11U BB Tues Tripp Haney League - Sep 5, 2023\nGame
  Type: Regular\nGame Status: Complete\nHome Team: Intensity\nAway Team: Wo
 lf Pack\nHome Score: 14\nAway Score: 7
END:VEVENT
BEGIN:VEVENT
UID:15199759@ezleagues.ezfacility.com
DTSTAMP:20260419T163056Z
CREATED:20260419T163056Z
DTSTART:20231025T005000Z
DTEND:20231025T015000Z
LOCATION:Field 6
CONTACT:
SUMMARY:Bird Gang VS. Wolf Pack
DESCRIPTION:League Name: 11U BB Tues Tripp Haney League - Sep 5, 2023\nGame
  Type: Postseason\nGame Status: Complete\nHome Team: Bird Gang\nAway Team:
  Wolf Pack\nHome Score: 15\nAway Score: 4
END:VEVENT
BEGIN:VEVENT
UID:15199762@ezleagues.ezfacility.com
DTSTAMP:20260419T163056Z
CREATED:20260419T163056Z
DTSTART:20231108T005000Z
DTEND:20231108T015000Z
LOCATION:Field 6
CONTACT:
SUMMARY:Intensity VS. Wolf Pack
DESCRIPTION:League Name: 11U BB Tues Tripp Haney League - Sep 5, 2023\nGame
  Type: Postseason\nGame Status: Complete\nHome Team: Intensity\nAway Team:
  Wolf Pack\nHome Score: 6\nAway Score: 10
END:VEVENT
END:VCALENDAR
