BEGIN:VCALENDAR
VERSION:2.0
PRODID:-//EZFacility.com, Inc.//EZL 2.5.5.28621
BEGIN:VEVENT
UID:15200288@ezleagues.ezfacility.com
DTSTAMP:20260424T044248Z
CREATED:20260424T044248Z
DTSTART:20230906T003000Z
DTEND:20230906T022000Z
LOCATION:USM
CONTACT:
SUMMARY:Phillies VS. Rangers
DESCRIPTION:League Name: 2023 P360 Fall Wood Bat League - Hattiesburg\nGame
  Type: Regular\nGame Status: Complete\nHome Team: Phillies\nAway Team: Ran
 gers\nHome Score: 2\nAway Score: 7
END:VEVENT
BEGIN:VEVENT
UID:15200295@ezleagues.ezfacility.com
DTSTAMP:20260424T044248Z
CREATED:20260424T044248Z
DTSTART:20230911T223000Z
DTEND:20230912T002000Z
LOCATION:PRCC
CONTACT:
SUMMARY:Phillies VS. Mariners
DESCRIPTION:League Name: 2023 P360 Fall Wood Bat League - Hattiesburg\nGame
  Type: Regular\nGame Status: Complete\nHome Team: Phillies\nAway Team: Mar
 iners\nHome Score: 1\nAway Score: 6
END:VEVENT
BEGIN:VEVENT
UID:15200299@ezleagues.ezfacility.com
DTSTAMP:20260424T044248Z
CREATED:20260424T044248Z
DTSTART:20230913T223000Z
DTEND:20230914T002000Z
LOCATION:MGCCC
CONTACT:
SUMMARY:Dodgers VS. Phillies
DESCRIPTION:League Name: 2023 P360 Fall Wood Bat League - Hattiesburg\nGame
  Type: Regular\nGame Status: Complete\nHome Team: Dodgers\nAway Team: Phil
 lies\nHome Score: 11\nAway Score: 0
END:VEVENT
BEGIN:VEVENT
UID:15200311@ezleagues.ezfacility.com
DTSTAMP:20260424T044248Z
CREATED:20260424T044248Z
DTSTART:20230919T223000Z
DTEND:20230920T002000Z
LOCATION:USM
CONTACT:
SUMMARY:Phillies VS. Braves
DESCRIPTION:League Name: 2023 P360 Fall Wood Bat League - Hattiesburg\nGame
  Type: Regular\nGame Status: Complete\nHome Team: Phillies\nAway Team: Bra
 ves\nHome Score: 2\nAway Score: 7
END:VEVENT
BEGIN:VEVENT
UID:15200322@ezleagues.ezfacility.com
DTSTAMP:20260424T044248Z
CREATED:20260424T044248Z
DTSTART:20230927T003000Z
DTEND:20230927T022000Z
LOCATION:MGCCC
CONTACT:
SUMMARY:Pirates VS. Phillies
DESCRIPTION:League Name: 2023 P360 Fall Wood Bat League - Hattiesburg\nGame
  Type: Regular\nGame Status: Complete\nHome Team: Pirates\nAway Team: Phil
 lies\nHome Score: 5\nAway Score: 3
END:VEVENT
BEGIN:VEVENT
UID:15200320@ezleagues.ezfacility.com
DTSTAMP:20260424T044248Z
CREATED:20260424T044248Z
DTSTART:20230928T003000Z
DTEND:20230928T022000Z
LOCATION:PRCC
CONTACT:
SUMMARY:Phillies VS. Brewers
DESCRIPTION:League Name: 2023 P360 Fall Wood Bat League - Hattiesburg\nGame
  Type: Regular\nGame Status: Complete\nHome Team: Phillies\nAway Team: Bre
 wers\nHome Score: 6\nAway Score: 11
END:VEVENT
BEGIN:VEVENT
UID:15200328@ezleagues.ezfacility.com
DTSTAMP:20260424T044248Z
CREATED:20260424T044248Z
DTSTART:20231004T003000Z
DTEND:20231004T022000Z
LOCATION:MGCCC
CONTACT:
SUMMARY:Phillies VS. Orioles
DESCRIPTION:League Name: 2023 P360 Fall Wood Bat League - Hattiesburg\nGame
  Type: Regular\nGame Status: Complete\nHome Team: Phillies\nAway Team: Ori
 oles\nHome Score: 0\nAway Score: 8
END:VEVENT
BEGIN:VEVENT
UID:15200318@ezleagues.ezfacility.com
DTSTAMP:20260424T044248Z
CREATED:20260424T044248Z
DTSTART:20231006T003000Z
DTEND:20231006T022000Z
LOCATION:PCS
CONTACT:
SUMMARY:Astros VS. Phillies
DESCRIPTION:League Name: 2023 P360 Fall Wood Bat League - Hattiesburg\nGame
  Type: Regular\nGame Status: Complete\nHome Team: Astros\nAway Team: Phill
 ies\nHome Score: 11\nAway Score: 2
END:VEVENT
BEGIN:VEVENT
UID:15268721@ezleagues.ezfacility.com
DTSTAMP:20260424T044248Z
CREATED:20260424T044248Z
DTSTART:20231010T003000Z
DTEND:20231010T022000Z
LOCATION:PCS
CONTACT:
SUMMARY:Orioles VS. Phillies
DESCRIPTION:League Name: 2023 P360 Fall Wood Bat League - Hattiesburg\nGame
  Type: Postseason\nGame Status: Complete\nHome Team: Orioles\nAway Team: P
 hillies\nHome Score: 0\nAway Score: 0
END:VEVENT
END:VCALENDAR
