BEGIN:VCALENDAR
VERSION:2.0
PRODID:-//EZFacility.com, Inc.//EZL 2.5.5.28621
BEGIN:VEVENT
UID:15251650@ezleagues.ezfacility.com
DTSTAMP:20260422T091637Z
CREATED:20260422T091637Z
DTSTART:20230920T223000Z
DTEND:20230920T231000Z
LOCATION:Court 3
CONTACT:
SUMMARY:Jordan Grantz VS. Jessica Wise 
DESCRIPTION:League Name: 23 Fall Women's 4s VB League\nGame Type: Regular\n
 Game Status: Complete\nHome Team: Jordan Grantz\nAway Team: Jessica Wise \
 nHome Score: 13\nAway Score: 19
END:VEVENT
BEGIN:VEVENT
UID:15251651@ezleagues.ezfacility.com
DTSTAMP:20260422T091637Z
CREATED:20260422T091637Z
DTSTART:20230920T223000Z
DTEND:20230920T231000Z
LOCATION:Court 3
CONTACT:
SUMMARY:Jordan Grantz VS. Jessica Wise 
DESCRIPTION:League Name: 23 Fall Women's 4s VB League\nGame Type: Regular\n
 Game Status: Complete\nHome Team: Jordan Grantz\nAway Team: Jessica Wise \
 nHome Score: 16\nAway Score: 19
END:VEVENT
BEGIN:VEVENT
UID:15228660@ezleagues.ezfacility.com
DTSTAMP:20260422T091637Z
CREATED:20260422T091637Z
DTSTART:20230920T223000Z
DTEND:20230920T231000Z
LOCATION:Court 3
CONTACT:
SUMMARY:Jordan Grantz VS. Jessica Wise 
DESCRIPTION:League Name: 23 Fall Women's 4s VB League\nGame Type: Regular\n
 Game Status: Complete\nHome Team: Jordan Grantz\nAway Team: Jessica Wise \
 nHome Score: 18\nAway Score: 19
END:VEVENT
BEGIN:VEVENT
UID:15228665@ezleagues.ezfacility.com
DTSTAMP:20260422T091637Z
CREATED:20260422T091637Z
DTSTART:20230920T231000Z
DTEND:20230920T235000Z
LOCATION:Court 4
CONTACT:
SUMMARY:Jordan Grantz VS. Quadruple Spikes
DESCRIPTION:League Name: 23 Fall Women's 4s VB League\nGame Type: Regular\n
 Game Status: Complete\nHome Team: Jordan Grantz\nAway Team: Quadruple Spik
 es\nHome Score: 19\nAway Score: 14
END:VEVENT
BEGIN:VEVENT
UID:15251675@ezleagues.ezfacility.com
DTSTAMP:20260422T091637Z
CREATED:20260422T091637Z
DTSTART:20230920T231000Z
DTEND:20230920T235000Z
LOCATION:Court 4
CONTACT:
SUMMARY:Jordan Grantz VS. Quadruple Spikes
DESCRIPTION:League Name: 23 Fall Women's 4s VB League\nGame Type: Regular\n
 Game Status: Complete\nHome Team: Jordan Grantz\nAway Team: Quadruple Spik
 es\nHome Score: 19\nAway Score: 8
END:VEVENT
BEGIN:VEVENT
UID:15251676@ezleagues.ezfacility.com
DTSTAMP:20260422T091637Z
CREATED:20260422T091637Z
DTSTART:20230920T231000Z
DTEND:20230920T235000Z
LOCATION:Court 4
CONTACT:
SUMMARY:Jordan Grantz VS. Quadruple Spikes
DESCRIPTION:League Name: 23 Fall Women's 4s VB League\nGame Type: Regular\n
 Game Status: Complete\nHome Team: Jordan Grantz\nAway Team: Quadruple Spik
 es\nHome Score: 19\nAway Score: 17
END:VEVENT
BEGIN:VEVENT
UID:15268218@ezleagues.ezfacility.com
DTSTAMP:20260422T091637Z
CREATED:20260422T091637Z
DTSTART:20230928T000000Z
DTEND:20230928T004000Z
LOCATION:Court 3
CONTACT:
SUMMARY:Jordan Grantz VS. Deanna Krumholz
DESCRIPTION:League Name: 23 Fall Women's 4s VB League\nGame Type: Regular\n
 Game Status: Complete\nHome Team: Jordan Grantz\nAway Team: Deanna Krumhol
 z\nHome Score: 18\nAway Score: 19
END:VEVENT
BEGIN:VEVENT
UID:15268219@ezleagues.ezfacility.com
DTSTAMP:20260422T091637Z
CREATED:20260422T091637Z
DTSTART:20230928T000000Z
DTEND:20230928T004000Z
LOCATION:Court 3
CONTACT:
SUMMARY:Jordan Grantz VS. Deanna Krumholz
DESCRIPTION:League Name: 23 Fall Women's 4s VB League\nGame Type: Regular\n
 Game Status: Complete\nHome Team: Jordan Grantz\nAway Team: Deanna Krumhol
 z\nHome Score: 9\nAway Score: 19
END:VEVENT
BEGIN:VEVENT
UID:15228688@ezleagues.ezfacility.com
DTSTAMP:20260422T091637Z
CREATED:20260422T091637Z
DTSTART:20230928T000000Z
DTEND:20230928T004000Z
LOCATION:Court 3
CONTACT:
SUMMARY:Jordan Grantz VS. Deanna Krumholz
DESCRIPTION:League Name: 23 Fall Women's 4s VB League\nGame Type: Regular\n
 Game Status: Complete\nHome Team: Jordan Grantz\nAway Team: Deanna Krumhol
 z\nHome Score: 13\nAway Score: 19
END:VEVENT
BEGIN:VEVENT
UID:15228690@ezleagues.ezfacility.com
DTSTAMP:20260422T091637Z
CREATED:20260422T091637Z
DTSTART:20230928T004000Z
DTEND:20230928T012000Z
LOCATION:Court 1
CONTACT:
SUMMARY:Jordan Grantz VS. BMEM
DESCRIPTION:League Name: 23 Fall Women's 4s VB League\nGame Type: Regular\n
 Game Status: Complete\nHome Team: Jordan Grantz\nAway Team: BMEM\nHome Sco
 re: 19\nAway Score: 10
END:VEVENT
BEGIN:VEVENT
UID:15268220@ezleagues.ezfacility.com
DTSTAMP:20260422T091637Z
CREATED:20260422T091637Z
DTSTART:20230928T004000Z
DTEND:20230928T012000Z
LOCATION:Court 1
CONTACT:
SUMMARY:Jordan Grantz VS. BMEM
DESCRIPTION:League Name: 23 Fall Women's 4s VB League\nGame Type: Regular\n
 Game Status: Complete\nHome Team: Jordan Grantz\nAway Team: BMEM\nHome Sco
 re: 19\nAway Score: 9
END:VEVENT
BEGIN:VEVENT
UID:15268221@ezleagues.ezfacility.com
DTSTAMP:20260422T091637Z
CREATED:20260422T091637Z
DTSTART:20230928T004000Z
DTEND:20230928T012000Z
LOCATION:Court 1
CONTACT:
SUMMARY:Jordan Grantz VS. BMEM
DESCRIPTION:League Name: 23 Fall Women's 4s VB League\nGame Type: Regular\n
 Game Status: Complete\nHome Team: Jordan Grantz\nAway Team: BMEM\nHome Sco
 re: 17\nAway Score: 19
END:VEVENT
BEGIN:VEVENT
UID:15283031@ezleagues.ezfacility.com
DTSTAMP:20260422T091637Z
CREATED:20260422T091637Z
DTSTART:20231004T223000Z
DTEND:20231004T231000Z
LOCATION:Court 2
CONTACT:
SUMMARY:Jordan Grantz VS. Block N Roll
DESCRIPTION:League Name: 23 Fall Women's 4s VB League\nGame Type: Regular\n
 Game Status: Complete\nHome Team: Jordan Grantz\nAway Team: Block N Roll\n
 Home Score: 9\nAway Score: 19
END:VEVENT
BEGIN:VEVENT
UID:15283032@ezleagues.ezfacility.com
DTSTAMP:20260422T091637Z
CREATED:20260422T091637Z
DTSTART:20231004T223000Z
DTEND:20231004T231000Z
LOCATION:Court 2
CONTACT:
SUMMARY:Jordan Grantz VS. Block N Roll
DESCRIPTION:League Name: 23 Fall Women's 4s VB League\nGame Type: Regular\n
 Game Status: Complete\nHome Team: Jordan Grantz\nAway Team: Block N Roll\n
 Home Score: 19\nAway Score: 12
END:VEVENT
BEGIN:VEVENT
UID:15228697@ezleagues.ezfacility.com
DTSTAMP:20260422T091637Z
CREATED:20260422T091637Z
DTSTART:20231004T223000Z
DTEND:20231004T231000Z
LOCATION:Court 2
CONTACT:
SUMMARY:Jordan Grantz VS. Block N Roll
DESCRIPTION:League Name: 23 Fall Women's 4s VB League\nGame Type: Regular\n
 Game Status: Complete\nHome Team: Jordan Grantz\nAway Team: Block N Roll\n
 Home Score: 19\nAway Score: 17
END:VEVENT
BEGIN:VEVENT
UID:15228704@ezleagues.ezfacility.com
DTSTAMP:20260422T091637Z
CREATED:20260422T091637Z
DTSTART:20231004T231000Z
DTEND:20231004T235000Z
LOCATION:Court 4
CONTACT:
SUMMARY:T.L.K.S. VS. Jordan Grantz
DESCRIPTION:League Name: 23 Fall Women's 4s VB League\nGame Type: Regular\n
 Game Status: Complete\nHome Team: T.L.K.S.\nAway Team: Jordan Grantz\nHome
  Score: 19\nAway Score: 18
END:VEVENT
BEGIN:VEVENT
UID:15283043@ezleagues.ezfacility.com
DTSTAMP:20260422T091637Z
CREATED:20260422T091637Z
DTSTART:20231004T231000Z
DTEND:20231004T235000Z
LOCATION:Court 4
CONTACT:
SUMMARY:T.L.K.S. VS. Jordan Grantz
DESCRIPTION:League Name: 23 Fall Women's 4s VB League\nGame Type: Regular\n
 Game Status: Complete\nHome Team: T.L.K.S.\nAway Team: Jordan Grantz\nHome
  Score: 16\nAway Score: 19
END:VEVENT
BEGIN:VEVENT
UID:15283044@ezleagues.ezfacility.com
DTSTAMP:20260422T091637Z
CREATED:20260422T091637Z
DTSTART:20231004T231000Z
DTEND:20231004T235000Z
LOCATION:Court 4
CONTACT:
SUMMARY:T.L.K.S. VS. Jordan Grantz
DESCRIPTION:League Name: 23 Fall Women's 4s VB League\nGame Type: Regular\n
 Game Status: Complete\nHome Team: T.L.K.S.\nAway Team: Jordan Grantz\nHome
  Score: 13\nAway Score: 19
END:VEVENT
BEGIN:VEVENT
UID:15228778@ezleagues.ezfacility.com
DTSTAMP:20260422T091637Z
CREATED:20260422T091637Z
DTSTART:20231012T000000Z
DTEND:20231012T004000Z
LOCATION:Court 2
CONTACT:
SUMMARY:Jordan Grantz VS. Varvara Gromakova
DESCRIPTION:League Name: 23 Fall Women's 4s VB League\nGame Type: Regular\n
 Game Status: Complete\nHome Team: Jordan Grantz\nAway Team: Varvara Gromak
 ova\nHome Score: 19\nAway Score: 16
END:VEVENT
BEGIN:VEVENT
UID:15303566@ezleagues.ezfacility.com
DTSTAMP:20260422T091637Z
CREATED:20260422T091637Z
DTSTART:20231012T000000Z
DTEND:20231012T004000Z
LOCATION:Court 2
CONTACT:
SUMMARY:Jordan Grantz VS. Varvara Gromakova
DESCRIPTION:League Name: 23 Fall Women's 4s VB League\nGame Type: Regular\n
 Game Status: Complete\nHome Team: Jordan Grantz\nAway Team: Varvara Gromak
 ova\nHome Score: 19\nAway Score: 17
END:VEVENT
BEGIN:VEVENT
UID:15303567@ezleagues.ezfacility.com
DTSTAMP:20260422T091637Z
CREATED:20260422T091637Z
DTSTART:20231012T000000Z
DTEND:20231012T004000Z
LOCATION:Court 2
CONTACT:
SUMMARY:Jordan Grantz VS. Varvara Gromakova
DESCRIPTION:League Name: 23 Fall Women's 4s VB League\nGame Type: Regular\n
 Game Status: Complete\nHome Team: Jordan Grantz\nAway Team: Varvara Gromak
 ova\nHome Score: 18\nAway Score: 8
END:VEVENT
BEGIN:VEVENT
UID:15303613@ezleagues.ezfacility.com
DTSTAMP:20260422T091637Z
CREATED:20260422T091637Z
DTSTART:20231012T004000Z
DTEND:20231012T012000Z
LOCATION:Court 3
CONTACT:
SUMMARY:Jordan Grantz VS. Hannah Joy Murdock
DESCRIPTION:League Name: 23 Fall Women's 4s VB League\nGame Type: Regular\n
 Game Status: Complete\nHome Team: Jordan Grantz\nAway Team: Hannah Joy Mur
 dock\nHome Score: 11\nAway Score: 19
END:VEVENT
BEGIN:VEVENT
UID:15303614@ezleagues.ezfacility.com
DTSTAMP:20260422T091637Z
CREATED:20260422T091637Z
DTSTART:20231012T004000Z
DTEND:20231012T012000Z
LOCATION:Court 3
CONTACT:
SUMMARY:Jordan Grantz VS. Hannah Joy Murdock
DESCRIPTION:League Name: 23 Fall Women's 4s VB League\nGame Type: Regular\n
 Game Status: Complete\nHome Team: Jordan Grantz\nAway Team: Hannah Joy Mur
 dock\nHome Score: 14\nAway Score: 19
END:VEVENT
BEGIN:VEVENT
UID:15228820@ezleagues.ezfacility.com
DTSTAMP:20260422T091637Z
CREATED:20260422T091637Z
DTSTART:20231012T004000Z
DTEND:20231012T012000Z
LOCATION:Court 3
CONTACT:
SUMMARY:Jordan Grantz VS. Hannah Joy Murdock
DESCRIPTION:League Name: 23 Fall Women's 4s VB League\nGame Type: Regular\n
 Game Status: Complete\nHome Team: Jordan Grantz\nAway Team: Hannah Joy Mur
 dock\nHome Score: 17\nAway Score: 19
END:VEVENT
BEGIN:VEVENT
UID:15228840@ezleagues.ezfacility.com
DTSTAMP:20260422T091637Z
CREATED:20260422T091637Z
DTSTART:20231019T000000Z
DTEND:20231019T004000Z
LOCATION:Court 1
CONTACT:
SUMMARY:Jordan Grantz VS. New Kids on the Block
DESCRIPTION:League Name: 23 Fall Women's 4s VB League\nGame Type: Regular\n
 Game Status: Complete\nHome Team: Jordan Grantz\nAway Team: New Kids on th
 e Block\nHome Score: 17\nAway Score: 19
END:VEVENT
BEGIN:VEVENT
UID:15323836@ezleagues.ezfacility.com
DTSTAMP:20260422T091637Z
CREATED:20260422T091637Z
DTSTART:20231019T000000Z
DTEND:20231019T004000Z
LOCATION:Court 1
CONTACT:
SUMMARY:Jordan Grantz VS. New Kids on the Block
DESCRIPTION:League Name: 23 Fall Women's 4s VB League\nGame Type: Regular\n
 Game Status: Complete\nHome Team: Jordan Grantz\nAway Team: New Kids on th
 e Block\nHome Score: 19\nAway Score: 11
END:VEVENT
BEGIN:VEVENT
UID:15323837@ezleagues.ezfacility.com
DTSTAMP:20260422T091637Z
CREATED:20260422T091637Z
DTSTART:20231019T000000Z
DTEND:20231019T004000Z
LOCATION:Court 1
CONTACT:
SUMMARY:Jordan Grantz VS. New Kids on the Block
DESCRIPTION:League Name: 23 Fall Women's 4s VB League\nGame Type: Regular\n
 Game Status: Complete\nHome Team: Jordan Grantz\nAway Team: New Kids on th
 e Block\nHome Score: 19\nAway Score: 11
END:VEVENT
BEGIN:VEVENT
UID:15323842@ezleagues.ezfacility.com
DTSTAMP:20260422T091637Z
CREATED:20260422T091637Z
DTSTART:20231019T004000Z
DTEND:20231019T012000Z
LOCATION:Court 1
CONTACT:
SUMMARY:Jordan Grantz VS. Colleen Szakacs
DESCRIPTION:League Name: 23 Fall Women's 4s VB League\nGame Type: Regular\n
 Game Status: Complete\nHome Team: Jordan Grantz\nAway Team: Colleen Szakac
 s\nHome Score: 12\nAway Score: 19
END:VEVENT
BEGIN:VEVENT
UID:15323843@ezleagues.ezfacility.com
DTSTAMP:20260422T091637Z
CREATED:20260422T091637Z
DTSTART:20231019T004000Z
DTEND:20231019T012000Z
LOCATION:Court 1
CONTACT:
SUMMARY:Jordan Grantz VS. Colleen Szakacs
DESCRIPTION:League Name: 23 Fall Women's 4s VB League\nGame Type: Regular\n
 Game Status: Complete\nHome Team: Jordan Grantz\nAway Team: Colleen Szakac
 s\nHome Score: 16\nAway Score: 19
END:VEVENT
BEGIN:VEVENT
UID:15228892@ezleagues.ezfacility.com
DTSTAMP:20260422T091637Z
CREATED:20260422T091637Z
DTSTART:20231019T004000Z
DTEND:20231019T012000Z
LOCATION:Court 1
CONTACT:
SUMMARY:Jordan Grantz VS. Colleen Szakacs
DESCRIPTION:League Name: 23 Fall Women's 4s VB League\nGame Type: Regular\n
 Game Status: Complete\nHome Team: Jordan Grantz\nAway Team: Colleen Szakac
 s\nHome Score: 14\nAway Score: 19
END:VEVENT
BEGIN:VEVENT
UID:15369301@ezleagues.ezfacility.com
DTSTAMP:20260422T091637Z
CREATED:20260422T091637Z
DTSTART:20231101T223000Z
DTEND:20231101T231000Z
LOCATION:Court 4
CONTACT:
SUMMARY:BBB VS. Jordan Grantz
DESCRIPTION:League Name: 23 Fall Women's 4s VB League\nGame Type: Regular\n
 Game Status: Complete\nHome Team: BBB\nAway Team: Jordan Grantz\nHome Scor
 e: 19\nAway Score: 7
END:VEVENT
BEGIN:VEVENT
UID:15369303@ezleagues.ezfacility.com
DTSTAMP:20260422T091637Z
CREATED:20260422T091637Z
DTSTART:20231101T223000Z
DTEND:20231101T231000Z
LOCATION:Court 4
CONTACT:
SUMMARY:BBB VS. Jordan Grantz
DESCRIPTION:League Name: 23 Fall Women's 4s VB League\nGame Type: Regular\n
 Game Status: Complete\nHome Team: BBB\nAway Team: Jordan Grantz\nHome Scor
 e: 18\nAway Score: 19
END:VEVENT
BEGIN:VEVENT
UID:15369306@ezleagues.ezfacility.com
DTSTAMP:20260422T091637Z
CREATED:20260422T091637Z
DTSTART:20231101T223000Z
DTEND:20231101T231000Z
LOCATION:Court 4
CONTACT:
SUMMARY:BBB VS. Jordan Grantz
DESCRIPTION:League Name: 23 Fall Women's 4s VB League\nGame Type: Regular\n
 Game Status: Complete\nHome Team: BBB\nAway Team: Jordan Grantz\nHome Scor
 e: 19\nAway Score: 11
END:VEVENT
BEGIN:VEVENT
UID:15390598@ezleagues.ezfacility.com
DTSTAMP:20260422T091637Z
CREATED:20260422T091637Z
DTSTART:20231101T231000Z
DTEND:20231101T235000Z
LOCATION:Court 2
CONTACT:
SUMMARY:Jordan Grantz VS. practice safe sets
DESCRIPTION:League Name: 23 Fall Women's 4s VB League\nGame Type: Regular\n
 Game Status: Complete\nHome Team: Jordan Grantz\nAway Team: practice safe 
 sets\nHome Score: 10\nAway Score: 19
END:VEVENT
BEGIN:VEVENT
UID:15390599@ezleagues.ezfacility.com
DTSTAMP:20260422T091637Z
CREATED:20260422T091637Z
DTSTART:20231101T231000Z
DTEND:20231101T235000Z
LOCATION:Court 2
CONTACT:
SUMMARY:Jordan Grantz VS. practice safe sets
DESCRIPTION:League Name: 23 Fall Women's 4s VB League\nGame Type: Regular\n
 Game Status: Complete\nHome Team: Jordan Grantz\nAway Team: practice safe 
 sets\nHome Score: 10\nAway Score: 19
END:VEVENT
BEGIN:VEVENT
UID:15390600@ezleagues.ezfacility.com
DTSTAMP:20260422T091637Z
CREATED:20260422T091637Z
DTSTART:20231101T231000Z
DTEND:20231101T235000Z
LOCATION:Court 2
CONTACT:
SUMMARY:Jordan Grantz VS. practice safe sets
DESCRIPTION:League Name: 23 Fall Women's 4s VB League\nGame Type: Regular\n
 Game Status: Complete\nHome Team: Jordan Grantz\nAway Team: practice safe 
 sets\nHome Score: 10\nAway Score: 19
END:VEVENT
BEGIN:VEVENT
UID:15390583@ezleagues.ezfacility.com
DTSTAMP:20260422T091637Z
CREATED:20260422T091637Z
DTSTART:20231108T233000Z
DTEND:20231109T001000Z
LOCATION:Court 2
CONTACT:
SUMMARY:Jordan Grantz VS. House Team
DESCRIPTION:League Name: 23 Fall Women's 4s VB League\nGame Type: Regular\n
 Game Status: Complete\nHome Team: Jordan Grantz\nAway Team: House Team\nHo
 me Score: 19\nAway Score: 13
END:VEVENT
BEGIN:VEVENT
UID:15390584@ezleagues.ezfacility.com
DTSTAMP:20260422T091637Z
CREATED:20260422T091637Z
DTSTART:20231108T233000Z
DTEND:20231109T001000Z
LOCATION:Court 2
CONTACT:
SUMMARY:Jordan Grantz VS. House Team
DESCRIPTION:League Name: 23 Fall Women's 4s VB League\nGame Type: Regular\n
 Game Status: Complete\nHome Team: Jordan Grantz\nAway Team: House Team\nHo
 me Score: 19\nAway Score: 6
END:VEVENT
BEGIN:VEVENT
UID:15390585@ezleagues.ezfacility.com
DTSTAMP:20260422T091637Z
CREATED:20260422T091637Z
DTSTART:20231108T233000Z
DTEND:20231109T001000Z
LOCATION:Court 2
CONTACT:
SUMMARY:Jordan Grantz VS. House Team
DESCRIPTION:League Name: 23 Fall Women's 4s VB League\nGame Type: Regular\n
 Game Status: Complete\nHome Team: Jordan Grantz\nAway Team: House Team\nHo
 me Score: 19\nAway Score: 6
END:VEVENT
BEGIN:VEVENT
UID:15390606@ezleagues.ezfacility.com
DTSTAMP:20260422T091637Z
CREATED:20260422T091637Z
DTSTART:20231109T001000Z
DTEND:20231109T005000Z
LOCATION:Court 3
CONTACT:
SUMMARY:Jordan Grantz VS. Deanna Krumholz
DESCRIPTION:League Name: 23 Fall Women's 4s VB League\nGame Type: Regular\n
 Game Status: Complete\nHome Team: Jordan Grantz\nAway Team: Deanna Krumhol
 z\nHome Score: 9\nAway Score: 19
END:VEVENT
BEGIN:VEVENT
UID:15390607@ezleagues.ezfacility.com
DTSTAMP:20260422T091637Z
CREATED:20260422T091637Z
DTSTART:20231109T001000Z
DTEND:20231109T005000Z
LOCATION:Court 3
CONTACT:
SUMMARY:Jordan Grantz VS. Deanna Krumholz
DESCRIPTION:League Name: 23 Fall Women's 4s VB League\nGame Type: Regular\n
 Game Status: Complete\nHome Team: Jordan Grantz\nAway Team: Deanna Krumhol
 z\nHome Score: 15\nAway Score: 19
END:VEVENT
BEGIN:VEVENT
UID:15390608@ezleagues.ezfacility.com
DTSTAMP:20260422T091637Z
CREATED:20260422T091637Z
DTSTART:20231109T001000Z
DTEND:20231109T005000Z
LOCATION:Court 3
CONTACT:
SUMMARY:Jordan Grantz VS. Deanna Krumholz
DESCRIPTION:League Name: 23 Fall Women's 4s VB League\nGame Type: Regular\n
 Game Status: Complete\nHome Team: Jordan Grantz\nAway Team: Deanna Krumhol
 z\nHome Score: 14\nAway Score: 19
END:VEVENT
END:VCALENDAR
