BEGIN:VCALENDAR
VERSION:2.0
PRODID:-//EZFacility.com, Inc.//EZL 2.5.5.28621
BEGIN:VEVENT
UID:15285265@ezleagues.ezfacility.com
DTSTAMP:20260420T183601Z
CREATED:20260420T183601Z
DTSTART:20231019T000600Z
DTEND:20231019T005800Z
LOCATION:Field   ID 3
CONTACT:
SUMMARY:Ronoldo VS. Dad Bod FC
DESCRIPTION:League Name: Fall Indoor 2023 Men's 30+ (Wednesdays) South\nGam
 e Type: Regular\nGame Status: Complete\nHome Team: Ronoldo\nAway Team: Dad
  Bod FC\nHome Score: 10\nAway Score: 6
END:VEVENT
BEGIN:VEVENT
UID:15285273@ezleagues.ezfacility.com
DTSTAMP:20260420T183601Z
CREATED:20260420T183601Z
DTSTART:20231025T222200Z
DTEND:20231025T231400Z
LOCATION:Field   ID 3
CONTACT:
SUMMARY:Ronoldo VS. Gigondas
DESCRIPTION:League Name: Fall Indoor 2023 Men's 30+ (Wednesdays) South\nGam
 e Type: Regular\nGame Status: Complete\nHome Team: Ronoldo\nAway Team: Gig
 ondas\nHome Score: 6\nAway Score: 11
END:VEVENT
BEGIN:VEVENT
UID:15285285@ezleagues.ezfacility.com
DTSTAMP:20260420T183601Z
CREATED:20260420T183601Z
DTSTART:20231102T015000Z
DTEND:20231102T024200Z
LOCATION:Field   ID 3
CONTACT:
SUMMARY:Ronoldo VS. Marysville
DESCRIPTION:League Name: Fall Indoor 2023 Men's 30+ (Wednesdays) South\nGam
 e Type: Regular\nGame Status: Complete\nHome Team: Ronoldo\nAway Team: Mar
 ysville\nHome Score: 6\nAway Score: 7
END:VEVENT
BEGIN:VEVENT
UID:15285295@ezleagues.ezfacility.com
DTSTAMP:20260420T183601Z
CREATED:20260420T183601Z
DTSTART:20231109T015800Z
DTEND:20231109T025000Z
LOCATION:Field   ID 3
CONTACT:
SUMMARY:Never Was FC VS. Ronoldo
DESCRIPTION:League Name: Fall Indoor 2023 Men's 30+ (Wednesdays) South\nGam
 e Type: Regular\nGame Status: Complete\nHome Team: Never Was FC\nAway Team
 : Ronoldo\nHome Score: 8\nAway Score: 1
END:VEVENT
BEGIN:VEVENT
UID:15285303@ezleagues.ezfacility.com
DTSTAMP:20260420T183601Z
CREATED:20260420T183601Z
DTSTART:20231116T010600Z
DTEND:20231116T015800Z
LOCATION:Field   ID 3
CONTACT:
SUMMARY:Ronoldo VS. Walrus F.C.
DESCRIPTION:League Name: Fall Indoor 2023 Men's 30+ (Wednesdays) South\nGam
 e Type: Regular\nGame Status: Complete\nHome Team: Ronoldo\nAway Team: Wal
 rus F.C.\nHome Score: 2\nAway Score: 2
END:VEVENT
BEGIN:VEVENT
UID:15285315@ezleagues.ezfacility.com
DTSTAMP:20260420T183601Z
CREATED:20260420T183601Z
DTSTART:20231123T025000Z
DTEND:20231123T034200Z
LOCATION:Field   ID 3
CONTACT:
SUMMARY:FC Red Card VS. Ronoldo
DESCRIPTION:League Name: Fall Indoor 2023 Men's 30+ (Wednesdays) South\nGam
 e Type: Regular\nGame Status: Complete\nHome Team: FC Red Card\nAway Team:
  Ronoldo\nHome Score: 3\nAway Score: 0
END:VEVENT
BEGIN:VEVENT
UID:15285324@ezleagues.ezfacility.com
DTSTAMP:20260420T183601Z
CREATED:20260420T183601Z
DTSTART:20231130T010600Z
DTEND:20231130T015800Z
LOCATION:Field   ID 3
CONTACT:
SUMMARY:TUSKERS FC VS. Ronoldo
DESCRIPTION:League Name: Fall Indoor 2023 Men's 30+ (Wednesdays) South\nGam
 e Type: Regular\nGame Status: Complete\nHome Team: TUSKERS FC\nAway Team: 
 Ronoldo\nHome Score: 7\nAway Score: 7
END:VEVENT
BEGIN:VEVENT
UID:15285335@ezleagues.ezfacility.com
DTSTAMP:20260420T183601Z
CREATED:20260420T183601Z
DTSTART:20231207T025000Z
DTEND:20231207T034200Z
LOCATION:Field   ID 3
CONTACT:
SUMMARY:Dad Bod FC VS. Ronoldo
DESCRIPTION:League Name: Fall Indoor 2023 Men's 30+ (Wednesdays) South\nGam
 e Type: Regular\nGame Status: Complete\nHome Team: Dad Bod FC\nAway Team: 
 Ronoldo\nHome Score: 2\nAway Score: 6
END:VEVENT
BEGIN:VEVENT
UID:15285343@ezleagues.ezfacility.com
DTSTAMP:20260420T183601Z
CREATED:20260420T183601Z
DTSTART:20231214T001400Z
DTEND:20231214T010600Z
LOCATION:Field   ID 3
CONTACT:
SUMMARY:Ronoldo VS. Gigondas
DESCRIPTION:League Name: Fall Indoor 2023 Men's 30+ (Wednesdays) South\nGam
 e Type: Regular\nGame Status: Complete\nHome Team: Ronoldo\nAway Team: Gig
 ondas\nHome Score: 4\nAway Score: 9
END:VEVENT
END:VCALENDAR
