BEGIN:VCALENDAR
VERSION:2.0
PRODID:-//EZFacility.com, Inc.//EZL 2.5.5.28621
BEGIN:VEVENT
UID:15631430@ezleagues.ezfacility.com
DTSTAMP:20260426T033905Z
CREATED:20260426T033905Z
DTSTART:20240227T032000Z
DTEND:20240227T041000Z
LOCATION:Jessup Premier Field #1
CONTACT:
SUMMARY:America VS. Next Week
DESCRIPTION:League Name: Mon Mens Over 35s 1st div \nGame Type: Regular\nGa
 me Status: Complete\nHome Team: America\nAway Team: Next Week\nHome Score:
  7\nAway Score: 4
END:VEVENT
BEGIN:VEVENT
UID:15631441@ezleagues.ezfacility.com
DTSTAMP:20260426T033905Z
CREATED:20260426T033905Z
DTSTART:20240305T023000Z
DTEND:20240305T032000Z
LOCATION:Jessup Premier Field #2
CONTACT:
SUMMARY:Next Week VS. United FC
DESCRIPTION:League Name: Mon Mens Over 35s 1st div \nGame Type: Regular\nGa
 me Status: Complete\nHome Team: Next Week\nAway Team: United FC\nHome Scor
 e: 2\nAway Score: 3
END:VEVENT
BEGIN:VEVENT
UID:15631452@ezleagues.ezfacility.com
DTSTAMP:20260426T033905Z
CREATED:20260426T033905Z
DTSTART:20240311T230000Z
DTEND:20240311T235000Z
LOCATION:Jessup Premier Field #1
CONTACT:
SUMMARY:Next Week VS. Chavo-Rucos FC
DESCRIPTION:League Name: Mon Mens Over 35s 1st div \nGame Type: Regular\nGa
 me Status: Complete\nHome Team: Next Week\nAway Team: Chavo-Rucos FC\nHome
  Score: 2\nAway Score: 5
END:VEVENT
BEGIN:VEVENT
UID:15631466@ezleagues.ezfacility.com
DTSTAMP:20260426T033905Z
CREATED:20260426T033905Z
DTSTART:20240319T031000Z
DTEND:20240319T040000Z
LOCATION:Jessup Premier Field #1
CONTACT:
SUMMARY:Next Week VS. Injured FC
DESCRIPTION:League Name: Mon Mens Over 35s 1st div \nGame Type: Regular\nGa
 me Status: Complete\nHome Team: Next Week\nAway Team: Injured FC\nHome Sco
 re: 5\nAway Score: 8
END:VEVENT
BEGIN:VEVENT
UID:15631479@ezleagues.ezfacility.com
DTSTAMP:20260426T033905Z
CREATED:20260426T033905Z
DTSTART:20240326T004000Z
DTEND:20240326T013000Z
LOCATION:Jessup Premier Field #2
CONTACT:
SUMMARY:Next Week VS. Maryland United
DESCRIPTION:League Name: Mon Mens Over 35s 1st div \nGame Type: Regular\nGa
 me Status: Complete\nHome Team: Next Week\nAway Team: Maryland United\nHom
 e Score: 5\nAway Score: 7
END:VEVENT
BEGIN:VEVENT
UID:15631491@ezleagues.ezfacility.com
DTSTAMP:20260426T033905Z
CREATED:20260426T033905Z
DTSTART:20240402T004000Z
DTEND:20240402T013000Z
LOCATION:Jessup Premier Field #2
CONTACT:
SUMMARY:Bayer FC VS. Next Week
DESCRIPTION:League Name: Mon Mens Over 35s 1st div \nGame Type: Regular\nGa
 me Status: Complete\nHome Team: Bayer FC\nAway Team: Next Week\nHome Score
 : 4\nAway Score: 4
END:VEVENT
BEGIN:VEVENT
UID:15631503@ezleagues.ezfacility.com
DTSTAMP:20260426T033905Z
CREATED:20260426T033905Z
DTSTART:20240409T022000Z
DTEND:20240409T031000Z
LOCATION:Jessup Premier Field #1
CONTACT:
SUMMARY:Kings FC VS. Next Week
DESCRIPTION:League Name: Mon Mens Over 35s 1st div \nGame Type: Regular\nGa
 me Status: Complete\nHome Team: Kings FC\nAway Team: Next Week\nHome Score
 : 5\nAway Score: 4
END:VEVENT
BEGIN:VEVENT
UID:15707773@ezleagues.ezfacility.com
DTSTAMP:20260426T033905Z
CREATED:20260426T033905Z
DTSTART:20240416T031000Z
DTEND:20240416T035800Z
LOCATION:Jessup Premier Field #1
CONTACT:
SUMMARY:America VS. Next Week
DESCRIPTION:League Name: Mon Mens Over 35s 1st div \nGame Type: Regular\nGa
 me Status: Complete\nHome Team: America\nAway Team: Next Week\nHome Score:
  5\nAway Score: 6
END:VEVENT
BEGIN:VEVENT
UID:15714969@ezleagues.ezfacility.com
DTSTAMP:20260426T033905Z
CREATED:20260426T033905Z
DTSTART:20240422T230000Z
DTEND:20240422T234800Z
LOCATION:Jessup Premier Field #1
CONTACT:
SUMMARY:Next Week VS. Chavo-Rucos FC
DESCRIPTION:League Name: Mon Mens Over 35s 1st div \nGame Type: Regular\nGa
 me Status: Complete\nHome Team: Next Week\nAway Team: Chavo-Rucos FC\nHome
  Score: 3\nAway Score: 5
END:VEVENT
END:VCALENDAR
