BEGIN:VCALENDAR
VERSION:2.0
PRODID:-//EZFacility.com, Inc.//EZL 2.5.5.28621
BEGIN:VEVENT
UID:15631426@ezleagues.ezfacility.com
DTSTAMP:20260424T133138Z
CREATED:20260424T133138Z
DTSTART:20240227T005000Z
DTEND:20240227T014000Z
LOCATION:Jessup Premier Field #2
CONTACT:
SUMMARY:Broadneck BNO VS. Pumpkin Eaters
DESCRIPTION:League Name: Mon Mens Over 35s 3rd div \nGame Type: Regular\nGa
 me Status: Complete\nHome Team: Broadneck BNO\nAway Team: Pumpkin Eaters\n
 Home Score: 5\nAway Score: 4
END:VEVENT
BEGIN:VEVENT
UID:15631437@ezleagues.ezfacility.com
DTSTAMP:20260424T133138Z
CREATED:20260424T133138Z
DTSTART:20240305T023000Z
DTEND:20240305T032000Z
LOCATION:Jessup Premier Field #1
CONTACT:
SUMMARY:Desk Jockeys VS. Pumpkin Eaters
DESCRIPTION:League Name: Mon Mens Over 35s 3rd div \nGame Type: Regular\nGa
 me Status: Complete\nHome Team: Desk Jockeys\nAway Team: Pumpkin Eaters\nH
 ome Score: 1\nAway Score: 2
END:VEVENT
BEGIN:VEVENT
UID:15631448@ezleagues.ezfacility.com
DTSTAMP:20260424T133138Z
CREATED:20260424T133138Z
DTSTART:20240312T022000Z
DTEND:20240312T031000Z
LOCATION:Jessup Premier Field #1
CONTACT:
SUMMARY:Pumpkin Eaters VS. Catarina FC
DESCRIPTION:League Name: Mon Mens Over 35s 3rd div \nGame Type: Regular\nGa
 me Status: Complete\nHome Team: Pumpkin Eaters\nAway Team: Catarina FC\nHo
 me Score: 5\nAway Score: 13
END:VEVENT
BEGIN:VEVENT
UID:15631461@ezleagues.ezfacility.com
DTSTAMP:20260424T133138Z
CREATED:20260424T133138Z
DTSTART:20240318T235000Z
DTEND:20240319T004000Z
LOCATION:Jessup Premier Field #1
CONTACT:
SUMMARY:Pumpkin Eaters VS. Blue Devils
DESCRIPTION:League Name: Mon Mens Over 35s 3rd div \nGame Type: Regular\nGa
 me Status: Complete\nHome Team: Pumpkin Eaters\nAway Team: Blue Devils\nHo
 me Score: 10\nAway Score: 2
END:VEVENT
BEGIN:VEVENT
UID:15631474@ezleagues.ezfacility.com
DTSTAMP:20260424T133138Z
CREATED:20260424T133138Z
DTSTART:20240326T013000Z
DTEND:20240326T022000Z
LOCATION:Jessup Premier Field #2
CONTACT:
SUMMARY:Pumpkin Eaters VS. Polar Bears
DESCRIPTION:League Name: Mon Mens Over 35s 3rd div \nGame Type: Regular\nGa
 me Status: Complete\nHome Team: Pumpkin Eaters\nAway Team: Polar Bears\nHo
 me Score: 1\nAway Score: 2
END:VEVENT
BEGIN:VEVENT
UID:15631487@ezleagues.ezfacility.com
DTSTAMP:20260424T133138Z
CREATED:20260424T133138Z
DTSTART:20240402T022000Z
DTEND:20240402T031000Z
LOCATION:Jessup Premier Field #1
CONTACT:
SUMMARY:Pumpkin Eaters VS. FC BRASIL-Masters
DESCRIPTION:League Name: Mon Mens Over 35s 3rd div \nGame Type: Regular\nGa
 me Status: Complete\nHome Team: Pumpkin Eaters\nAway Team: FC BRASIL-Maste
 rs\nHome Score: 3\nAway Score: 3
END:VEVENT
BEGIN:VEVENT
UID:15631499@ezleagues.ezfacility.com
DTSTAMP:20260424T133138Z
CREATED:20260424T133138Z
DTSTART:20240409T022000Z
DTEND:20240409T031000Z
LOCATION:Jessup Premier Field #2
CONTACT:
SUMMARY:La Prensa VS. Pumpkin Eaters
DESCRIPTION:League Name: Mon Mens Over 35s 3rd div \nGame Type: Regular\nGa
 me Status: Complete\nHome Team: La Prensa\nAway Team: Pumpkin Eaters\nHome
  Score: 5\nAway Score: 5
END:VEVENT
BEGIN:VEVENT
UID:15707824@ezleagues.ezfacility.com
DTSTAMP:20260424T133138Z
CREATED:20260424T133138Z
DTSTART:20240415T230000Z
DTEND:20240415T234800Z
LOCATION:Jessup Premier Field #2
CONTACT:
SUMMARY:Desk Jockeys VS. Pumpkin Eaters
DESCRIPTION:League Name: Mon Mens Over 35s 3rd div \nGame Type: Regular\nGa
 me Status: Complete\nHome Team: Desk Jockeys\nAway Team: Pumpkin Eaters\nH
 ome Score: 2\nAway Score: 4
END:VEVENT
BEGIN:VEVENT
UID:15714972@ezleagues.ezfacility.com
DTSTAMP:20260424T133138Z
CREATED:20260424T133138Z
DTSTART:20240423T031000Z
DTEND:20240423T035800Z
LOCATION:Jessup Premier Field #2
CONTACT:
SUMMARY:Broadneck BNO VS. Pumpkin Eaters
DESCRIPTION:League Name: Mon Mens Over 35s 3rd div \nGame Type: Regular\nGa
 me Status: Complete\nHome Team: Broadneck BNO\nAway Team: Pumpkin Eaters\n
 Home Score: 5\nAway Score: 9
END:VEVENT
END:VCALENDAR
