BEGIN:VCALENDAR
VERSION:2.0
PRODID:-//EZFacility.com, Inc.//EZL 2.5.5.28621
BEGIN:VEVENT
UID:15723148@ezleagues.ezfacility.com
DTSTAMP:20260426T034058Z
CREATED:20260426T034058Z
DTSTART:20240429T235000Z
DTEND:20240430T004000Z
LOCATION:Jessup Premier Field #1
CONTACT:
SUMMARY:Maryland United VS. Chavo Rucos
DESCRIPTION:League Name: Mon Mens Over 35s 1st div \nGame Type: Regular\nGa
 me Status: Complete\nHome Team: Maryland United\nAway Team: Chavo Rucos\nH
 ome Score: 3\nAway Score: 0
END:VEVENT
BEGIN:VEVENT
UID:15723161@ezleagues.ezfacility.com
DTSTAMP:20260426T034058Z
CREATED:20260426T034058Z
DTSTART:20240507T013000Z
DTEND:20240507T022000Z
LOCATION:Jessup Premier Field #2
CONTACT:
SUMMARY:Maryland United VS. America 
DESCRIPTION:League Name: Mon Mens Over 35s 1st div \nGame Type: Regular\nGa
 me Status: Complete\nHome Team: Maryland United\nAway Team: America \nHome
  Score: 6\nAway Score: 2
END:VEVENT
BEGIN:VEVENT
UID:15723173@ezleagues.ezfacility.com
DTSTAMP:20260426T034058Z
CREATED:20260426T034058Z
DTSTART:20240514T013000Z
DTEND:20240514T022000Z
LOCATION:Jessup Premier Field #1
CONTACT:
SUMMARY:La Raza VS. Maryland United
DESCRIPTION:League Name: Mon Mens Over 35s 1st div \nGame Type: Regular\nGa
 me Status: Complete\nHome Team: La Raza\nAway Team: Maryland United\nHome 
 Score: 2\nAway Score: 2
END:VEVENT
BEGIN:VEVENT
UID:15723184@ezleagues.ezfacility.com
DTSTAMP:20260426T034058Z
CREATED:20260426T034058Z
DTSTART:20240521T031000Z
DTEND:20240521T040000Z
LOCATION:Jessup Premier Field #2
CONTACT:
SUMMARY:Aston Villa VS. Maryland United
DESCRIPTION:League Name: Mon Mens Over 35s 1st div \nGame Type: Regular\nGa
 me Status: Complete\nHome Team: Aston Villa\nAway Team: Maryland United\nH
 ome Score: 0\nAway Score: 3
END:VEVENT
BEGIN:VEVENT
UID:15723206@ezleagues.ezfacility.com
DTSTAMP:20260426T034058Z
CREATED:20260426T034058Z
DTSTART:20240604T013000Z
DTEND:20240604T022000Z
LOCATION:Jessup Premier Field #1
CONTACT:
SUMMARY:United FC VS. Maryland United
DESCRIPTION:League Name: Mon Mens Over 35s 1st div \nGame Type: Regular\nGa
 me Status: Complete\nHome Team: United FC\nAway Team: Maryland United\nHom
 e Score: 8\nAway Score: 4
END:VEVENT
BEGIN:VEVENT
UID:15723219@ezleagues.ezfacility.com
DTSTAMP:20260426T034058Z
CREATED:20260426T034058Z
DTSTART:20240611T013000Z
DTEND:20240611T022000Z
LOCATION:Jessup Premier Field #1
CONTACT:
SUMMARY:Maryland United VS. Kings FC
DESCRIPTION:League Name: Mon Mens Over 35s 1st div \nGame Type: Regular\nGa
 me Status: Complete\nHome Team: Maryland United\nAway Team: Kings FC\nHome
  Score: 3\nAway Score: 9
END:VEVENT
BEGIN:VEVENT
UID:15723195@ezleagues.ezfacility.com
DTSTAMP:20260426T034058Z
CREATED:20260426T034058Z
DTSTART:20240618T013000Z
DTEND:20240618T022000Z
LOCATION:Jessup Premier Field #1
CONTACT:
SUMMARY:Injured FC VS. Maryland United
DESCRIPTION:League Name: Mon Mens Over 35s 1st div \nGame Type: Regular\nGa
 me Status: Complete\nHome Team: Injured FC\nAway Team: Maryland United\nHo
 me Score: 1\nAway Score: 2
END:VEVENT
BEGIN:VEVENT
UID:15795554@ezleagues.ezfacility.com
DTSTAMP:20260426T034058Z
CREATED:20260426T034058Z
DTSTART:20240625T004000Z
DTEND:20240625T012800Z
LOCATION:Jessup Premier Field #1
CONTACT:
SUMMARY:United FC VS. Maryland United
DESCRIPTION:League Name: Mon Mens Over 35s 1st div \nGame Type: Regular\nGa
 me Status: Complete\nHome Team: United FC\nAway Team: Maryland United\nHom
 e Score: 3\nAway Score: 0
END:VEVENT
BEGIN:VEVENT
UID:15799345@ezleagues.ezfacility.com
DTSTAMP:20260426T034058Z
CREATED:20260426T034058Z
DTSTART:20240701T230000Z
DTEND:20240701T234800Z
LOCATION:Jessup Premier Field #2
CONTACT:
SUMMARY:America  VS. Maryland United
DESCRIPTION:League Name: Mon Mens Over 35s 1st div \nGame Type: Regular\nGa
 me Status: Complete\nHome Team: America \nAway Team: Maryland United\nHome
  Score: 7\nAway Score: 4
END:VEVENT
END:VCALENDAR
